From mboxrd@z Thu Jan 1 00:00:00 1970 Return-Path: Received: from mails.dpdk.org (mails.dpdk.org [217.70.189.124]) by inbox.dpdk.org (Postfix) with ESMTP id 16CCD48876 for ; Mon, 6 Oct 2025 02:14:30 +0200 (CEST) Received: from mails.dpdk.org (localhost [127.0.0.1]) by mails.dpdk.org (Postfix) with ESMTP id B7FD6402E2; Mon, 6 Oct 2025 02:14:29 +0200 (CEST) Received: from mail-vs1-f98.google.com (mail-vs1-f98.google.com [209.85.217.98]) by mails.dpdk.org (Postfix) with ESMTP id BE4CB402E2 for ; Mon, 6 Oct 2025 02:14:28 +0200 (CEST) Received: by mail-vs1-f98.google.com with SMTP id ada2fe7eead31-5c7fda918feso4816658137.0 for ; Sun, 05 Oct 2025 17:14:28 -0700 (PDT) DKIM-Signature: v=1; a=rsa-sha256; c=relaxed/relaxed; d=iol.unh.edu; s=unh-iol; t=1759709668; x=1760314468; darn=dpdk.org; h=references:in-reply-to:cc:to:from:subject:message-id:date:from:to :cc:subject:date:message-id:reply-to; bh=G7zsmf+NyhjFiXNt+YmLHgbCkgjyWJkMN63Au5b82mA=; b=henxWC3e36niPYc81D/0XfSCG15IEWv8ZFN5rGMYDzalNmXKGAOpVpobiN+QgU3tA5 I3VR1fZeNPSisXKK3b5hgGQOxQGRskR7D+EN87/nP/Dr44CSSugkxr7/ytXIp5ucE0ba hl80GrWTHyCk45mpLVt8Yn7M7WtU2F2GNRXEc= X-Google-DKIM-Signature: v=1; a=rsa-sha256; c=relaxed/relaxed; d=1e100.net; s=20230601; t=1759709668; x=1760314468; h=references:in-reply-to:cc:to:from:subject:message-id:date :x-gm-message-state:from:to:cc:subject:date:message-id:reply-to; bh=G7zsmf+NyhjFiXNt+YmLHgbCkgjyWJkMN63Au5b82mA=; b=QPpvMUKyqaeKAi8qm3jsvYCcdFSbttQV0+2SJKKj/+mwQxD4iurrwgfk+zX6Kqcmxz m8necIZswGf9IkCAMMst1HOt+cTz2EKxakXKdTxoF/43gyUqro0/fxikICbU2kNq/8pm qwnsTnJE27MKxe+63gPVgYb+oBK5uQgxOpnvKowdmLssuulmzVRJTM85X1ZsjlVMmzzj pFMkjfTz9+rShfQNWR40Mv+pauf7B4kaPBr6FJJc2tWk4Smiba1D3xpJBcPn/VAAXkg/ EFMfl74RLmSvgnq3jsOtUD+rurbW6qTe4UU6TMuaclvrfGeu3+p87Az2Wgl+8gqsJgfr 9X9w== X-Gm-Message-State: AOJu0YyHS2vAg3BB4ORN5tdaP3fCC0U/QdwDl5Iq9z3mKEqBW6wFRHv7 Qz4cr8BMuRahi0Ez1Q3zm8skHUfuXQUG4X18vHsIb2cPQVjxLkrBIbs5E2pwnoFKLPlUJcvPvzX e9fHnZMI9OmQcCy7ZBvrW4znTsz04t6Tgplqx0VrH69CS X-Gm-Gg: ASbGnctTv1bUpbOY22KVpAt0N+DDhL0mvD5HTzY8/g8vTomP/v8uasLkyYSx4xgoWGy SZILnjpbtwxKHI3dsWWHTQUpP7CMMA3O0tZDOS9fYH/G6vnZwvXTMEd8PVxSafFg2T/woTe1xRp ISccNxiL7i+CojaVeeaZLQiif6upymt2f/LC5HqdBW6siy3/Clg2OasWgQX8ILNFae1umkbW4J/ l7zfwJR7ImtZXsDUElBsOMt9hbuWJxzkEAk+Pva+H9yCUdlaIfe5gYYsyh4I/HSDBRCVAV21KYH ltWRKfZdY3MfCa1w+WyupZAuTlbhrR/2ZJ7RTxxlwfU4uS1eLvjjENdIST6plUO8XMpe4opWYHO Cfw== X-Google-Smtp-Source: AGHT+IENUbOAGE91sa+IZxiASg9//qbRAPOVNnzNbylcle3m0Kw8/3aiW8ytNh49k73IAU5YbkAnW3uAvX6N X-Received: by 2002:a05:6102:4bcc:b0:519:534a:6c50 with SMTP id ada2fe7eead31-5d41d12a371mr4028320137.34.1759709668155; Sun, 05 Oct 2025 17:14:28 -0700 (PDT) Received: from postal.iol.unh.edu (postal.iol.unh.edu. [132.177.123.84]) by smtp-relay.gmail.com with ESMTPS id ada2fe7eead31-5d40c5b223bsm1149574137.2.2025.10.05.17.14.28 (version=TLS1_2 cipher=ECDHE-ECDSA-AES128-GCM-SHA256 bits=128/128); Sun, 05 Oct 2025 17:14:28 -0700 (PDT) X-Relaying-Domain: iol.unh.edu Date: Sun, 05 Oct 2025 17:14:28 -0700 (PDT) Message-ID: <68e309e4.050a0220.fa1e4.dca8SMTPIN_ADDED_MISSING@mx.google.com> Received: from [172.21.0.2] (unknown [172.18.0.240]) by postal.iol.unh.edu (Postfix) with ESMTP id D93866051830; Sun, 5 Oct 2025 20:14:27 -0400 (EDT) Subject: |SUCCESS| pw157210 [PATCH] [v2,1/1] ring: safe partial ordering for From: dpdklab@iol.unh.edu To: Test Report Cc: dpdk-test-reports@iol.unh.edu In-Reply-To: <20251002174137.3612042-2-wathsala.vithanage@arm.com> References: <20251002174137.3612042-2-wathsala.vithanage@arm.com> Content-Type: text/plain X-BeenThere: test-report@dpdk.org X-Mailman-Version: 2.1.29 Precedence: list List-Id: automatic DPDK test reports List-Unsubscribe: , List-Archive: List-Post: List-Help: List-Subscribe: , Errors-To: test-report-bounces@dpdk.org Test-Label: iol-compile-arm64-testing Test-Status: SUCCESS http://dpdk.org/patch/157210 _Testing PASS_ Submitter: Wathsala Vithanage Date: Thursday, October 02 2025 17:41:37 DPDK git baseline: Repo:dpdk Branch: master CommitID:76393b98bf67f94dc6aa23cf5016c32571899261 157210 --> testing pass Upstream job id: Generic-DPDK-Compile-Meson#431144 Test environment and result as below: +------------------------------+--------------------+ | Environment | dpdk_meson_compile | +==============================+====================+ | Red Hat Enterprise Linux 9.5 | PASS | +------------------------------+--------------------+ | Ubuntu 20.04 | PASS | +------------------------------+--------------------+ | Debian GNU/Linux 12 | PASS | +------------------------------+--------------------+ | Fedora Linux 42 | PASS | +------------------------------+--------------------+ | Ubuntu 22.04 | PASS | +------------------------------+--------------------+ | Ubuntu 24.04 | PASS | +------------------------------+--------------------+ | CentOS Stream 9 | PASS | +------------------------------+--------------------+ | CentOS Stream 10 | PASS | +------------------------------+--------------------+ Red Hat Enterprise Linux 9.5 Kernel: 5.4 Compiler: gcc gcc (GCC) 11.5.0 20240719 (Red Hat 11.5.0-2) Ubuntu 20.04 Kernel: 5.15 Compiler: aarch64-linux-gnu-gcc gcc (Ubuntu 9.4.0-1ubuntu1~20.04.2) 9.4.0 Debian GNU/Linux 12 Kernel: 5.4 Compiler: gcc gcc (Debian 12.2.0-14+deb12u1) 12.2.0 Fedora Linux 42 Kernel: 5.4 Compiler: gcc gcc (GCC) 15.2.1 20250808 (Red Hat 15.2.1-1) Ubuntu 22.04 Kernel: 5.4 Compiler: gcc gcc (Ubuntu 11.4.0-1ubuntu1~22.04) 11.4.0 Ubuntu 24.04 Kernel: 5.4 Compiler: gcc gcc (Ubuntu 13.3.0-6ubuntu2~24.04) 13.3.0 CentOS Stream 9 Kernel: 5.4 Compiler: gcc gcc (GCC) 11.5.0 20240719 (Red Hat 11.5.0-11) CentOS Stream 10 Kernel: 5.4 Compiler: gcc gcc (GCC) 14.2.1 20250110 (Red Hat 14.2.1-8) To view detailed results, visit: https://lab.dpdk.org/results/dashboard/patchsets/34202/ UNH-IOL DPDK Community Lab To manage your email subscriptions, visit: https://lab.dpdk.org/results/dashboard/preferences/subscriptions/