From mboxrd@z Thu Jan 1 00:00:00 1970 Return-Path: Received: from mails.dpdk.org (mails.dpdk.org [217.70.189.124]) by inbox.dpdk.org (Postfix) with ESMTP id 53F2D48876 for ; Mon, 6 Oct 2025 02:34:53 +0200 (CEST) Received: from mails.dpdk.org (localhost [127.0.0.1]) by mails.dpdk.org (Postfix) with ESMTP id 2D6A8402E2; Mon, 6 Oct 2025 02:34:53 +0200 (CEST) Received: from mail-yw1-f228.google.com (mail-yw1-f228.google.com [209.85.128.228]) by mails.dpdk.org (Postfix) with ESMTP id 68C41402E2 for ; Mon, 6 Oct 2025 02:34:52 +0200 (CEST) Received: by mail-yw1-f228.google.com with SMTP id 00721157ae682-723ad237d1eso44924117b3.1 for ; Sun, 05 Oct 2025 17:34:52 -0700 (PDT) DKIM-Signature: v=1; a=rsa-sha256; c=relaxed/relaxed; d=iol.unh.edu; s=unh-iol; t=1759710891; x=1760315691; darn=dpdk.org; h=references:in-reply-to:cc:to:from:subject:message-id:date:from:to :cc:subject:date:message-id:reply-to; bh=I52ObFihG8rKArJREQQ0ARbH7Th0quK9dmTNVu3KD6s=; b=RyNmeKNkzo33eDScak7xMXWST9Mb2ypeE14/W0ybHe9ZPdVfMm8dVFG0zaob+7BCIb jFcja+nwOwwThCUgRD8VQox4HGeE6cTmzoJSnAuTPuPRYvn212qadiHdrtuzFAnY+E6+ mc7fzsA00pMDs6lieHnttdAriviZvmsu0SjAg= X-Google-DKIM-Signature: v=1; a=rsa-sha256; c=relaxed/relaxed; d=1e100.net; s=20230601; t=1759710891; x=1760315691; h=references:in-reply-to:cc:to:from:subject:message-id:date :x-gm-message-state:from:to:cc:subject:date:message-id:reply-to; bh=I52ObFihG8rKArJREQQ0ARbH7Th0quK9dmTNVu3KD6s=; b=wN81e1hF8BOu5GUkxpuVqURKYSHeXLB9wt3eul5QOEIiTd1RdmiSAB+M3RLH4d1DMM z46+fSIayShlB8BGIrON9gVFmbjCCj+rKuxWGUg7Mp7t07BS/uygmQFFFS5ulQFloRYF LsIQDtNet7oFReL7ipExi7nS+3jcOiSiWOF8Dfa8qnR7rFQySmjbgxBLWUxxMxIw0rAt rcbcyZ6ipCOuVSpksLMWzGUysiMxLeWc+KHw1FKEhYWGVYIZ4NM/QLj3UjK3v6CEM/1Q pGBUKotCqgu5RwL9G0siFXP7WCdJQa/1mNnEM+YAPXVD8530XOOmO3jevh1DrseHQ+++ L9+A== X-Gm-Message-State: AOJu0YzwlZrrypFS5D4PeKm2l8uCV2piDHC9GUEzX88P2iVcIGnZ4qa8 N0EutMR3CUbcWcQYoWy8/yBRT0gp/Jc0olRgHozkOXm6kY+5FonnRTVOGt9cYEQOX4gbCf+3AE7 VqGyOi/7iVNEeKU1EMbW0cNLOQ5KbstNbVWcdOUZx5TFq X-Gm-Gg: ASbGncvOfsGyBzDPJszlVySe4BhG7r6zbdRK9shOP6g6fcpCmXAp3p2tiedjj0DhM3l FDdnS6ODiZwaZgjgs0DhVZOlgWotevCXx//515bCi+aK5yjPmeDGSpITry5wCbwoTKQJdH0uTUa lnjdvokKebmocyZVosrNLIJv5k5cZ4W7jis7arObTOo9SJiPUIx6zR0HlgfZr901hTBIWmjMOL/ w3Lb6xqwXkKhMJeucAYhRFn6Zd20X4y5qZWALHbo8Fgf9Zb6vIbqQL/WLsZn2ETUrSZp/nLPNTg tvCDUrua4bEf1Vxq5Jm9KkBjaVLLFm7wLPpEfl5KecfhbJggi84pYE8+wvRNJZ9BqamaI1RyP07 dSg== X-Google-Smtp-Source: AGHT+IF2wHXkTEJAgVsZYYwYnKoaYDXyHmQrPPKBOjcIlxlbqgX9cbHYoJ80XUjeoEDvmsRItGrvqGktvFyJ X-Received: by 2002:a53:b203:0:b0:610:4b34:c72f with SMTP id 956f58d0204a3-63b9a054cc3mr7983907d50.11.1759710891643; Sun, 05 Oct 2025 17:34:51 -0700 (PDT) Received: from postal.iol.unh.edu (postal.iol.unh.edu. [132.177.123.84]) by smtp-relay.gmail.com with ESMTPS id 956f58d0204a3-63b845a19afsm700143d50.7.2025.10.05.17.34.51 (version=TLS1_2 cipher=ECDHE-ECDSA-AES128-GCM-SHA256 bits=128/128); Sun, 05 Oct 2025 17:34:51 -0700 (PDT) X-Relaying-Domain: iol.unh.edu Date: Sun, 05 Oct 2025 17:34:51 -0700 (PDT) Message-ID: <68e30eab.530a0220.21f5d2.6817SMTPIN_ADDED_MISSING@mx.google.com> Received: from [172.21.0.2] (unknown [172.18.0.240]) by postal.iol.unh.edu (Postfix) with ESMTP id 503EB6051830; Sun, 5 Oct 2025 20:34:51 -0400 (EDT) Subject: |WARNING| pw157231-157248 [PATCH] [v9,18/18] eal: allow lcore remapp From: dpdklab@iol.unh.edu To: Test Report Cc: dpdk-test-reports@iol.unh.edu In-Reply-To: <20251003081510.1197166-19-bruce.richardson@intel.com> References: <20251003081510.1197166-19-bruce.richardson@intel.com> Content-Type: text/plain X-BeenThere: test-report@dpdk.org X-Mailman-Version: 2.1.29 Precedence: list List-Id: automatic DPDK test reports List-Unsubscribe: , List-Archive: List-Post: List-Help: List-Subscribe: , Errors-To: test-report-bounces@dpdk.org Test-Label: iol-compile-amd64-testing Test-Status: WARNING http://dpdk.org/patch/157248 _Testing issues_ Submitter: Bruce Richardson Date: Friday, October 03 2025 08:15:10 DPDK git baseline: Repo:dpdk Branch: master CommitID:76393b98bf67f94dc6aa23cf5016c32571899261 157231-157248 --> testing issues Upstream job id: Generic-DPDK-Compile-Meson#431295 Test environment and result as below: +-------------------------------+-------------------------+--------------------+-------------------+----------------------+-------------------+------------------+ | Environment | dpdk_llvm_clang_compile | dpdk_meson_compile | dpdk_msvc_compile | dpdk_mingw64_compile | dpdk_compile_spdk | dpdk_compile_ovs | +===============================+=========================+====================+===================+======================+===================+==================+ | Windows Server 2022 | PASS | SKIPPED | PASS | PASS | SKIPPED | SKIPPED | +-------------------------------+-------------------------+--------------------+-------------------+----------------------+-------------------+------------------+ | Ubuntu 20.04 | SKIPPED | PASS | SKIPPED | SKIPPED | SKIPPED | SKIPPED | +-------------------------------+-------------------------+--------------------+-------------------+----------------------+-------------------+------------------+ | FreeBSD 14.2 | SKIPPED | PASS | SKIPPED | SKIPPED | SKIPPED | SKIPPED | +-------------------------------+-------------------------+--------------------+-------------------+----------------------+-------------------+------------------+ | CentOS Stream 9 | SKIPPED | PASS | SKIPPED | SKIPPED | WARN | SKIPPED | +-------------------------------+-------------------------+--------------------+-------------------+----------------------+-------------------+------------------+ | CentOS Stream 10 | SKIPPED | PASS | SKIPPED | SKIPPED | SKIPPED | SKIPPED | +-------------------------------+-------------------------+--------------------+-------------------+----------------------+-------------------+------------------+ | Debian GNU/Linux 12 | SKIPPED | PASS | SKIPPED | SKIPPED | WARN | SKIPPED | +-------------------------------+-------------------------+--------------------+-------------------+----------------------+-------------------+------------------+ | Fedora Linux 42 | SKIPPED | PASS | SKIPPED | SKIPPED | WARN | PASS | +-------------------------------+-------------------------+--------------------+-------------------+----------------------+-------------------+------------------+ | openSUSE Leap 15.6 | SKIPPED | PASS | SKIPPED | SKIPPED | SKIPPED | SKIPPED | +-------------------------------+-------------------------+--------------------+-------------------+----------------------+-------------------+------------------+ | Red Hat Enterprise Linux 8.10 | SKIPPED | PASS | SKIPPED | SKIPPED | SKIPPED | SKIPPED | +-------------------------------+-------------------------+--------------------+-------------------+----------------------+-------------------+------------------+ | Red Hat Enterprise Linux 9.5 | SKIPPED | PASS | SKIPPED | SKIPPED | SKIPPED | SKIPPED | +-------------------------------+-------------------------+--------------------+-------------------+----------------------+-------------------+------------------+ | Ubuntu 22.04 | SKIPPED | PASS | SKIPPED | SKIPPED | WARN | SKIPPED | +-------------------------------+-------------------------+--------------------+-------------------+----------------------+-------------------+------------------+ | Ubuntu 24.04 | SKIPPED | PASS | SKIPPED | SKIPPED | WARN | PASS | +-------------------------------+-------------------------+--------------------+-------------------+----------------------+-------------------+------------------+ | Alpine Linux 3.22.0 | SKIPPED | PASS | SKIPPED | SKIPPED | SKIPPED | SKIPPED | +-------------------------------+-------------------------+--------------------+-------------------+----------------------+-------------------+------------------+ ==== 20 line log output for Ubuntu 24.04 (dpdk_compile_spdk): ==== --- Failed to get log output --- ==== End log output ==== Windows Server 2022 Kernel: 10.0.20348.2031 Compiler: clang 15.0.7, gcc 14.1.0 (MinGW), and MSVC VS 19.39.33521 Ubuntu 20.04 Kernel: 4.19 Compiler: gcc gcc (Ubuntu 9.4.0-1ubuntu1~20.04.2) 9.4.0 FreeBSD 14.2 Kernel: 14.2-RELEASE Compiler: clang 18.1.6 CentOS Stream 9 Kernel: 5.15 Compiler: gcc gcc (GCC) 11.5.0 20240719 (Red Hat 11.5.0-11) CentOS Stream 10 Kernel: 5.15 Compiler: gcc gcc (GCC) 14.2.1 20250110 (Red Hat 14.2.1-8) Debian GNU/Linux 12 Kernel: 5.15 Compiler: gcc gcc (Debian 12.2.0-14+deb12u1) 12.2.0 Fedora Linux 42 Kernel: 5.15 Compiler: clang gcc (GCC) 15.2.1 20250808 (Red Hat 15.2.1-1) openSUSE Leap 15.6 Kernel: 5.15 Compiler: gcc gcc (SUSE Linux) 7.5.0 Red Hat Enterprise Linux 8.10 Kernel: 5.15 Compiler: gcc gcc (GCC) 8.5.0 20210514 (Red Hat 8.5.0-22) Red Hat Enterprise Linux 9.5 Kernel: 5.15 Compiler: gcc gcc (GCC) 11.5.0 20240719 (Red Hat 11.5.0-2) Ubuntu 22.04 Kernel: 5.15 Compiler: gcc gcc (Ubuntu 11.4.0-1ubuntu1~22.04) 11.4.0 Ubuntu 24.04 Kernel: 5.15 Compiler: gcc gcc (Ubuntu 13.3.0-6ubuntu2~24.04) 13.3.0 Alpine Linux 3.22.0 Kernel: 5.15 Compiler: gcc gcc (Alpine 14.2.0) 14.2.0 To view detailed results, visit: https://lab.dpdk.org/results/dashboard/patchsets/34205/ UNH-IOL DPDK Community Lab To manage your email subscriptions, visit: https://lab.dpdk.org/results/dashboard/preferences/subscriptions/