From mboxrd@z Thu Jan 1 00:00:00 1970 Return-Path: Received: from mails.dpdk.org (mails.dpdk.org [217.70.189.124]) by inbox.dpdk.org (Postfix) with ESMTP id 11CFD48876 for ; Mon, 6 Oct 2025 02:50:58 +0200 (CEST) Received: from mails.dpdk.org (localhost [127.0.0.1]) by mails.dpdk.org (Postfix) with ESMTP id DCAB6402E2; Mon, 6 Oct 2025 02:50:57 +0200 (CEST) Received: from mail-ua1-f98.google.com (mail-ua1-f98.google.com [209.85.222.98]) by mails.dpdk.org (Postfix) with ESMTP id 67267402E2 for ; Mon, 6 Oct 2025 02:50:56 +0200 (CEST) Received: by mail-ua1-f98.google.com with SMTP id a1e0cc1a2514c-8d02f793882so2524441241.2 for ; Sun, 05 Oct 2025 17:50:56 -0700 (PDT) DKIM-Signature: v=1; a=rsa-sha256; c=relaxed/relaxed; d=iol.unh.edu; s=unh-iol; t=1759711855; x=1760316655; darn=dpdk.org; h=cc:to:from:subject:message-id:date:from:to:cc:subject:date :message-id:reply-to; bh=HIP8K1WUh2jFkfy6zdXjOGgyb5+5NsC7AJVKMXxuOck=; b=CHp/5QE24L/i45z0ZqUXzR/X0/pTrz6hD8fy4yY9GWHitdg8zy37+bmiOKrouZWPBE GYFbEDnCVJ56uiIkRXPZPN/D+wcq4hqx9qNoMrlRw2J1Obdx9enM2LdOv9pJ3Wqs4I62 gkYCikhHOWxtw8JA5asNhq8h0jDXrIF05jepQ= X-Google-DKIM-Signature: v=1; a=rsa-sha256; c=relaxed/relaxed; d=1e100.net; s=20230601; t=1759711855; x=1760316655; h=cc:to:from:subject:message-id:date:x-gm-message-state:from:to:cc :subject:date:message-id:reply-to; bh=HIP8K1WUh2jFkfy6zdXjOGgyb5+5NsC7AJVKMXxuOck=; b=AFO9SnX+l4g1r4bPhCksQZind7GoUwoHJu/OVY6Y6t3C+7EJJJXZHt9BTpmijCI2Jp qboISPH0Wdu/eh+/BuLiUBrW2FXOpDZTfTDT6gxH7QHxe60rL9di7CT4gqeUe+dZz8VN ZuteVPRhnUGzJuRgfjBf3BXd9lBHeEk1yTWlYRPpqSPe7j3vhaPBDmsn0Vrx7jQza3CG 1CRtzYZrVC5LRW7DEDRSHyHX+fBmhDtKtFL9SJzzj/Y4i/aOZaz+P34keePSObUANLnN mjBzXbat7mX1AwLBp82KPyTXJ7KUFxfn5CgSW7Mzp9tOgY4e1+Q3kmt4k9X0L4fzTE6x /1NQ== X-Gm-Message-State: AOJu0Yx+85O31+K/EHwHJ5aPiFOX5jd5VmJ6cTyLduyLQRsqOu3ocLwZ JAtlcRcNvLPGfyTEL9ArMP36jW43tOGIfMqLBewcWXFT9QVbkkygXGZJnTqNaqgBPxKQgKzilYQ e/0UwEivvVTAOVym0/Xiz2POvXgqcF81XIAppxu+JACPI X-Gm-Gg: ASbGnctzyhTNtX+RIrrQYSMyi/J0UWueRbiBhhjhF4ISZUGUPn2nWEP7GLFXLDtNF+n Ng79FB9GcvuW25NX4SIyEDBV/vWKA5r0KsVgQTWTOu6q9SHu0+iPL3WbPv8Xt70J7HGWWA9AUqJ 81AsTLoMgzD2ntpkQ9VKGYZH2l2QHRrtnmPqOd9k8b1mIRujPzKDgvaOAEP8NraiUzY9JwfSdnR e9XqgumPXOEIEJDXjgQP5p1BAyudUQ3fIgvnm6jyuo/9vXhc/vGo2ZY/RL+BkgadsMHAsfOZkLn DITiE14bEWr9zHmCJJR1WLQ1cQepuizJsSosJZ9CB8asj4ilv7i6F+g0o9xumCXAdiJvnq8OtfR hhg== X-Google-Smtp-Source: AGHT+IH+QdewV3711yivgHo54uwPBPGxevOeGG5SsVF6W+FT9zM/HnIQ9ILZHFl8Y8ZX9qL2G9Hx3EzLVmPY X-Received: by 2002:a05:6102:80a9:b0:59d:ad3:e1e4 with SMTP id ada2fe7eead31-5d41d01e26fmr3947115137.5.1759711855738; Sun, 05 Oct 2025 17:50:55 -0700 (PDT) Received: from postal.iol.unh.edu (postal.iol.unh.edu. [132.177.123.84]) by smtp-relay.gmail.com with ESMTPS id 71dfb90a1353d-5523d031ba1sm1075269e0c.6.2025.10.05.17.50.55 (version=TLS1_2 cipher=ECDHE-ECDSA-AES128-GCM-SHA256 bits=128/128); Sun, 05 Oct 2025 17:50:55 -0700 (PDT) X-Relaying-Domain: iol.unh.edu Date: Sun, 05 Oct 2025 17:50:55 -0700 (PDT) Message-ID: <68e3126f.050a0220.344e01.a9aaSMTPIN_ADDED_MISSING@mx.google.com> Received: from [172.21.0.2] (unknown [172.18.0.240]) by postal.iol.unh.edu (Postfix) with ESMTP id 62C2B6051830; Sun, 5 Oct 2025 20:50:55 -0400 (EDT) Subject: |SUCCESS| [GIT MASTER] 2b403dd8fb37d0ba13723e44ffc7ee2c2795f838 From: dpdklab@iol.unh.edu To: Test Report Cc: dpdk-test-reports@iol.unh.edu Content-Type: text/plain X-BeenThere: test-report@dpdk.org X-Mailman-Version: 2.1.29 Precedence: list List-Id: automatic DPDK test reports List-Unsubscribe: , List-Archive: List-Post: List-Help: List-Subscribe: , Errors-To: test-report-bounces@dpdk.org _Testing PASS_ Branch: dpdk 2b403dd8fb37d0ba13723e44ffc7ee2c2795f838 --> testing pass Upstream job id: Windows-Compile-DPDK-Native#31430 Test environment and result as below: +---------------------+--------------------+-------------------------+-------------------+----------------------+ | Environment | dpdk_meson_compile | dpdk_llvm_clang_compile | dpdk_msvc_compile | dpdk_mingw64_compile | +=====================+====================+=========================+===================+======================+ | Ubuntu 20.04 | PASS | SKIPPED | SKIPPED | SKIPPED | +---------------------+--------------------+-------------------------+-------------------+----------------------+ | FreeBSD 14.2 | PASS | SKIPPED | SKIPPED | SKIPPED | +---------------------+--------------------+-------------------------+-------------------+----------------------+ | Windows Server 2022 | SKIPPED | PASS | PASS | PASS | +---------------------+--------------------+-------------------------+-------------------+----------------------+ Ubuntu 20.04 Kernel: 4.19 Compiler: gcc gcc (Ubuntu 9.4.0-1ubuntu1~20.04.2) 9.4.0 FreeBSD 14.2 Kernel: 14.2-RELEASE Compiler: clang 18.1.6 Windows Server 2022 Kernel: 10.0.20348.2031 Compiler: clang 15.0.7, gcc 14.1.0 (MinGW), and MSVC VS 19.39.33521 To view detailed results, visit: https://lab.dpdk.org/results/dashboard/tarballs/35112/ UNH-IOL DPDK Community Lab To manage your email subscriptions, visit: https://lab.dpdk.org/results/dashboard/preferences/subscriptions/