From mboxrd@z Thu Jan 1 00:00:00 1970 Return-Path: Received: from mails.dpdk.org (mails.dpdk.org [217.70.189.124]) by inbox.dpdk.org (Postfix) with ESMTP id B704248876 for ; Mon, 6 Oct 2025 02:57:06 +0200 (CEST) Received: from mails.dpdk.org (localhost [127.0.0.1]) by mails.dpdk.org (Postfix) with ESMTP id AA0EB402E2; Mon, 6 Oct 2025 02:57:06 +0200 (CEST) Received: from mail-yw1-f227.google.com (mail-yw1-f227.google.com [209.85.128.227]) by mails.dpdk.org (Postfix) with ESMTP id A7576402E2 for ; Mon, 6 Oct 2025 02:57:05 +0200 (CEST) Received: by mail-yw1-f227.google.com with SMTP id 00721157ae682-71d603b674aso46351397b3.1 for ; Sun, 05 Oct 2025 17:57:05 -0700 (PDT) DKIM-Signature: v=1; a=rsa-sha256; c=relaxed/relaxed; d=iol.unh.edu; s=unh-iol; t=1759712225; x=1760317025; darn=dpdk.org; h=references:in-reply-to:cc:to:from:subject:message-id:date:from:to :cc:subject:date:message-id:reply-to; bh=IBt1TLFNVl81YhXH1/OcKX1R1QIJICzvtaOUy2trfqE=; b=U8N+aqYHeLyvTIdp2qWlw0hrhs3qYrT+6yr2fxX0cKm46mph6Vif5EAfWBLjDVbn3Z EU7Y02aK0A87E1OMZ4SRy4GPG1t288b1yS6JtzYqBJT74pcvEXeiz/Y5/WacTtTTaEuE A0lfZ9DRfUYpYeQHDZeB7KRabv/ZGmiE7GwE0= X-Google-DKIM-Signature: v=1; a=rsa-sha256; c=relaxed/relaxed; d=1e100.net; s=20230601; t=1759712225; x=1760317025; h=references:in-reply-to:cc:to:from:subject:message-id:date :x-gm-message-state:from:to:cc:subject:date:message-id:reply-to; bh=IBt1TLFNVl81YhXH1/OcKX1R1QIJICzvtaOUy2trfqE=; b=p0uZamZrYwOSYwJLZWQxrn5DXT7MhohKXEJDvnpfDJfZLXp/0OCzZaCFl4BQUW2DlU 96ovT6QuoAOnrLOOgA0oXiwaBM2VzAxQj6FpaiNEWbe5svebXRherG8AhsgpVZib/zmj +rlVxncQ/vC6kAbFgFqP4ruXq3BT1lQQwxriAovlkymU5J71Qzdqz/D6TeEuBv+wr6dm MibX2eR2/KY5pBFORTWRQKZ0TbJSfacRUX4XKpTnLtrRRnaSJFyCszdMxp0GxnxtyM4Q fmKpq4NGrO4K5MOLnzaDdWDS9x0XTzn5aFNx2SacNPf/MkhzokwG+dEITIs75nv3JugT nUgA== X-Gm-Message-State: AOJu0Yzuo2+4csZ497NZmRPa/aVC4VqHLj2s5dUf+OVC0m5j9FdourDU 9mSsIWvKVNSUINhAkR6Nv78r1N32PEdgMnKF2b2ltpFjcGQ3zQlW0xVQGzMOEBS6t64S0ULlHmo xWVUZYOL5SDNwciz/bL1stGSVmFFoiRECFW+oA9gT24Cw X-Gm-Gg: ASbGncsjE9aIEqOCBgl4wrDnz2CDOdYnD+6bfdEiO+D8bhMXBX6RwO4CXZADoZMan28 +q/707p22kyJkGIM/RVZKh3w0Fc8z5Sp3TscSYwrkjbg7OCZ/mg1aY1JGXqvK4XlazfKzdlcBp8 7xU33JA20Lnpt0i+Q/e4G+9f1wKYctEJuVkZ3F4Hqhy6wzPB6KpeOKGeJjE4quK3HwkE0LA7U4m Bo2HK6VHqGrAiCWU7aauLPcSFguCgA5CvWO8T+bWwRBCmm4IXqNgsHJIls0bjp3tO5HiOXiF+gl UaU6XX2sa0D5LVhclS0ta6ypjKedwVWZvH/MQGgIRvaVjESuiaE+xrs0SjRZZr4fGANLeDkI9Wr lbg== X-Google-Smtp-Source: AGHT+IEVv0RtQO05hCWWFX//sVTRZF157+HrWd8aPS8Y5ZFvAd8s95plnbnR3G9ddimjOFFeWoizKxiWtC1Q X-Received: by 2002:a05:690c:3347:b0:73c:8359:d5ad with SMTP id 00721157ae682-77f946c58fcmr121365377b3.29.1759712225058; Sun, 05 Oct 2025 17:57:05 -0700 (PDT) Received: from postal.iol.unh.edu (postal.iol.unh.edu. [132.177.123.84]) by smtp-relay.gmail.com with ESMTPS id 00721157ae682-77f81c07ff1sm6464147b3.9.2025.10.05.17.57.04 (version=TLS1_2 cipher=ECDHE-ECDSA-AES128-GCM-SHA256 bits=128/128); Sun, 05 Oct 2025 17:57:05 -0700 (PDT) X-Relaying-Domain: iol.unh.edu Date: Sun, 05 Oct 2025 17:57:05 -0700 (PDT) Message-ID: <68e313e1.050a0220.11fa40.3f0dSMTPIN_ADDED_MISSING@mx.google.com> Received: from [172.21.0.2] (unknown [172.18.0.240]) by postal.iol.unh.edu (Postfix) with ESMTP id B67946051830; Sun, 5 Oct 2025 20:57:04 -0400 (EDT) Subject: |SUCCESS| pw157249-157250 [PATCH] [v6,2/2] net/idpf: enable AVX2 for From: dpdklab@iol.unh.edu To: Test Report Cc: dpdk-test-reports@iol.unh.edu, Bruce Richardson In-Reply-To: <20251003094950.2818019-3-shaiq.wani@intel.com> References: <20251003094950.2818019-3-shaiq.wani@intel.com> Content-Type: text/plain X-BeenThere: test-report@dpdk.org X-Mailman-Version: 2.1.29 Precedence: list List-Id: automatic DPDK test reports List-Unsubscribe: , List-Archive: List-Post: List-Help: List-Subscribe: , Errors-To: test-report-bounces@dpdk.org Test-Label: iol-compile-amd64-testing Test-Status: SUCCESS http://dpdk.org/patch/157250 _Testing PASS_ Submitter: Shaiq Wani Date: Friday, October 03 2025 09:49:50 DPDK git baseline: Repo:dpdk-next-net-intel Branch: master CommitID:e7d8cc7ef4df3552575525697079d3c957cfcdaf 157249-157250 --> testing pass Upstream job id: Generic-DPDK-Compile-Meson#431305 Test environment and result as below: +-------------------------------+--------------------+-------------------------+-------------------+----------------------+-------------------+------------------+ | Environment | dpdk_meson_compile | dpdk_llvm_clang_compile | dpdk_msvc_compile | dpdk_mingw64_compile | dpdk_compile_spdk | dpdk_compile_ovs | +===============================+====================+=========================+===================+======================+===================+==================+ | Ubuntu 20.04 | PASS | SKIPPED | SKIPPED | SKIPPED | SKIPPED | SKIPPED | +-------------------------------+--------------------+-------------------------+-------------------+----------------------+-------------------+------------------+ | FreeBSD 14.2 | PASS | SKIPPED | SKIPPED | SKIPPED | SKIPPED | SKIPPED | +-------------------------------+--------------------+-------------------------+-------------------+----------------------+-------------------+------------------+ | CentOS Stream 9 | PASS | SKIPPED | SKIPPED | SKIPPED | PASS | SKIPPED | +-------------------------------+--------------------+-------------------------+-------------------+----------------------+-------------------+------------------+ | CentOS Stream 10 | PASS | SKIPPED | SKIPPED | SKIPPED | SKIPPED | SKIPPED | +-------------------------------+--------------------+-------------------------+-------------------+----------------------+-------------------+------------------+ | Debian GNU/Linux 12 | PASS | SKIPPED | SKIPPED | SKIPPED | PASS | SKIPPED | +-------------------------------+--------------------+-------------------------+-------------------+----------------------+-------------------+------------------+ | Fedora Linux 42 | PASS | SKIPPED | SKIPPED | SKIPPED | PASS | PASS | +-------------------------------+--------------------+-------------------------+-------------------+----------------------+-------------------+------------------+ | openSUSE Leap 15.6 | PASS | SKIPPED | SKIPPED | SKIPPED | SKIPPED | SKIPPED | +-------------------------------+--------------------+-------------------------+-------------------+----------------------+-------------------+------------------+ | Red Hat Enterprise Linux 8.10 | PASS | SKIPPED | SKIPPED | SKIPPED | SKIPPED | SKIPPED | +-------------------------------+--------------------+-------------------------+-------------------+----------------------+-------------------+------------------+ | Red Hat Enterprise Linux 9.5 | PASS | SKIPPED | SKIPPED | SKIPPED | SKIPPED | SKIPPED | +-------------------------------+--------------------+-------------------------+-------------------+----------------------+-------------------+------------------+ | Ubuntu 22.04 | PASS | SKIPPED | SKIPPED | SKIPPED | PASS | SKIPPED | +-------------------------------+--------------------+-------------------------+-------------------+----------------------+-------------------+------------------+ | Ubuntu 24.04 | PASS | SKIPPED | SKIPPED | SKIPPED | PASS | PASS | +-------------------------------+--------------------+-------------------------+-------------------+----------------------+-------------------+------------------+ | Alpine Linux 3.22.0 | PASS | SKIPPED | SKIPPED | SKIPPED | SKIPPED | SKIPPED | +-------------------------------+--------------------+-------------------------+-------------------+----------------------+-------------------+------------------+ | Windows Server 2022 | SKIPPED | PASS | PASS | PASS | SKIPPED | SKIPPED | +-------------------------------+--------------------+-------------------------+-------------------+----------------------+-------------------+------------------+ Ubuntu 20.04 Kernel: 4.19 Compiler: gcc gcc (Ubuntu 9.4.0-1ubuntu1~20.04.2) 9.4.0 FreeBSD 14.2 Kernel: 14.2-RELEASE Compiler: clang 18.1.6 CentOS Stream 9 Kernel: 5.15 Compiler: gcc gcc (GCC) 11.5.0 20240719 (Red Hat 11.5.0-11) CentOS Stream 10 Kernel: 5.15 Compiler: gcc gcc (GCC) 14.2.1 20250110 (Red Hat 14.2.1-8) Debian GNU/Linux 12 Kernel: 5.15 Compiler: gcc gcc (Debian 12.2.0-14+deb12u1) 12.2.0 Fedora Linux 42 Kernel: 5.15 Compiler: clang gcc (GCC) 15.2.1 20250808 (Red Hat 15.2.1-1) openSUSE Leap 15.6 Kernel: 5.15 Compiler: gcc gcc (SUSE Linux) 7.5.0 Red Hat Enterprise Linux 8.10 Kernel: 5.15 Compiler: gcc gcc (GCC) 8.5.0 20210514 (Red Hat 8.5.0-22) Red Hat Enterprise Linux 9.5 Kernel: 5.15 Compiler: gcc gcc (GCC) 11.5.0 20240719 (Red Hat 11.5.0-2) Ubuntu 22.04 Kernel: 5.15 Compiler: gcc gcc (Ubuntu 11.4.0-1ubuntu1~22.04) 11.4.0 Ubuntu 24.04 Kernel: 5.15 Compiler: gcc gcc (Ubuntu 13.3.0-6ubuntu2~24.04) 13.3.0 Alpine Linux 3.22.0 Kernel: 5.15 Compiler: gcc gcc (Alpine 14.2.0) 14.2.0 Windows Server 2022 Kernel: 10.0.20348.2031 Compiler: clang 15.0.7, gcc 14.1.0 (MinGW), and MSVC VS 19.39.33521 To view detailed results, visit: https://lab.dpdk.org/results/dashboard/patchsets/34206/ UNH-IOL DPDK Community Lab To manage your email subscriptions, visit: https://lab.dpdk.org/results/dashboard/preferences/subscriptions/