From mboxrd@z Thu Jan 1 00:00:00 1970 Return-Path: Received: from mails.dpdk.org (mails.dpdk.org [217.70.189.124]) by inbox.dpdk.org (Postfix) with ESMTP id 1DBDE48876 for ; Mon, 6 Oct 2025 02:59:51 +0200 (CEST) Received: from mails.dpdk.org (localhost [127.0.0.1]) by mails.dpdk.org (Postfix) with ESMTP id 16527402E2; Mon, 6 Oct 2025 02:59:51 +0200 (CEST) Received: from mail-pg1-f227.google.com (mail-pg1-f227.google.com [209.85.215.227]) by mails.dpdk.org (Postfix) with ESMTP id 893A6402E2 for ; Mon, 6 Oct 2025 02:59:50 +0200 (CEST) Received: by mail-pg1-f227.google.com with SMTP id 41be03b00d2f7-b57d93ae3b0so2918225a12.1 for ; Sun, 05 Oct 2025 17:59:50 -0700 (PDT) DKIM-Signature: v=1; a=rsa-sha256; c=relaxed/relaxed; d=iol.unh.edu; s=unh-iol; t=1759712390; x=1760317190; darn=dpdk.org; h=cc:to:from:subject:message-id:date:from:to:cc:subject:date :message-id:reply-to; bh=+dMhU750K0Iz2u5fX0QLGwbhYc2vqNzllNwb4dUMIbk=; b=R0X2VjEIZA3sbBXZlG1MpO3lAIFOvQQgZFRBXaIuVP53eeqpDCRIIOEL1DoOuOr1Bk SJ9Q4NyiYH/NJjUHg47OadfWElGkS8ine5eCssnrNyI0rcpEFgdYYNOumy+rkMSe3TQD zCa7L0jpEptkZnfhQdgMgFCHdOtwCF1MFruEs= X-Google-DKIM-Signature: v=1; a=rsa-sha256; c=relaxed/relaxed; d=1e100.net; s=20230601; t=1759712390; x=1760317190; h=cc:to:from:subject:message-id:date:x-gm-message-state:from:to:cc :subject:date:message-id:reply-to; bh=+dMhU750K0Iz2u5fX0QLGwbhYc2vqNzllNwb4dUMIbk=; b=MJq6N1gmLkq30WTXKoA4E7CWPtEqDdWzsgPZ4X86HPBBX2W4gJ4DT4AelOdoTXblZq DpoJQ/iImyjzSfc3fD2Osfe8oG0170qXVDDTON5CztUuWHyCm6ZElSw0mjsqgb/ivxiG wVN3Z6a7yWKMNLFpHISsvAN9O7O7KoBYIzR9TKSiJf4RRIhPHii1B6ohcG/SFmejA0Pt IdSGSVFbXRzQtjqZR++RBTiSwivLfCMYygPyAkNc3L1YI3NEvMFaQ+LH/TBtRPK4QzfG 9o8EXZCaHXqadEaPmqqLqD1lDfMmX8RfZPlTs2SA3NIUSAlZohkQSKJGR9BqnNMrFN6o M3sw== X-Gm-Message-State: AOJu0YwkqJMXJF+gnWarMaMpGlpzCaXUd8Evwf/BfNGsGgavNR/tet7M 949FObjS0jn8Ms2mEbkgjqZBOstIKv9dHkqGa22U+FP0VOqHYxHh98LPI/fREa2UM20uhLgUfYe rthnIMxly3cg/D4e+n5O++EPHfofOecorD8FTJMYGoU7xZ2dowLQNoe3jpBwt X-Gm-Gg: ASbGnctavM5Oy87cKJybOs/o3217dbZpC7W9BQ+5HPl54RehNjkTYPJk5SvzyVqOnDL ow1cL2JRy6uQKRImBTFhtXbDJU1R6FXuilm7x1r0cln+t6HuQYZmAIMfBwNu8lBx9dG91Inpc1O fIkiQ1s+ej6fIzcwfI+RhxVo3XBesi59JG5RJtgiunTpbCfZxXxip0AMWua5EwmDZ3PNXybmElb KIrPwKvbx73L9I9wloH/8ati+e2hA9NbhIrh0bs+ntQ+hCRxBROUWdQIOa2oOWWwL9VMWEG96Pu J+QzaKqs57uwyS4D2MlK1jCZiZxmn8ctnQEmyvrefwJEMSC/iq+C+XE= X-Google-Smtp-Source: AGHT+IHZ6meiga/C5YfXQBe01pMgbRN5DMD8Fg7WguUXaJXL/I+uf3JnJrHiycAUmy4y1cK4V/985If7IgD+ X-Received: by 2002:a17:903:174e:b0:288:e46d:b325 with SMTP id d9443c01a7336-28e9a6483aemr111187265ad.43.1759712389736; Sun, 05 Oct 2025 17:59:49 -0700 (PDT) Received: from postal.iol.unh.edu (postal.iol.unh.edu. [2606:4100:3880:1234::84]) by smtp-relay.gmail.com with ESMTPS id 98e67ed59e1d1-339b4e0f4a9sm990824a91.0.2025.10.05.17.59.49 (version=TLS1_2 cipher=ECDHE-ECDSA-AES128-GCM-SHA256 bits=128/128); Sun, 05 Oct 2025 17:59:49 -0700 (PDT) X-Relaying-Domain: iol.unh.edu Date: Sun, 05 Oct 2025 17:59:49 -0700 (PDT) Message-ID: <68e31485.170a0220.448d8.fb65SMTPIN_ADDED_MISSING@mx.google.com> Received: from [172.21.0.3] (unknown [172.18.0.240]) by postal.iol.unh.edu (Postfix) with ESMTP id 0B9FC6051830; Sun, 5 Oct 2025 20:59:49 -0400 (EDT) Subject: |SUCCESS| [GIT MASTER] 2b403dd8fb37d0ba13723e44ffc7ee2c2795f838 From: dpdklab@iol.unh.edu To: Test Report Cc: dpdk-test-reports@iol.unh.edu Content-Type: text/plain X-BeenThere: test-report@dpdk.org X-Mailman-Version: 2.1.29 Precedence: list List-Id: automatic DPDK test reports List-Unsubscribe: , List-Archive: List-Post: List-Help: List-Subscribe: , Errors-To: test-report-bounces@dpdk.org _Testing PASS_ Branch: dpdk 2b403dd8fb37d0ba13723e44ffc7ee2c2795f838 --> testing pass Upstream job id: Generic-Unit-Test-DPDK#378649 Test environment and result as below: +-------------------------------+----------------+ | Environment | dpdk_unit_test | +===============================+================+ | Fedora Linux 41 | PASS | +-------------------------------+----------------+ | Fedora Linux 40 | PASS | +-------------------------------+----------------+ | Arch Linux 20250613.0.365270 | PASS | +-------------------------------+----------------+ | CentOS Stream 10 | PASS | +-------------------------------+----------------+ | Red Hat Enterprise Linux 8.10 | PASS | +-------------------------------+----------------+ | Fedora Linux 42 | PASS | +-------------------------------+----------------+ | CentOS Stream 9 | PASS | +-------------------------------+----------------+ | Debian GNU/Linux 12 | PASS | +-------------------------------+----------------+ | Windows Server 2022 | PASS | +-------------------------------+----------------+ | Red Hat Enterprise Linux 9.5 | PASS | +-------------------------------+----------------+ | Ubuntu 22.04 | PASS | +-------------------------------+----------------+ | Ubuntu 24.04 | PASS | +-------------------------------+----------------+ | Ubuntu 20.04 | PASS | +-------------------------------+----------------+ Fedora Linux 41 Kernel: 5.15 Compiler: clang gcc (GCC) 14.3.1 20250523 (Red Hat 14.3.1-1) Fedora Linux 40 Kernel: 5.15 Compiler: gcc gcc (GCC) 14.2.1 20240912 (Red Hat 14.2.1-3) Arch Linux 20250613.0.365270 Kernel: 5.15 Compiler: gcc gcc (GCC) 15.1.1 20250425 CentOS Stream 10 Kernel: 5.15 Compiler: gcc gcc (GCC) 14.2.1 20250110 (Red Hat 14.2.1-8) Red Hat Enterprise Linux 8.10 Kernel: 5.15 Compiler: gcc gcc (GCC) 8.5.0 20210514 (Red Hat 8.5.0-22) Fedora Linux 42 Kernel: 5.15 Compiler: gcc gcc (GCC) 15.2.1 20250808 (Red Hat 15.2.1-1) CentOS Stream 9 Kernel: 5.15 Compiler: gcc gcc (GCC) 11.5.0 20240719 (Red Hat 11.5.0-11) Debian GNU/Linux 12 Kernel: 5.15 Compiler: gcc gcc (Debian 12.2.0-14+deb12u1) 12.2.0 Windows Server 2022 Kernel: 10.0.20348.2031 Compiler: clang 15.0.7, gcc 14.1.0 (MinGW), and MSVC VS 19.39.33521 Red Hat Enterprise Linux 9.5 Kernel: 5.15 Compiler: gcc gcc (GCC) 11.5.0 20240719 (Red Hat 11.5.0-2) Ubuntu 22.04 Kernel: 5.15 Compiler: gcc gcc (Ubuntu 11.4.0-1ubuntu1~22.04) 11.4.0 Ubuntu 24.04 Kernel: 5.15 Compiler: gcc gcc (Ubuntu 13.3.0-6ubuntu2~24.04) 13.3.0 Ubuntu 20.04 Kernel: 5.15 Compiler: gcc gcc (Ubuntu 9.4.0-1ubuntu1~20.04.2) 9.4.0 To view detailed results, visit: https://lab.dpdk.org/results/dashboard/tarballs/35112/ UNH-IOL DPDK Community Lab To manage your email subscriptions, visit: https://lab.dpdk.org/results/dashboard/preferences/subscriptions/