From mboxrd@z Thu Jan 1 00:00:00 1970 Return-Path: Received: from mails.dpdk.org (mails.dpdk.org [217.70.189.124]) by inbox.dpdk.org (Postfix) with ESMTP id BFE63488BF for ; Mon, 6 Oct 2025 04:04:41 +0200 (CEST) Received: from mails.dpdk.org (localhost [127.0.0.1]) by mails.dpdk.org (Postfix) with ESMTP id 9A642402E2; Mon, 6 Oct 2025 04:04:41 +0200 (CEST) Received: from mail-qv1-f99.google.com (mail-qv1-f99.google.com [209.85.219.99]) by mails.dpdk.org (Postfix) with ESMTP id 49FC3402E2 for ; Mon, 6 Oct 2025 04:04:40 +0200 (CEST) Received: by mail-qv1-f99.google.com with SMTP id 6a1803df08f44-7ea50f94045so57018976d6.1 for ; Sun, 05 Oct 2025 19:04:40 -0700 (PDT) DKIM-Signature: v=1; a=rsa-sha256; c=relaxed/relaxed; d=iol.unh.edu; s=unh-iol; t=1759716279; x=1760321079; darn=dpdk.org; h=cc:to:from:subject:message-id:date:from:to:cc:subject:date :message-id:reply-to; bh=q0UUYvm2Th3FGaJTtRNw/db/n3+n5Pszo0a/HXac73Q=; b=J8W+9erSgTdLcTprlrZJ/pdIt7B/FWpRP2Eqly+DRuZbp38F1Jsayk8059mviBLWzS w5Muo0I909THDhQ8unv2MbGeIMMWNrqGwQsDF9veRL773F58t+QQ4IMUrs0oKjvcsppF KwIYQ6JMiyVmmeSp9/sbfh4eCI6vamOoIHOjs= X-Google-DKIM-Signature: v=1; a=rsa-sha256; c=relaxed/relaxed; d=1e100.net; s=20230601; t=1759716279; x=1760321079; h=cc:to:from:subject:message-id:date:x-gm-message-state:from:to:cc :subject:date:message-id:reply-to; bh=q0UUYvm2Th3FGaJTtRNw/db/n3+n5Pszo0a/HXac73Q=; b=s7rkzvykWtVwlsPtINSyzPc6OCC4E9IvccZkkp8irtELLzdBo3CV8kr2JpVMXjLHIA NvArRk9zQEMjPWjK75jWLLoTHWTHCHOS/3hp3k66mFuNfrRaYceKwA8DctazcQ6eT1Pb AuEio8rMpxFKy7C81AZQuhSpbfq6r5CDJxk5vNLDl5Zw3I5gwHxKiP8M02wVApyTD3YT nxMT+7WkdyFAoHcQPb3kHOgSRTM45hSNt6h4F8eZ8Ipl1yYKgGl/rZ4NTN7+5vou1fnT eHIr4P72xS5jXIh4oMBsh98Jyz5R540bja2S2fzsE6/bZ+u37dR1sCO4BynNKPRpY5y1 SKFg== X-Gm-Message-State: AOJu0YwZgCSup5AL6GAv53JNsVoyQPxt7JPZpzBaM0tTVVktoUG0rsFe 9AZM7iQ/qPTlV9lmjBHmy2jUlPoPNYjsqAFPMxQVb3pXgXAYZwkEvFyspecDGYDdOm1nXFqJd40 ABxPZvj9ypL1xtMidSU9BXQnERNqRgsErFNFSYlQ2j0E2NVB4nHXu X-Gm-Gg: ASbGncvsBsG4NqIOmb4HV7U3ZquUXGvPAKGuGmkRYh1IEjSbPdhOaNs1+Ab4CdWDjeZ D3BZ/9F6NTfrjhztbFviGVfhSdBsr3CRI42/B0w4O0zyzKFQVb/3NRSi/VDR1zEwKn1+h6WckcA gbPrcQ75Odd2hIV/nBoVlCaafZJipv5F/MXe/GaydQRa939C9zFcAGV9aqt3RoKKFZ/l45gFCJ6 epOFaUTdC7ykwSb80ili3A2iw5cY55klAW1g2OHG1lifSCq/IIEOLqthikDsmnBaG+MXUVytzJk 1Z0vPCCkD0VxFzmrcdmImBdyb06OwYRfMAgNVWSQ+37qZS7AhJMFK7I= X-Google-Smtp-Source: AGHT+IH3Wa8g25AkgYyrIIt8vjFqiqez5Gzmqr/AXiW3S6WNmAvvlQNVpdJBgmL79tDyhEF9iYLPPsCeNwCG X-Received: by 2002:a05:6214:2466:b0:787:f736:bc66 with SMTP id 6a1803df08f44-878b96f50fdmr192733806d6.1.1759716279389; Sun, 05 Oct 2025 19:04:39 -0700 (PDT) Received: from postal.iol.unh.edu (postal.iol.unh.edu. [2606:4100:3880:1234::84]) by smtp-relay.gmail.com with ESMTPS id 6a1803df08f44-878bda73819sm9765266d6.25.2025.10.05.19.04.39 (version=TLS1_2 cipher=ECDHE-ECDSA-AES128-GCM-SHA256 bits=128/128); Sun, 05 Oct 2025 19:04:39 -0700 (PDT) X-Relaying-Domain: iol.unh.edu Date: Sun, 05 Oct 2025 19:04:39 -0700 (PDT) Message-ID: <68e323b7.d40a0220.fe7ba.6212SMTPIN_ADDED_MISSING@mx.google.com> Received: from [172.21.0.2] (unknown [172.18.0.240]) by postal.iol.unh.edu (Postfix) with ESMTP id C75E86051830; Sun, 5 Oct 2025 22:04:38 -0400 (EDT) Subject: |SUCCESS| [GIT MASTER] 3b43ce3f4a54468e7ef65760c2fd7b4d6ee6d9fc From: dpdklab@iol.unh.edu To: Test Report Cc: dpdk-test-reports@iol.unh.edu, Xueming Li , Christian Ehrhardt , Kevin Traynor , Luca Boccassi Content-Type: text/plain X-BeenThere: test-report@dpdk.org X-Mailman-Version: 2.1.29 Precedence: list List-Id: automatic DPDK test reports List-Unsubscribe: , List-Archive: List-Post: List-Help: List-Subscribe: , Errors-To: test-report-bounces@dpdk.org _Testing PASS_ Branch: tags/v22.11 3b43ce3f4a54468e7ef65760c2fd7b4d6ee6d9fc --> testing pass Upstream job id: Generic-DPDK-Compile-Meson#431170 Test environment and result as below: +------------------------------+--------------------+ | Environment | dpdk_meson_compile | +==============================+====================+ | Red Hat Enterprise Linux 9.5 | PASS | +------------------------------+--------------------+ | Ubuntu 20.04 | PASS | +------------------------------+--------------------+ | Debian GNU/Linux 12 | PASS | +------------------------------+--------------------+ | Fedora Linux 42 | PASS | +------------------------------+--------------------+ | Ubuntu 22.04 | PASS | +------------------------------+--------------------+ | Ubuntu 24.04 | PASS | +------------------------------+--------------------+ | CentOS Stream 9 | PASS | +------------------------------+--------------------+ | CentOS Stream 10 | PASS | +------------------------------+--------------------+ Red Hat Enterprise Linux 9.5 Kernel: 5.4 Compiler: gcc gcc (GCC) 11.5.0 20240719 (Red Hat 11.5.0-2) Ubuntu 20.04 Kernel: 5.15 Compiler: aarch64-linux-gnu-gcc gcc (Ubuntu 9.4.0-1ubuntu1~20.04.2) 9.4.0 Debian GNU/Linux 12 Kernel: 5.4 Compiler: gcc gcc (Debian 12.2.0-14+deb12u1) 12.2.0 Fedora Linux 42 Kernel: 5.4 Compiler: gcc gcc (GCC) 15.2.1 20250808 (Red Hat 15.2.1-1) Ubuntu 22.04 Kernel: 5.4 Compiler: gcc gcc (Ubuntu 11.4.0-1ubuntu1~22.04) 11.4.0 Ubuntu 24.04 Kernel: 5.4 Compiler: gcc gcc (Ubuntu 13.3.0-6ubuntu2~24.04) 13.3.0 CentOS Stream 9 Kernel: 5.4 Compiler: gcc gcc (GCC) 11.5.0 20240719 (Red Hat 11.5.0-11) CentOS Stream 10 Kernel: 5.4 Compiler: gcc gcc (GCC) 14.2.1 20250110 (Red Hat 14.2.1-8) To view detailed results, visit: https://lab.dpdk.org/results/dashboard/tarballs/35089/ UNH-IOL DPDK Community Lab To manage your email subscriptions, visit: https://lab.dpdk.org/results/dashboard/preferences/subscriptions/