From mboxrd@z Thu Jan 1 00:00:00 1970 Return-Path: Received: from mails.dpdk.org (mails.dpdk.org [217.70.189.124]) by inbox.dpdk.org (Postfix) with ESMTP id B5805488BF for ; Mon, 6 Oct 2025 04:14:37 +0200 (CEST) Received: from mails.dpdk.org (localhost [127.0.0.1]) by mails.dpdk.org (Postfix) with ESMTP id 87CBB402E2; Mon, 6 Oct 2025 04:14:37 +0200 (CEST) Received: from mail-io1-f98.google.com (mail-io1-f98.google.com [209.85.166.98]) by mails.dpdk.org (Postfix) with ESMTP id 6AF37402E2 for ; Mon, 6 Oct 2025 04:14:36 +0200 (CEST) Received: by mail-io1-f98.google.com with SMTP id ca18e2360f4ac-90a0b3ddebeso176170839f.0 for ; Sun, 05 Oct 2025 19:14:36 -0700 (PDT) DKIM-Signature: v=1; a=rsa-sha256; c=relaxed/relaxed; d=iol.unh.edu; s=unh-iol; t=1759716875; x=1760321675; darn=dpdk.org; h=references:in-reply-to:cc:to:from:subject:message-id:date:from:to :cc:subject:date:message-id:reply-to; bh=DH7PMWWyTGVuWBRTZiXv47rS+4hQBw4sRdbTUln5yn8=; b=WvKlmqe/4sS3ki6evd7MkGDfFfVQHkxVfn9zLs4S4/sx2zDA5SklRwfJRGIGJzG2OE NU8xdaxxcc80ONog/E89WUjyN0JiIjjSuM6kFhGJ0yGUsGCpeqEYImemT4AWS1c40aSJ stxheEDh44AnZ/TCVkDUNEgKTCBEkU49tGcSg= X-Google-DKIM-Signature: v=1; a=rsa-sha256; c=relaxed/relaxed; d=1e100.net; s=20230601; t=1759716875; x=1760321675; h=references:in-reply-to:cc:to:from:subject:message-id:date :x-gm-message-state:from:to:cc:subject:date:message-id:reply-to; bh=DH7PMWWyTGVuWBRTZiXv47rS+4hQBw4sRdbTUln5yn8=; b=U+8OK16asJcBPKQtvUBXVYNVW7knCDuMmHUotHNMw/iPyxpzeJJCg3yAuxdTHUHt8B 0DF4CcVL3Z1TBo2P5X/4qdLZvGzaW7DQ6CviLJhjR/jTIhB7iAOe+unaTHg6xywqgi4R 1469RnuXpLRknA/UoFfAzR/ybZuIfhYrDpJOkstkum2Cd/vGPK3/vmBhGf7yFpGHlGYe EpF7mpFIoixO2kusAkd5T+2jlZ6rO4fiyrJgAUCPLI/7zdUIyHfoyMtYCE6aatX7W6m2 Hzu4E3J1Rk9oX5KhhBiWtC8p1a0elPFX22NPnCerDKHZ/jySBEemhi6npx61Nnt4Z3ne owNA== X-Gm-Message-State: AOJu0YxbzGE5ge2U/ts3ZAty4qLzU6FOnMC1ZjRjuYylSgpEHfcdQ0N2 yz7rRpWPnc4Zki2w5AGdREsNyyeotC24AuGDq4j9S3hTRkkodIjSSujAzvGUL9AUsKvp4xYzvI3 D0RAUEWULnYPYV1V2EwjD5oYBZuuRdJvd20l/q92kXPZu X-Gm-Gg: ASbGnctCT7Z+dxGli3IqHcQNb1DQUUYaKf69L/9aXiWUhVXM7MXdpSII/MJrB3Nbg0R gEXyRgbSiZ47MZNYv/ClOLQZYR+ll3w+WaczzmPH/z9AP4WoYQtJWWHxuCNMKV56GvZ0PlRYOPW dFC4aUJwCgN33sQrn7EcYXqsUihbv3WuVI/gfMBMRb6FGmHp+mSPRrBnuctISDF3FEJ7ZTk/c26 xNpHO6ugzs2Z4n0jysGfoSj2+067aG9q6TncN42JEhwXxNziddivmyEn0gyVkrZ+PLRU5w8wdJ0 mVBw0ItQVRJellmm5C70/3pjUWeLkgwTdsD0ctv5mqPkXlH+AOANUWvr8ytD4CBy+sIxphB8z/6 aYw== X-Google-Smtp-Source: AGHT+IETY9j9j+v+pzSYUIgcMeIFpPblYBpUEzWmUEqmYFZcwuojMwV7sBhcZpKT3elyYSrV1fNsF512nYQ4 X-Received: by 2002:a05:6e02:1fec:b0:426:9b42:24ce with SMTP id e9e14a558f8ab-42e7ad24f7cmr161837105ab.13.1759716875516; Sun, 05 Oct 2025 19:14:35 -0700 (PDT) Received: from postal.iol.unh.edu (postal.iol.unh.edu. [132.177.123.84]) by smtp-relay.gmail.com with ESMTPS id 8926c6da1cb9f-57b605d7d60sm905177173.38.2025.10.05.19.14.35 (version=TLS1_2 cipher=ECDHE-ECDSA-AES128-GCM-SHA256 bits=128/128); Sun, 05 Oct 2025 19:14:35 -0700 (PDT) X-Relaying-Domain: iol.unh.edu Date: Sun, 05 Oct 2025 19:14:35 -0700 (PDT) Message-ID: <68e3260b.050a0220.379390.11baSMTPIN_ADDED_MISSING@mx.google.com> Received: from [172.21.0.2] (unknown [172.18.0.240]) by postal.iol.unh.edu (Postfix) with ESMTP id ED2DF6051830; Sun, 5 Oct 2025 22:14:34 -0400 (EDT) Subject: |SUCCESS| pw157251-157252 [PATCH] [v2,2/2] net/iavf: add restore com From: dpdklab@iol.unh.edu To: Test Report Cc: dpdk-test-reports@iol.unh.edu, Bruce Richardson In-Reply-To: <20251003102359.823028-2-ciara.loftus@intel.com> References: <20251003102359.823028-2-ciara.loftus@intel.com> Content-Type: text/plain X-BeenThere: test-report@dpdk.org X-Mailman-Version: 2.1.29 Precedence: list List-Id: automatic DPDK test reports List-Unsubscribe: , List-Archive: List-Post: List-Help: List-Subscribe: , Errors-To: test-report-bounces@dpdk.org Test-Label: iol-compile-amd64-testing Test-Status: SUCCESS http://dpdk.org/patch/157252 _Testing PASS_ Submitter: Loftus, Ciara Date: Friday, October 03 2025 10:23:59 DPDK git baseline: Repo:dpdk-next-net-intel Branch: master CommitID:e7d8cc7ef4df3552575525697079d3c957cfcdaf 157251-157252 --> testing pass Upstream job id: Generic-DPDK-Compile-Meson#431334 Test environment and result as below: +---------------------+--------------------+-------------------+-------------------------+----------------------+-------------------+ | Environment | dpdk_meson_compile | dpdk_msvc_compile | dpdk_llvm_clang_compile | dpdk_mingw64_compile | dpdk_compile_spdk | +=====================+====================+===================+=========================+======================+===================+ | Ubuntu 20.04 | PASS | SKIPPED | SKIPPED | SKIPPED | SKIPPED | +---------------------+--------------------+-------------------+-------------------------+----------------------+-------------------+ | FreeBSD 14.2 | PASS | SKIPPED | SKIPPED | SKIPPED | SKIPPED | +---------------------+--------------------+-------------------+-------------------------+----------------------+-------------------+ | CentOS Stream 9 | PASS | SKIPPED | SKIPPED | SKIPPED | PASS | +---------------------+--------------------+-------------------+-------------------------+----------------------+-------------------+ | CentOS Stream 10 | PASS | SKIPPED | SKIPPED | SKIPPED | SKIPPED | +---------------------+--------------------+-------------------+-------------------------+----------------------+-------------------+ | Windows Server 2022 | SKIPPED | PASS | PASS | PASS | SKIPPED | +---------------------+--------------------+-------------------+-------------------------+----------------------+-------------------+ Ubuntu 20.04 Kernel: 4.19 Compiler: gcc gcc (Ubuntu 9.4.0-1ubuntu1~20.04.2) 9.4.0 FreeBSD 14.2 Kernel: 14.2-RELEASE Compiler: clang 18.1.6 CentOS Stream 9 Kernel: 5.15 Compiler: gcc gcc (GCC) 11.5.0 20240719 (Red Hat 11.5.0-11) CentOS Stream 10 Kernel: 5.15 Compiler: gcc gcc (GCC) 14.2.1 20250110 (Red Hat 14.2.1-8) Windows Server 2022 Kernel: 10.0.20348.2031 Compiler: clang 15.0.7, gcc 14.1.0 (MinGW), and MSVC VS 19.39.33521 To view detailed results, visit: https://lab.dpdk.org/results/dashboard/patchsets/34207/ UNH-IOL DPDK Community Lab To manage your email subscriptions, visit: https://lab.dpdk.org/results/dashboard/preferences/subscriptions/