From mboxrd@z Thu Jan 1 00:00:00 1970 Return-Path: Received: from mails.dpdk.org (mails.dpdk.org [217.70.189.124]) by inbox.dpdk.org (Postfix) with ESMTP id 67CCC488BF for ; Mon, 6 Oct 2025 04:22:42 +0200 (CEST) Received: from mails.dpdk.org (localhost [127.0.0.1]) by mails.dpdk.org (Postfix) with ESMTP id 47C11402E2; Mon, 6 Oct 2025 04:22:42 +0200 (CEST) Received: from mail-pj1-f97.google.com (mail-pj1-f97.google.com [209.85.216.97]) by mails.dpdk.org (Postfix) with ESMTP id 0340A402E2 for ; Mon, 6 Oct 2025 04:22:40 +0200 (CEST) Received: by mail-pj1-f97.google.com with SMTP id 98e67ed59e1d1-3322e6360bbso4290274a91.0 for ; Sun, 05 Oct 2025 19:22:40 -0700 (PDT) DKIM-Signature: v=1; a=rsa-sha256; c=relaxed/relaxed; d=iol.unh.edu; s=unh-iol; t=1759717360; x=1760322160; darn=dpdk.org; h=references:in-reply-to:cc:to:from:subject:message-id:date:from:to :cc:subject:date:message-id:reply-to; bh=RkQz4ab+8Qv6pAMWasCgPXi/TcZGJp39IUtVrVQguEs=; b=RZ9knLZDRvIChEL2hDza92XMgVe1Z4OcDwEATQsYTwChf4beEkCUKgrcSBuADvNuUq FPFS0pBwV2q6+H4GXuY0NrGPf3GQh4EkgBMBjuEDsgntGOxHXh3TnQXWp3vKiuPlWytX FHYygM0FiEwIiXxDFnRQmw0G94mn0eteA6HvQ= X-Google-DKIM-Signature: v=1; a=rsa-sha256; c=relaxed/relaxed; d=1e100.net; s=20230601; t=1759717360; x=1760322160; h=references:in-reply-to:cc:to:from:subject:message-id:date :x-gm-message-state:from:to:cc:subject:date:message-id:reply-to; bh=RkQz4ab+8Qv6pAMWasCgPXi/TcZGJp39IUtVrVQguEs=; b=fhav9cafHzUNOe3KNS4LAJgDPXhqc1217s0+bi73ETfDEHqa9YDdHIDh7nPqk1tMWI p6A3FUT4gc31V/psnq0ziE44/wC76c0296TbL/A4/NaZcrUSglpyw+uhTYh78+7mcJzo LDP6DbZcNEeCWs6TmGv3K2ANbEC/kDRuLOFYxmX4jvJfmvpSbv3mo+Bo4nv5j3JSbm6X IIj35CLCuYVvH+c+95UmcjAtCgCfH9TX7kEQ6pKF3SIbXl0S10CkzR4bsLsCjXx9WH64 iqWvYXBLbLEvUmPzCPd6dPxdJgytNylynuZECgDZ1ud9u/U3w04ktmxyU+QRJ6PHXykD Dz5w== X-Gm-Message-State: AOJu0YwQJ1ac8xjXSzOqJphPqFci3d94WI2Xtm2uk0JjeXHmXy1nJsWT yMFLN6TqfIqizECJLSe3j/Z+EW89pqpobCW3A8nU8xX6Z0mfmi2TbJo5WDBFCZab7Wj3RYDQqpa 5/kGBt/E4SkuSLudcAD/zS+QDHhTlJvx8xIB004oBUgVBiPU0LHS3Jd/grD2P X-Gm-Gg: ASbGncv9F0lborzxetRg+WFkVx36L212iCPdykGDXTFqH1G+ZDAySEJ5xi8nrC3hvVQ H27jr/7iiBnYdgve8Zdns70wx36gGuC1FJ7EP8vha9HQ1RNu7JUYd9ujH8PVJS8GS7IGvJtzgVU N1oGW6GqOvfD86NjffIaoYwZrxQwkltVyMweU5VYXc+yNG16G7T0cpgWy/6BFiTk1eyCNqwjKXA qPM0rflpLCPJpEYbeBjTkhU6t7eALed4eKkJmHOUqlfsLmF8OveI77RVOAu1lm+42kED7BwKJ2+ 4PwGNpNxJ5m2NJBUwNi5Wt8FJfVMJN4GF9neCo4EzxeJH4PL33iG/i4= X-Google-Smtp-Source: AGHT+IG6d03AHbqRoyxMHDIDbxEHtMWmhvfF5h+hBMIqGF+KgjOLpWBu4nYioMmSdTqSCJbcN6sb+LikvlVi X-Received: by 2002:a17:90b:270b:b0:339:cece:a99 with SMTP id 98e67ed59e1d1-339cece0becmr7701075a91.13.1759717359191; Sun, 05 Oct 2025 19:22:39 -0700 (PDT) Received: from postal.iol.unh.edu (postal.iol.unh.edu. [2606:4100:3880:1234::84]) by smtp-relay.gmail.com with ESMTPS id 98e67ed59e1d1-339b4f3385dsm1148285a91.7.2025.10.05.19.22.39 (version=TLS1_2 cipher=ECDHE-ECDSA-AES128-GCM-SHA256 bits=128/128); Sun, 05 Oct 2025 19:22:39 -0700 (PDT) X-Relaying-Domain: iol.unh.edu Date: Sun, 05 Oct 2025 19:22:39 -0700 (PDT) Message-ID: <68e327ef.170a0220.6b106.f0abSMTPIN_ADDED_MISSING@mx.google.com> Received: from [172.21.0.2] (unknown [172.18.0.240]) by postal.iol.unh.edu (Postfix) with ESMTP id 67B8A6051830; Sun, 5 Oct 2025 22:22:38 -0400 (EDT) Subject: |SUCCESS| pw157251-157252 [PATCH] [v2,2/2] net/iavf: add restore com From: dpdklab@iol.unh.edu To: Test Report Cc: dpdk-test-reports@iol.unh.edu, Bruce Richardson In-Reply-To: <20251003102359.823028-2-ciara.loftus@intel.com> References: <20251003102359.823028-2-ciara.loftus@intel.com> Content-Type: text/plain X-BeenThere: test-report@dpdk.org X-Mailman-Version: 2.1.29 Precedence: list List-Id: automatic DPDK test reports List-Unsubscribe: , List-Archive: List-Post: List-Help: List-Subscribe: , Errors-To: test-report-bounces@dpdk.org Test-Label: iol-compile-amd64-testing Test-Status: SUCCESS http://dpdk.org/patch/157252 _Testing PASS_ Submitter: Loftus, Ciara Date: Friday, October 03 2025 10:23:59 DPDK git baseline: Repo:dpdk-next-net-intel Branch: master CommitID:e7d8cc7ef4df3552575525697079d3c957cfcdaf 157251-157252 --> testing pass Upstream job id: Generic-DPDK-Compile-Meson#431337 Test environment and result as below: +---------------------+--------------------+-------------------+-------------------------+----------------------+-------------------+ | Environment | dpdk_meson_compile | dpdk_msvc_compile | dpdk_llvm_clang_compile | dpdk_mingw64_compile | dpdk_compile_spdk | +=====================+====================+===================+=========================+======================+===================+ | Ubuntu 20.04 | PASS | SKIPPED | SKIPPED | SKIPPED | SKIPPED | +---------------------+--------------------+-------------------+-------------------------+----------------------+-------------------+ | FreeBSD 14.2 | PASS | SKIPPED | SKIPPED | SKIPPED | SKIPPED | +---------------------+--------------------+-------------------+-------------------------+----------------------+-------------------+ | CentOS Stream 9 | PASS | SKIPPED | SKIPPED | SKIPPED | PASS | +---------------------+--------------------+-------------------+-------------------------+----------------------+-------------------+ | CentOS Stream 10 | PASS | SKIPPED | SKIPPED | SKIPPED | SKIPPED | +---------------------+--------------------+-------------------+-------------------------+----------------------+-------------------+ | Debian GNU/Linux 12 | PASS | SKIPPED | SKIPPED | SKIPPED | PASS | +---------------------+--------------------+-------------------+-------------------------+----------------------+-------------------+ | Windows Server 2022 | SKIPPED | PASS | PASS | PASS | SKIPPED | +---------------------+--------------------+-------------------+-------------------------+----------------------+-------------------+ Ubuntu 20.04 Kernel: 4.19 Compiler: gcc gcc (Ubuntu 9.4.0-1ubuntu1~20.04.2) 9.4.0 FreeBSD 14.2 Kernel: 14.2-RELEASE Compiler: clang 18.1.6 CentOS Stream 9 Kernel: 5.15 Compiler: gcc gcc (GCC) 11.5.0 20240719 (Red Hat 11.5.0-11) CentOS Stream 10 Kernel: 5.15 Compiler: gcc gcc (GCC) 14.2.1 20250110 (Red Hat 14.2.1-8) Debian GNU/Linux 12 Kernel: 5.15 Compiler: gcc gcc (Debian 12.2.0-14+deb12u1) 12.2.0 Windows Server 2022 Kernel: 10.0.20348.2031 Compiler: clang 15.0.7, gcc 14.1.0 (MinGW), and MSVC VS 19.39.33521 To view detailed results, visit: https://lab.dpdk.org/results/dashboard/patchsets/34207/ UNH-IOL DPDK Community Lab To manage your email subscriptions, visit: https://lab.dpdk.org/results/dashboard/preferences/subscriptions/