automatic DPDK test reports
 help / color / mirror / Atom feed
From: dpdklab@iol.unh.edu
To: Test Report <test-report@dpdk.org>
Cc: dpdk-test-reports@iol.unh.edu,
	Bruce Richardson <bruce.richardson@intel.com>
Subject: |SUCCESS| pw157251-157252 [PATCH] [v2,2/2] net/iavf: add restore com
Date: Sun, 05 Oct 2025 20:33:01 -0700 (PDT)	[thread overview]
Message-ID: <68e3386d.170a0220.2518a8.35eaSMTPIN_ADDED_MISSING@mx.google.com> (raw)
In-Reply-To: <20251003102359.823028-2-ciara.loftus@intel.com>

Test-Label: iol-compile-amd64-testing
Test-Status: SUCCESS
http://dpdk.org/patch/157252

_Testing PASS_

Submitter: Loftus, Ciara <ciara.loftus@intel.com>
Date: Friday, October 03 2025 10:23:59 
DPDK git baseline: Repo:dpdk-next-net-intel
  Branch: master
  CommitID:e7d8cc7ef4df3552575525697079d3c957cfcdaf

157251-157252 --> testing pass

Upstream job id: Generic-DPDK-Compile-Meson#431340

Test environment and result as below:

+-------------------------------+--------------------+-------------------+-------------------------+----------------------+-------------------+------------------+
|          Environment          | dpdk_meson_compile | dpdk_msvc_compile | dpdk_llvm_clang_compile | dpdk_mingw64_compile | dpdk_compile_spdk | dpdk_compile_ovs |
+===============================+====================+===================+=========================+======================+===================+==================+
| Ubuntu 20.04                  | PASS               | SKIPPED           | SKIPPED                 | SKIPPED              | SKIPPED           | SKIPPED          |
+-------------------------------+--------------------+-------------------+-------------------------+----------------------+-------------------+------------------+
| FreeBSD 14.2                  | PASS               | SKIPPED           | SKIPPED                 | SKIPPED              | SKIPPED           | SKIPPED          |
+-------------------------------+--------------------+-------------------+-------------------------+----------------------+-------------------+------------------+
| CentOS Stream 9               | PASS               | SKIPPED           | SKIPPED                 | SKIPPED              | PASS              | SKIPPED          |
+-------------------------------+--------------------+-------------------+-------------------------+----------------------+-------------------+------------------+
| CentOS Stream 10              | PASS               | SKIPPED           | SKIPPED                 | SKIPPED              | SKIPPED           | SKIPPED          |
+-------------------------------+--------------------+-------------------+-------------------------+----------------------+-------------------+------------------+
| Debian GNU/Linux 12           | PASS               | SKIPPED           | SKIPPED                 | SKIPPED              | PASS              | SKIPPED          |
+-------------------------------+--------------------+-------------------+-------------------------+----------------------+-------------------+------------------+
| Fedora Linux 42               | PASS               | SKIPPED           | SKIPPED                 | SKIPPED              | PASS              | PASS             |
+-------------------------------+--------------------+-------------------+-------------------------+----------------------+-------------------+------------------+
| openSUSE Leap 15.6            | PASS               | SKIPPED           | SKIPPED                 | SKIPPED              | SKIPPED           | SKIPPED          |
+-------------------------------+--------------------+-------------------+-------------------------+----------------------+-------------------+------------------+
| Red Hat Enterprise Linux 8.10 | PASS               | SKIPPED           | SKIPPED                 | SKIPPED              | SKIPPED           | SKIPPED          |
+-------------------------------+--------------------+-------------------+-------------------------+----------------------+-------------------+------------------+
| Windows Server 2022           | SKIPPED            | PASS              | PASS                    | PASS                 | SKIPPED           | SKIPPED          |
+-------------------------------+--------------------+-------------------+-------------------------+----------------------+-------------------+------------------+


Ubuntu 20.04
	Kernel: 4.19
	Compiler: gcc gcc (Ubuntu 9.4.0-1ubuntu1~20.04.2) 9.4.0

FreeBSD 14.2
	Kernel: 14.2-RELEASE
	Compiler: clang 18.1.6

CentOS Stream 9
	Kernel: 5.15
	Compiler: gcc gcc (GCC) 11.5.0 20240719 (Red Hat 11.5.0-11)

CentOS Stream 10
	Kernel: 5.15
	Compiler: gcc gcc (GCC) 14.2.1 20250110 (Red Hat 14.2.1-8)

Debian GNU/Linux 12
	Kernel: 5.15
	Compiler: gcc gcc (Debian 12.2.0-14+deb12u1) 12.2.0

Fedora Linux 42
	Kernel: 5.15
	Compiler: clang gcc (GCC) 15.2.1 20250808 (Red Hat 15.2.1-1)

openSUSE Leap 15.6
	Kernel: 5.15
	Compiler: gcc gcc (SUSE Linux) 7.5.0

Red Hat Enterprise Linux 8.10
	Kernel: 5.15
	Compiler: gcc gcc (GCC) 8.5.0 20210514 (Red Hat 8.5.0-22)

Windows Server 2022
	Kernel: 10.0.20348.2031
	Compiler: clang 15.0.7, gcc 14.1.0 (MinGW), and MSVC VS 19.39.33521

To view detailed results, visit:
https://lab.dpdk.org/results/dashboard/patchsets/34207/

UNH-IOL DPDK Community Lab

To manage your email subscriptions, visit: 
https://lab.dpdk.org/results/dashboard/preferences/subscriptions/

  parent reply	other threads:[~2025-10-06  3:33 UTC|newest]

Thread overview: 33+ messages / expand[flat|nested]  mbox.gz  Atom feed  top
     [not found] <20251003102359.823028-2-ciara.loftus@intel.com>
2025-10-03  9:49 ` |SUCCESS| pw157251-157252 [PATCH v2 2/2] net/iavf: add restore command to testpmd qemudev
2025-10-03  9:54 ` qemudev
2025-10-03 10:25 ` |WARNING| pw157252 " checkpatch
2025-10-03 10:53 ` |PENDING| pw157251-157252 [PATCH] [v2,2/2] net/iavf: add restore com dpdklab
2025-10-03 10:54 ` dpdklab
2025-10-03 10:56 ` |SUCCESS| " dpdklab
2025-10-03 11:00 ` dpdklab
2025-10-03 11:02 ` |PENDING| " dpdklab
2025-10-03 11:05 ` dpdklab
2025-10-03 11:14 ` |SUCCESS| " dpdklab
2025-10-03 11:18 ` dpdklab
2025-10-03 11:20 ` dpdklab
2025-10-03 11:25 ` dpdklab
2025-10-03 11:36 ` dpdklab
2025-10-03 11:38 ` dpdklab
2025-10-03 11:39 ` |SUCCESS| pw157252 [PATCH v2 2/2] net/iavf: add restore command to testpmd 0-day Robot
2025-10-03 11:39 ` 0-day Robot
2025-10-03 11:50 ` |SUCCESS| pw157251-157252 [PATCH] [v2,2/2] net/iavf: add restore com dpdklab
2025-10-03 11:51 ` dpdklab
2025-10-03 12:06 ` dpdklab
2025-10-03 12:23 ` dpdklab
2025-10-03 12:48 ` dpdklab
2025-10-03 13:02 ` dpdklab
2025-10-04 12:37 ` dpdklab
2025-10-06  2:14 ` dpdklab
2025-10-06  2:22 ` dpdklab
2025-10-06  3:33 ` dpdklab [this message]
2025-10-06  3:36 ` dpdklab
2025-10-06  3:39 ` dpdklab
2025-10-06  3:56 ` dpdklab
2025-10-06  4:18 ` dpdklab
2025-10-06  4:47 ` dpdklab
2025-10-06  4:59 ` dpdklab

Reply instructions:

You may reply publicly to this message via plain-text email
using any one of the following methods:

* Save the following mbox file, import it into your mail client,
  and reply-to-all from there: mbox

  Avoid top-posting and favor interleaved quoting:
  https://en.wikipedia.org/wiki/Posting_style#Interleaved_style

* Reply using the --to, --cc, and --in-reply-to
  switches of git-send-email(1):

  git send-email \
    --in-reply-to=68e3386d.170a0220.2518a8.35eaSMTPIN_ADDED_MISSING@mx.google.com \
    --to=dpdklab@iol.unh.edu \
    --cc=bruce.richardson@intel.com \
    --cc=dpdk-test-reports@iol.unh.edu \
    --cc=test-report@dpdk.org \
    /path/to/YOUR_REPLY

  https://kernel.org/pub/software/scm/git/docs/git-send-email.html

* If your mail client supports setting the In-Reply-To header
  via mailto: links, try the mailto: link
Be sure your reply has a Subject: header at the top and a blank line before the message body.
This is a public inbox, see mirroring instructions
for how to clone and mirror all data and code used for this inbox;
as well as URLs for NNTP newsgroup(s).