From mboxrd@z Thu Jan 1 00:00:00 1970 Return-Path: Received: from mails.dpdk.org (mails.dpdk.org [217.70.189.124]) by inbox.dpdk.org (Postfix) with ESMTP id 674A9488BF for ; Mon, 6 Oct 2025 05:39:59 +0200 (CEST) Received: from mails.dpdk.org (localhost [127.0.0.1]) by mails.dpdk.org (Postfix) with ESMTP id 424A8402E2; Mon, 6 Oct 2025 05:39:59 +0200 (CEST) Received: from mail-il1-f226.google.com (mail-il1-f226.google.com [209.85.166.226]) by mails.dpdk.org (Postfix) with ESMTP id 84C47402E2 for ; Mon, 6 Oct 2025 05:39:58 +0200 (CEST) Received: by mail-il1-f226.google.com with SMTP id e9e14a558f8ab-424da17e309so48677585ab.2 for ; Sun, 05 Oct 2025 20:39:58 -0700 (PDT) DKIM-Signature: v=1; a=rsa-sha256; c=relaxed/relaxed; d=iol.unh.edu; s=unh-iol; t=1759721998; x=1760326798; darn=dpdk.org; h=references:in-reply-to:cc:to:from:subject:message-id:date:from:to :cc:subject:date:message-id:reply-to; bh=6uzMmqUTJ+UHkmi4YNFD3/iOOD1xqrxmpplDc5BqFXc=; b=ECEYfalBt4Qp9PxcpAfelhxDpqcri1Mp0e3jO2n3Um1bt5CppIhA8EOkfWeYC/DyzR xoL0prwgCESGe4UqzwLGTSAUravx1aeSJ7mkH3QJrVb/Hx/Jh6TTWD8B0T7UJccVPxqz +tVJfT20oeZ+0RhBPzN+P3hFrfiaDAe0Q/0iY= X-Google-DKIM-Signature: v=1; a=rsa-sha256; c=relaxed/relaxed; d=1e100.net; s=20230601; t=1759721998; x=1760326798; h=references:in-reply-to:cc:to:from:subject:message-id:date :x-gm-message-state:from:to:cc:subject:date:message-id:reply-to; bh=6uzMmqUTJ+UHkmi4YNFD3/iOOD1xqrxmpplDc5BqFXc=; b=B14GZEtvG+9S2tqftcWTlwuki6j2ytg/zbqo6kokhVs/rdw6fRs54CHGtK8t/F+ySV PAm2gQJRlryQgJlpXefLjmNA9WgcTQHv6xSOuQmZc/AJYm+abMv4wd+AetziDcAKbYhm zPo5E6lTG3ysIHbv/elLfPPdK7vaO0aV+tU6dv+uak5zMHEon69uSneCywqK9WB2wFPf q8bttjfg/MsdZT2nxH6RXNfpD5iFoSVzV2LJw4CxBtBprr35l5AGTOlgzupSdK/5unHJ rq02YMavsvX1s7JvIVu1yMPGniGGdLomz1mXrs+sjXCCxBYoRbyuXkX76JUwnud98/+t RnCA== X-Gm-Message-State: AOJu0YwsYgnqMK9PPK9c8lDr9rwRXYnhx5WOSOKMWYpuYVLF7WntHIEA p28KKSGObdwZNYOOpyGcubFTlWn4ztQC3FwZWLlOawccoN4OtXLnIMNrEEeJOrvMWXdPu1ql+tf 8+qk9HTCORGbMRJT8S4xbbjU5u/Cehwz1tHpSFiubfTQcwv2VYNAFkKBc6d7V X-Gm-Gg: ASbGncuAnPgd9quRDrwCQkjI8yafuy78iVD7+K7i2EMRqZsvt74/OESWmZCZxFHvKgo +LJHEKYNX3uZwoi4nwj+43lTc8wx80dhtvBUaG7S8CTMWzx+i3U+SCJZvcA81iQHYe19DcgNeLo xPkNYG3mSMCtrfcFLFhIJAJS8qGh8nKJHsbfXcHBoAH1wgnh3pmhFeschD6esSvjbLZi/95VitK fH6ltnTUyVJEzBERlRkqERT5a7E787dgVvD/C9x2CK7loHBPN4vvuwn45OLA1a6avs61gxfwTWt K4eR4tLT/EqlK3OupydGqNRD283/C4kg81nOB417WwHJL9oWeAT4bkk= X-Google-Smtp-Source: AGHT+IEQKAfZ0BXoIl057UuDxVDjJi7NUhHg6Mb64qos5/lypi/o8fYOpf/VFerVhlWKFuKvpfiQacuuUR8f X-Received: by 2002:a05:6e02:b2f:b0:42d:7f24:585a with SMTP id e9e14a558f8ab-42e7ad840b0mr147431445ab.19.1759721997725; Sun, 05 Oct 2025 20:39:57 -0700 (PDT) Received: from postal.iol.unh.edu (postal.iol.unh.edu. [2606:4100:3880:1234::84]) by smtp-relay.gmail.com with ESMTPS id 8926c6da1cb9f-57b5edeb9desm959970173.49.2025.10.05.20.39.57 (version=TLS1_2 cipher=ECDHE-ECDSA-AES128-GCM-SHA256 bits=128/128); Sun, 05 Oct 2025 20:39:57 -0700 (PDT) X-Relaying-Domain: iol.unh.edu Date: Sun, 05 Oct 2025 20:39:57 -0700 (PDT) Message-ID: <68e33a0d.050a0220.2c601d.3e96SMTPIN_ADDED_MISSING@mx.google.com> Received: from [172.21.0.2] (unknown [172.18.0.240]) by postal.iol.unh.edu (Postfix) with ESMTP id 46B9560003EA; Sun, 5 Oct 2025 23:39:57 -0400 (EDT) Subject: |SUCCESS| pw157251-157252 [PATCH] [v2,2/2] net/iavf: add restore com From: dpdklab@iol.unh.edu To: Test Report Cc: dpdk-test-reports@iol.unh.edu, Bruce Richardson In-Reply-To: <20251003102359.823028-2-ciara.loftus@intel.com> References: <20251003102359.823028-2-ciara.loftus@intel.com> Content-Type: text/plain X-BeenThere: test-report@dpdk.org X-Mailman-Version: 2.1.29 Precedence: list List-Id: automatic DPDK test reports List-Unsubscribe: , List-Archive: List-Post: List-Help: List-Subscribe: , Errors-To: test-report-bounces@dpdk.org Test-Label: iol-compile-amd64-testing Test-Status: SUCCESS http://dpdk.org/patch/157252 _Testing PASS_ Submitter: Loftus, Ciara Date: Friday, October 03 2025 10:23:59 DPDK git baseline: Repo:dpdk-next-net-intel Branch: master CommitID:e7d8cc7ef4df3552575525697079d3c957cfcdaf 157251-157252 --> testing pass Upstream job id: Generic-DPDK-Compile-Meson#431349 Test environment and result as below: +-------------------------------+--------------------+-------------------+-------------------------+----------------------+-------------------+------------------+ | Environment | dpdk_meson_compile | dpdk_msvc_compile | dpdk_llvm_clang_compile | dpdk_mingw64_compile | dpdk_compile_spdk | dpdk_compile_ovs | +===============================+====================+===================+=========================+======================+===================+==================+ | Ubuntu 20.04 | PASS | SKIPPED | SKIPPED | SKIPPED | SKIPPED | SKIPPED | +-------------------------------+--------------------+-------------------+-------------------------+----------------------+-------------------+------------------+ | FreeBSD 14.2 | PASS | SKIPPED | SKIPPED | SKIPPED | SKIPPED | SKIPPED | +-------------------------------+--------------------+-------------------+-------------------------+----------------------+-------------------+------------------+ | CentOS Stream 9 | PASS | SKIPPED | SKIPPED | SKIPPED | PASS | SKIPPED | +-------------------------------+--------------------+-------------------+-------------------------+----------------------+-------------------+------------------+ | CentOS Stream 10 | PASS | SKIPPED | SKIPPED | SKIPPED | SKIPPED | SKIPPED | +-------------------------------+--------------------+-------------------+-------------------------+----------------------+-------------------+------------------+ | Debian GNU/Linux 12 | PASS | SKIPPED | SKIPPED | SKIPPED | PASS | SKIPPED | +-------------------------------+--------------------+-------------------+-------------------------+----------------------+-------------------+------------------+ | Fedora Linux 42 | PASS | SKIPPED | SKIPPED | SKIPPED | PASS | PASS | +-------------------------------+--------------------+-------------------+-------------------------+----------------------+-------------------+------------------+ | openSUSE Leap 15.6 | PASS | SKIPPED | SKIPPED | SKIPPED | SKIPPED | SKIPPED | +-------------------------------+--------------------+-------------------+-------------------------+----------------------+-------------------+------------------+ | Red Hat Enterprise Linux 8.10 | PASS | SKIPPED | SKIPPED | SKIPPED | SKIPPED | SKIPPED | +-------------------------------+--------------------+-------------------+-------------------------+----------------------+-------------------+------------------+ | Red Hat Enterprise Linux 9.5 | PASS | SKIPPED | SKIPPED | SKIPPED | SKIPPED | SKIPPED | +-------------------------------+--------------------+-------------------+-------------------------+----------------------+-------------------+------------------+ | Windows Server 2022 | SKIPPED | PASS | PASS | PASS | SKIPPED | SKIPPED | +-------------------------------+--------------------+-------------------+-------------------------+----------------------+-------------------+------------------+ Ubuntu 20.04 Kernel: 4.19 Compiler: gcc gcc (Ubuntu 9.4.0-1ubuntu1~20.04.2) 9.4.0 FreeBSD 14.2 Kernel: 14.2-RELEASE Compiler: clang 18.1.6 CentOS Stream 9 Kernel: 5.15 Compiler: gcc gcc (GCC) 11.5.0 20240719 (Red Hat 11.5.0-11) CentOS Stream 10 Kernel: 5.15 Compiler: gcc gcc (GCC) 14.2.1 20250110 (Red Hat 14.2.1-8) Debian GNU/Linux 12 Kernel: 5.15 Compiler: gcc gcc (Debian 12.2.0-14+deb12u1) 12.2.0 Fedora Linux 42 Kernel: 5.15 Compiler: clang gcc (GCC) 15.2.1 20250808 (Red Hat 15.2.1-1) openSUSE Leap 15.6 Kernel: 5.15 Compiler: gcc gcc (SUSE Linux) 7.5.0 Red Hat Enterprise Linux 8.10 Kernel: 5.15 Compiler: gcc gcc (GCC) 8.5.0 20210514 (Red Hat 8.5.0-22) Red Hat Enterprise Linux 9.5 Kernel: 5.15 Compiler: gcc gcc (GCC) 11.5.0 20240719 (Red Hat 11.5.0-2) Windows Server 2022 Kernel: 10.0.20348.2031 Compiler: clang 15.0.7, gcc 14.1.0 (MinGW), and MSVC VS 19.39.33521 To view detailed results, visit: https://lab.dpdk.org/results/dashboard/patchsets/34207/ UNH-IOL DPDK Community Lab To manage your email subscriptions, visit: https://lab.dpdk.org/results/dashboard/preferences/subscriptions/