From mboxrd@z Thu Jan 1 00:00:00 1970 Return-Path: Received: from mails.dpdk.org (mails.dpdk.org [217.70.189.124]) by inbox.dpdk.org (Postfix) with ESMTP id C28F7488BF for ; Mon, 6 Oct 2025 05:56:05 +0200 (CEST) Received: from mails.dpdk.org (localhost [127.0.0.1]) by mails.dpdk.org (Postfix) with ESMTP id 9967C402E2; Mon, 6 Oct 2025 05:56:05 +0200 (CEST) Received: from mail-qv1-f98.google.com (mail-qv1-f98.google.com [209.85.219.98]) by mails.dpdk.org (Postfix) with ESMTP id 76844402E2 for ; Mon, 6 Oct 2025 05:56:04 +0200 (CEST) Received: by mail-qv1-f98.google.com with SMTP id 6a1803df08f44-78f15d5846dso53683216d6.0 for ; Sun, 05 Oct 2025 20:56:04 -0700 (PDT) DKIM-Signature: v=1; a=rsa-sha256; c=relaxed/relaxed; d=iol.unh.edu; s=unh-iol; t=1759722964; x=1760327764; darn=dpdk.org; h=references:in-reply-to:cc:to:from:subject:message-id:date:from:to :cc:subject:date:message-id:reply-to; bh=JLuNsWc1Sls3SOe2oI+OAEVhVWxSbQbZvxkvum+wOvc=; b=Z4EZOLzb3pmUv2cqc7KDV1iwxBsr+yjU+MwEsmuKqkXq8dRPbHiNWQ03HoN8oix742 0YQ9ufjL2wVSVrEBmvXhR2EXgj/RSV/MNw/tgviytOJsV951ZdV+kdztIdY53WWwpqKR AKCfXDzdoz9YpR/NI2KxJOdX2Y7D5mbfBTbxY= X-Google-DKIM-Signature: v=1; a=rsa-sha256; c=relaxed/relaxed; d=1e100.net; s=20230601; t=1759722964; x=1760327764; h=references:in-reply-to:cc:to:from:subject:message-id:date :x-gm-message-state:from:to:cc:subject:date:message-id:reply-to; bh=JLuNsWc1Sls3SOe2oI+OAEVhVWxSbQbZvxkvum+wOvc=; b=g1p9tWKCMPrRCP072suYlUrWRIaN1vz2DSF0nTZ/JUJncKmmy693jDyuEy96HH5c4H IxeUVY3dAxBa1zckDTvZqPr6OmP4gztj+OK0Twn6p4Y5etkXEtxAERTKRKMXQxWx2C0q AwNca3ZsxGnTcwn1m6IVC78M+t+v5WQbmnRfZbBakUkC3f6VyuzmW5894yf9dY+5HbdJ Phay0GNi6E2Hx4GnKMTvb6iPBkm/cy8w35iKlM46mNkV0CtCUtf/cJf+PqygHqPl78O0 QZbA8kcSHreP7X7jdnh33Wh2QddGHmC4rvqnuoGIuLFQ7xh5RfORkg9fCyk41YpAsTcL C7kg== X-Gm-Message-State: AOJu0YwuJY6mKUX+ZNjK6Okvee+qd5guMyrITrBRd3iBi/kpB/9s1ECB yqKE8pzDYrGqraGf0it9Que2lDIFT2ut92jOlrfXI62kXdqyqQalmnCViOWRIlosbS5GNvAcFIf 0qp8AkhRy5D3Azc0Au9CcnX2jALdtmFIXSEF1tR16T5wC X-Gm-Gg: ASbGncspUHQ5Nop2+ZBCC6ylzb4eI4c+jqQXM+DdUEMJMrpj8Vm9ffziGdSta+Oi17U HzNb9SWwM8U/2x4Xi2Al+XlrtmdIimCq1k4q5KUobyc3qaq7Uonm6MCSWtgC5NqMOYcJIrKqF9S PLmqHXvY2LtyAYJzPgmbNK0Y192Mm7DVn0Hl0YaTOWSpDQ/BrqGaKUDHGCms2l0i0HYiuL3f9ax H9ps8tD/gIeRpC57L9ZOQRHYe+IO0HpkZ0CALjvVUIolo8GoZUQjs3YD1UobtYGIKqgFrBtpO+V on9EbYpXg6elZXu4iYrlEMmwwdXv/IYl97eMezCrBKB6VP8+jLylAvEveIcP9L4NDtMrkzjywjp rpQ== X-Google-Smtp-Source: AGHT+IHbn5WXH53TR0faocSsKZYeRsUHOQ4pZhVZJe9YpFJCoJTaweYahuWgM2EBCpaq4DAFVhbqxizUrDuO X-Received: by 2002:ad4:5b8d:0:b0:80c:2633:4831 with SMTP id 6a1803df08f44-879dc7c2698mr159427866d6.18.1759722963640; Sun, 05 Oct 2025 20:56:03 -0700 (PDT) Received: from postal.iol.unh.edu (postal.iol.unh.edu. [132.177.123.84]) by smtp-relay.gmail.com with ESMTPS id 6a1803df08f44-878b5adfee6sm10404236d6.0.2025.10.05.20.56.03 (version=TLS1_2 cipher=ECDHE-ECDSA-AES128-GCM-SHA256 bits=128/128); Sun, 05 Oct 2025 20:56:03 -0700 (PDT) X-Relaying-Domain: iol.unh.edu Date: Sun, 05 Oct 2025 20:56:03 -0700 (PDT) Message-ID: <68e33dd3.050a0220.3b0b95.8331SMTPIN_ADDED_MISSING@mx.google.com> Received: from [172.21.0.3] (unknown [172.18.0.240]) by postal.iol.unh.edu (Postfix) with ESMTP id 4FFF66051830; Sun, 5 Oct 2025 23:56:03 -0400 (EDT) Subject: |SUCCESS| pw157251-157252 [PATCH] [v2,2/2] net/iavf: add restore com From: dpdklab@iol.unh.edu To: Test Report Cc: dpdk-test-reports@iol.unh.edu, Bruce Richardson In-Reply-To: <20251003102359.823028-2-ciara.loftus@intel.com> References: <20251003102359.823028-2-ciara.loftus@intel.com> Content-Type: text/plain X-BeenThere: test-report@dpdk.org X-Mailman-Version: 2.1.29 Precedence: list List-Id: automatic DPDK test reports List-Unsubscribe: , List-Archive: List-Post: List-Help: List-Subscribe: , Errors-To: test-report-bounces@dpdk.org Test-Label: iol-compile-amd64-testing Test-Status: SUCCESS http://dpdk.org/patch/157252 _Testing PASS_ Submitter: Loftus, Ciara Date: Friday, October 03 2025 10:23:59 DPDK git baseline: Repo:dpdk-next-net-intel Branch: master CommitID:e7d8cc7ef4df3552575525697079d3c957cfcdaf 157251-157252 --> testing pass Upstream job id: Generic-DPDK-Compile-Meson#431351 Test environment and result as below: +-------------------------------+--------------------+-------------------+-------------------------+----------------------+-------------------+------------------+ | Environment | dpdk_meson_compile | dpdk_msvc_compile | dpdk_llvm_clang_compile | dpdk_mingw64_compile | dpdk_compile_spdk | dpdk_compile_ovs | +===============================+====================+===================+=========================+======================+===================+==================+ | Ubuntu 20.04 | PASS | SKIPPED | SKIPPED | SKIPPED | SKIPPED | SKIPPED | +-------------------------------+--------------------+-------------------+-------------------------+----------------------+-------------------+------------------+ | FreeBSD 14.2 | PASS | SKIPPED | SKIPPED | SKIPPED | SKIPPED | SKIPPED | +-------------------------------+--------------------+-------------------+-------------------------+----------------------+-------------------+------------------+ | CentOS Stream 9 | PASS | SKIPPED | SKIPPED | SKIPPED | PASS | SKIPPED | +-------------------------------+--------------------+-------------------+-------------------------+----------------------+-------------------+------------------+ | CentOS Stream 10 | PASS | SKIPPED | SKIPPED | SKIPPED | SKIPPED | SKIPPED | +-------------------------------+--------------------+-------------------+-------------------------+----------------------+-------------------+------------------+ | Debian GNU/Linux 12 | PASS | SKIPPED | SKIPPED | SKIPPED | PASS | SKIPPED | +-------------------------------+--------------------+-------------------+-------------------------+----------------------+-------------------+------------------+ | Fedora Linux 42 | PASS | SKIPPED | SKIPPED | SKIPPED | PASS | PASS | +-------------------------------+--------------------+-------------------+-------------------------+----------------------+-------------------+------------------+ | openSUSE Leap 15.6 | PASS | SKIPPED | SKIPPED | SKIPPED | SKIPPED | SKIPPED | +-------------------------------+--------------------+-------------------+-------------------------+----------------------+-------------------+------------------+ | Red Hat Enterprise Linux 8.10 | PASS | SKIPPED | SKIPPED | SKIPPED | SKIPPED | SKIPPED | +-------------------------------+--------------------+-------------------+-------------------------+----------------------+-------------------+------------------+ | Red Hat Enterprise Linux 9.5 | PASS | SKIPPED | SKIPPED | SKIPPED | SKIPPED | SKIPPED | +-------------------------------+--------------------+-------------------+-------------------------+----------------------+-------------------+------------------+ | Ubuntu 22.04 | PASS | SKIPPED | SKIPPED | SKIPPED | PASS | SKIPPED | +-------------------------------+--------------------+-------------------+-------------------------+----------------------+-------------------+------------------+ | Windows Server 2022 | SKIPPED | PASS | PASS | PASS | SKIPPED | SKIPPED | +-------------------------------+--------------------+-------------------+-------------------------+----------------------+-------------------+------------------+ Ubuntu 20.04 Kernel: 4.19 Compiler: gcc gcc (Ubuntu 9.4.0-1ubuntu1~20.04.2) 9.4.0 FreeBSD 14.2 Kernel: 14.2-RELEASE Compiler: clang 18.1.6 CentOS Stream 9 Kernel: 5.15 Compiler: gcc gcc (GCC) 11.5.0 20240719 (Red Hat 11.5.0-11) CentOS Stream 10 Kernel: 5.15 Compiler: gcc gcc (GCC) 14.2.1 20250110 (Red Hat 14.2.1-8) Debian GNU/Linux 12 Kernel: 5.15 Compiler: gcc gcc (Debian 12.2.0-14+deb12u1) 12.2.0 Fedora Linux 42 Kernel: 5.15 Compiler: clang gcc (GCC) 15.2.1 20250808 (Red Hat 15.2.1-1) openSUSE Leap 15.6 Kernel: 5.15 Compiler: gcc gcc (SUSE Linux) 7.5.0 Red Hat Enterprise Linux 8.10 Kernel: 5.15 Compiler: gcc gcc (GCC) 8.5.0 20210514 (Red Hat 8.5.0-22) Red Hat Enterprise Linux 9.5 Kernel: 5.15 Compiler: gcc gcc (GCC) 11.5.0 20240719 (Red Hat 11.5.0-2) Ubuntu 22.04 Kernel: 5.15 Compiler: gcc gcc (Ubuntu 11.4.0-1ubuntu1~22.04) 11.4.0 Windows Server 2022 Kernel: 10.0.20348.2031 Compiler: clang 15.0.7, gcc 14.1.0 (MinGW), and MSVC VS 19.39.33521 To view detailed results, visit: https://lab.dpdk.org/results/dashboard/patchsets/34207/ UNH-IOL DPDK Community Lab To manage your email subscriptions, visit: https://lab.dpdk.org/results/dashboard/preferences/subscriptions/