From mboxrd@z Thu Jan 1 00:00:00 1970 Return-Path: Received: from mails.dpdk.org (mails.dpdk.org [217.70.189.124]) by inbox.dpdk.org (Postfix) with ESMTP id A3C82488BF for ; Mon, 6 Oct 2025 06:15:01 +0200 (CEST) Received: from mails.dpdk.org (localhost [127.0.0.1]) by mails.dpdk.org (Postfix) with ESMTP id 7DB9B402E2; Mon, 6 Oct 2025 06:15:01 +0200 (CEST) Received: from mail-ot1-f100.google.com (mail-ot1-f100.google.com [209.85.210.100]) by mails.dpdk.org (Postfix) with ESMTP id 78D24402E2 for ; Mon, 6 Oct 2025 06:14:59 +0200 (CEST) Received: by mail-ot1-f100.google.com with SMTP id 46e09a7af769-7827025e548so1891101a34.2 for ; Sun, 05 Oct 2025 21:14:59 -0700 (PDT) DKIM-Signature: v=1; a=rsa-sha256; c=relaxed/relaxed; d=iol.unh.edu; s=unh-iol; t=1759724098; x=1760328898; darn=dpdk.org; h=cc:to:from:subject:message-id:date:from:to:cc:subject:date :message-id:reply-to; bh=ZfqsoALuu9j2c78nVQwwWGd1sSSg0qZE6vHHPs1XLwA=; b=ie2WB5dwGw2wiGmkbo/RB4r5Zkj6VjHkRvnKZnKavt/dD1W9effiLKvmtn6ofzouTo L25XA7O958FW71QTK2KZWmGcSMxzaDEpcacu8lbf/qEbLS1CUsOybqkQ5lmn8wfp1X1d 6fbS8TIkS93IxC/OqfhXyFYkyQgTT2N2UUGQ4= X-Google-DKIM-Signature: v=1; a=rsa-sha256; c=relaxed/relaxed; d=1e100.net; s=20230601; t=1759724098; x=1760328898; h=cc:to:from:subject:message-id:date:x-gm-message-state:from:to:cc :subject:date:message-id:reply-to; bh=ZfqsoALuu9j2c78nVQwwWGd1sSSg0qZE6vHHPs1XLwA=; b=Q8IQG/fDbmOJ0f3K9FP/l85VXLcEjSE2MkGGMkoRcznoSopGs6mSlfaFXC7c+MD32O JgSzMmmzpB54EFCNe6yX0ZubQnfIjsjLvN4YYxlejcRD7VU1NZlj01Sp6CuGinXmY4ew NxJKX4V+lyEgnDu5hSv7vqZ8g5/00tnGPd/dulaPUefDzqSLkXvwiSIChwwHXZ/l0Y+D UGR35cH9uvkyc1MhteusaEL7T/rBuR+pzwWmYbyUT3zvfd1dztnfQyLugDnb9btM/g7Y oJsFgWSjQhAfZ2A3QY5Q5WajCNGqYIi4pdXTyprDFgZFdH0fVJMmi19Fo+cRmccmYJpy sggQ== X-Gm-Message-State: AOJu0YxoTuUXAoyN4H5yKwlWg2HjOTeEMQkXMTdYV8McRiDOiaQdL/EV 8kw4PVUefQZafahHZGTFMEgYrG99H1tFFEDUfSTK3s0JRFcIcR4Aib7bxm5533jQ4yKfTbv7ogP 05nWBCgTOXyt2tf19OARiXlPQO0ep9U11cAe7h7CwC6S3hTZLrc+1 X-Gm-Gg: ASbGncsqAoQK1c2xfVQVrSs1s+fzRn3HJbXwusLG9m591MlaQeigjudXbEH7yNr18iN qlJiPXkqBAGwfIEjp+pQtMbQoJYelJrGenaLAMznsNtjMoSyjjkHxBSlQEEyEAbJJIC7aoJGshc 6KTRjZnRsQeEvA4gsu/3CtWPE+z+IY7SVk7LhEYyBSEP0V9CLd2QtjJcBwHJHKK4WnlLFZuhg2E 6CdaCPD2KeSzbo/GB3j2TA9W5DFe9Qju+/SONdXPshaFjhGH5BBlY9X6GJ1/ZNth40afQjzykNH had8lFu0mHZlGZFHR4mK3kMF1NJCcqtbS3XSDNzu1fZBjXxiJlhQrbo= X-Google-Smtp-Source: AGHT+IG4SgaaWJ9bdCFNTQjFmCtcG1HvKgzkeUmUphI31H29zVGnFoLbKUfscxCXViAzFp0DjTQWYQx98DpO X-Received: by 2002:a05:6871:82b:b0:322:5c2d:58c9 with SMTP id 586e51a60fabf-3b0f92bae59mr5658543fac.24.1759724098533; Sun, 05 Oct 2025 21:14:58 -0700 (PDT) Received: from postal.iol.unh.edu (postal.iol.unh.edu. [2606:4100:3880:1234::84]) by smtp-relay.gmail.com with ESMTPS id 586e51a60fabf-3ab7d51305esm929870fac.7.2025.10.05.21.14.58 (version=TLS1_2 cipher=ECDHE-ECDSA-AES128-GCM-SHA256 bits=128/128); Sun, 05 Oct 2025 21:14:58 -0700 (PDT) X-Relaying-Domain: iol.unh.edu Date: Sun, 05 Oct 2025 21:14:58 -0700 (PDT) Message-ID: <68e34242.050a0220.db86f.2fa2SMTPIN_ADDED_MISSING@mx.google.com> Received: from [172.21.0.2] (unknown [172.18.0.240]) by postal.iol.unh.edu (Postfix) with ESMTP id 252E66051830; Mon, 6 Oct 2025 00:14:58 -0400 (EDT) Subject: |SUCCESS| [GIT MASTER] 3b43ce3f4a54468e7ef65760c2fd7b4d6ee6d9fc From: dpdklab@iol.unh.edu To: Test Report Cc: dpdk-test-reports@iol.unh.edu, Xueming Li , Christian Ehrhardt , Kevin Traynor , Luca Boccassi Content-Type: text/plain X-BeenThere: test-report@dpdk.org X-Mailman-Version: 2.1.29 Precedence: list List-Id: automatic DPDK test reports List-Unsubscribe: , List-Archive: List-Post: List-Help: List-Subscribe: , Errors-To: test-report-bounces@dpdk.org _Testing PASS_ Branch: tags/v22.11 3b43ce3f4a54468e7ef65760c2fd7b4d6ee6d9fc --> testing pass Upstream job id: Windows-Compile-DPDK-Native#31431 Test environment and result as below: +---------------------+--------------------+-------------------------+ | Environment | dpdk_meson_compile | dpdk_llvm_clang_compile | +=====================+====================+=========================+ | FreeBSD 14.2 | PASS | SKIPPED | +---------------------+--------------------+-------------------------+ | Ubuntu 20.04 | PASS | SKIPPED | +---------------------+--------------------+-------------------------+ | Windows Server 2022 | SKIPPED | PASS | +---------------------+--------------------+-------------------------+ FreeBSD 14.2 Kernel: 14.2-RELEASE Compiler: clang 18.1.6 Ubuntu 20.04 Kernel: 4.19 Compiler: gcc gcc (Ubuntu 9.4.0-1ubuntu1~20.04.2) 9.4.0 Windows Server 2022 Kernel: 10.0.20348.2031 Compiler: clang 15.0.7, gcc 14.1.0 (MinGW), and MSVC VS 19.39.33521 To view detailed results, visit: https://lab.dpdk.org/results/dashboard/tarballs/35113/ UNH-IOL DPDK Community Lab To manage your email subscriptions, visit: https://lab.dpdk.org/results/dashboard/preferences/subscriptions/