From mboxrd@z Thu Jan 1 00:00:00 1970 Return-Path: Received: from mails.dpdk.org (mails.dpdk.org [217.70.189.124]) by inbox.dpdk.org (Postfix) with ESMTP id D7CC9488BF for ; Mon, 6 Oct 2025 06:17:23 +0200 (CEST) Received: from mails.dpdk.org (localhost [127.0.0.1]) by mails.dpdk.org (Postfix) with ESMTP id D1714402E2; Mon, 6 Oct 2025 06:17:23 +0200 (CEST) Received: from mail-il1-f225.google.com (mail-il1-f225.google.com [209.85.166.225]) by mails.dpdk.org (Postfix) with ESMTP id D263D402E2 for ; Mon, 6 Oct 2025 06:17:22 +0200 (CEST) Received: by mail-il1-f225.google.com with SMTP id e9e14a558f8ab-42f67e91ae7so18032155ab.0 for ; Sun, 05 Oct 2025 21:17:22 -0700 (PDT) DKIM-Signature: v=1; a=rsa-sha256; c=relaxed/relaxed; d=iol.unh.edu; s=unh-iol; t=1759724242; x=1760329042; darn=dpdk.org; h=cc:to:from:subject:message-id:date:from:to:cc:subject:date :message-id:reply-to; bh=ZDLq7ieZ7YaWHUWnFnDtBtE0aLjytMuIfryuliGVg5M=; b=Ne8relWY7WK3YHr6V0MSvADLiRAI19JT6C1NcKD5aXR50YcHLCou+gp8zf6isIgTcR E0CP7qmsVEDFUbrvXhJUnjsfEod2q5rlHa/JkL5ojQV5mVItOEo5IRqb1QbaoZMXvjfv o3loqO9XArjVQjb7MY8gZj9WZlpznlmFk6WeI= X-Google-DKIM-Signature: v=1; a=rsa-sha256; c=relaxed/relaxed; d=1e100.net; s=20230601; t=1759724242; x=1760329042; h=cc:to:from:subject:message-id:date:x-gm-message-state:from:to:cc :subject:date:message-id:reply-to; bh=ZDLq7ieZ7YaWHUWnFnDtBtE0aLjytMuIfryuliGVg5M=; b=SlCS7MySj3njwm8yLUrf2Ur6bixj1SFzVT4VPVAU8SR52gC6QGhzOvxEHxup2+h8GI j8D81vFGIay9wE7RGeXd78aqzbm5z2KEH2t66KJyK+a/1PxFYr277zqPl6NH3vn/xZdL GZurBUTTVJy1oN9QvbMdCdLIv29UlJgdZXhBLv2GTA09flLm6Gh4cuBA67kmDzuH9IVg tPDJmHjyYKMo8JtxMkbeDazlXnIx56Kn3/DwXFyTwWQZ9rjFkDvQBDH7pJ7/DvDs/dpf 9Vt7sfNDvtvlFOmXUuWj119nh7zIIsFcE2w0OOskChvGpNJ3dXsxWPPsbm1B+xokuPn+ AH/Q== X-Gm-Message-State: AOJu0YxD6rsHu1Lrch5U/bUuqw97x++40lMCzaJSibKjwc47flexc3ZO GKit1uLOwgQry3mtcXOrfWH2ADEk4WQ6oBYZnbRRS41EA/NW54kEv3anwGBQEKzXVQqFMXLQQGy QdE8j2wv4gVHWuOa2HyTFW3WDg2UfOs1wRZmn19jE8ePEs79oBzvb X-Gm-Gg: ASbGncss2txq/78rCp+1wsYCaolTW1FDByFyt3vTFIJxNL0nCuMZikJOEkESnnMESHv Cb7TxYlo+d0BRA1UMlt3TFwnc3SpCofqvWybOnq69716TSfdbebjLoBhbjHhXgKkOk3ffuUd35u /NOqhiCDa64INC3x98bxut0ubw5nQNbzpB3X9pMyZ8yt4MCHAtyvFtVwpLUutGIf7T53XgFVbw/ j3hix6EAICyD1UdryMdPzZyxmJdnBlyuqv3Y4NMLsqQE808gBdJAtoF340FrwkTd+5w0R0kUcbP OSLfK5bIPt2pFUfg1n/ViM+IoaUQoym0T7vZgKLw1A1DQoeXZSDFbOY= X-Google-Smtp-Source: AGHT+IEVyHRclDv+miqUW9zT3iprpWxahUf2r3yW24Y6cOJTD8tioFohmcYFT5BIf4syLQYwmLbHixCKOAN+ X-Received: by 2002:a05:6e02:b47:b0:42e:d74:726e with SMTP id e9e14a558f8ab-42e7adaec2amr152451595ab.27.1759724242192; Sun, 05 Oct 2025 21:17:22 -0700 (PDT) Received: from postal.iol.unh.edu (postal.iol.unh.edu. [2606:4100:3880:1234::84]) by smtp-relay.gmail.com with ESMTPS id 8926c6da1cb9f-57b5eb02709sm957142173.18.2025.10.05.21.17.22 (version=TLS1_2 cipher=ECDHE-ECDSA-AES128-GCM-SHA256 bits=128/128); Sun, 05 Oct 2025 21:17:22 -0700 (PDT) X-Relaying-Domain: iol.unh.edu Date: Sun, 05 Oct 2025 21:17:22 -0700 (PDT) Message-ID: <68e342d2.050a0220.1ac8bf.40dfSMTPIN_ADDED_MISSING@mx.google.com> Received: from [172.21.0.4] (unknown [172.18.0.240]) by postal.iol.unh.edu (Postfix) with ESMTP id D26166051830; Mon, 6 Oct 2025 00:17:21 -0400 (EDT) Subject: |SUCCESS| [GIT MASTER] 3b43ce3f4a54468e7ef65760c2fd7b4d6ee6d9fc From: dpdklab@iol.unh.edu To: Test Report Cc: dpdk-test-reports@iol.unh.edu, Xueming Li , Christian Ehrhardt , Kevin Traynor , Luca Boccassi Content-Type: text/plain X-BeenThere: test-report@dpdk.org X-Mailman-Version: 2.1.29 Precedence: list List-Id: automatic DPDK test reports List-Unsubscribe: , List-Archive: List-Post: List-Help: List-Subscribe: , Errors-To: test-report-bounces@dpdk.org _Testing PASS_ Branch: tags/v22.11 3b43ce3f4a54468e7ef65760c2fd7b4d6ee6d9fc --> testing pass Upstream job id: Windows-Compile-DPDK-Native#31432 Test environment and result as below: +---------------------+--------------------+-------------------------+----------------------+ | Environment | dpdk_meson_compile | dpdk_llvm_clang_compile | dpdk_mingw64_compile | +=====================+====================+=========================+======================+ | FreeBSD 14.2 | PASS | SKIPPED | SKIPPED | +---------------------+--------------------+-------------------------+----------------------+ | Ubuntu 20.04 | PASS | SKIPPED | SKIPPED | +---------------------+--------------------+-------------------------+----------------------+ | Windows Server 2022 | SKIPPED | PASS | PASS | +---------------------+--------------------+-------------------------+----------------------+ FreeBSD 14.2 Kernel: 14.2-RELEASE Compiler: clang 18.1.6 Ubuntu 20.04 Kernel: 4.19 Compiler: gcc gcc (Ubuntu 9.4.0-1ubuntu1~20.04.2) 9.4.0 Windows Server 2022 Kernel: 10.0.20348.2031 Compiler: clang 15.0.7, gcc 14.1.0 (MinGW), and MSVC VS 19.39.33521 To view detailed results, visit: https://lab.dpdk.org/results/dashboard/tarballs/35113/ UNH-IOL DPDK Community Lab To manage your email subscriptions, visit: https://lab.dpdk.org/results/dashboard/preferences/subscriptions/