From mboxrd@z Thu Jan 1 00:00:00 1970 Return-Path: Received: from mails.dpdk.org (mails.dpdk.org [217.70.189.124]) by inbox.dpdk.org (Postfix) with ESMTP id 1A3A3488BF for ; Mon, 6 Oct 2025 06:18:14 +0200 (CEST) Received: from mails.dpdk.org (localhost [127.0.0.1]) by mails.dpdk.org (Postfix) with ESMTP id 1605B402E2; Mon, 6 Oct 2025 06:18:14 +0200 (CEST) Received: from mail-il1-f225.google.com (mail-il1-f225.google.com [209.85.166.225]) by mails.dpdk.org (Postfix) with ESMTP id CC987402E2 for ; Mon, 6 Oct 2025 06:18:12 +0200 (CEST) Received: by mail-il1-f225.google.com with SMTP id e9e14a558f8ab-42d8ad71a51so53960815ab.1 for ; Sun, 05 Oct 2025 21:18:12 -0700 (PDT) DKIM-Signature: v=1; a=rsa-sha256; c=relaxed/relaxed; d=iol.unh.edu; s=unh-iol; t=1759724292; x=1760329092; darn=dpdk.org; h=references:in-reply-to:cc:to:from:subject:message-id:date:from:to :cc:subject:date:message-id:reply-to; bh=YH0fDZ1PjGlfqn+R9xHZJmp0VymZ+mmxFV0YY+Rg+nY=; b=aFgc4cy3jbOIx3ZHSEoTB+JxaWvPZSb0hk4oOW5w9RjylGZ4dJvqaBGybBSXzz00DE 1EB1gGKXSpKqlbIPxDmqQ/eN5drIicFBrq4+IP3jxNSsDqeHNU0z1V6Bn/vOPR9wFnSg XwaaZdrBk4KvFMR07a+vkIJ2bNY6qMop79KNY= X-Google-DKIM-Signature: v=1; a=rsa-sha256; c=relaxed/relaxed; d=1e100.net; s=20230601; t=1759724292; x=1760329092; h=references:in-reply-to:cc:to:from:subject:message-id:date :x-gm-message-state:from:to:cc:subject:date:message-id:reply-to; bh=YH0fDZ1PjGlfqn+R9xHZJmp0VymZ+mmxFV0YY+Rg+nY=; b=AUiWl/3QLlysHF0up63LxCyrO1dgTaLfHvvSnSinReObDKK4bTl4KLoqhzwf2ZJoNP l2W/aemONvWFRXY0r/H0BARtq3YW+gJMg8Bv0se6vA1zJCQBFuUtiwFS+WhMfAC7ARMH DPvPpU4G2Q7qnWmv+zg2LWObuHFec5viuRCG2ei/u6nHRSL8nChaZH/exJWvnBm0CsWi mma/qCPQl3FftixI2DaYvnCHS30CLGkARb5NAPzG7FO+xXl8VfaCIYzhD16lRPzqYXF2 CYmh3whXxy/oKfzeN1AGWIwRdhcfma2bdNgo4OMAzVw5MIkD6Hgc3nNuYhFuvWmuPTsv MMpA== X-Gm-Message-State: AOJu0YwBuG0uzu4p2y5W+jgjy3eNP4Ua3TsgfQANCrTfsOlxEIrWMbe2 JVHh/BW99Iot+IPCaLiCIcY3RdenI6X52K3xw6HZSpr8AaZ68reIpdmhvYlp7FD7sUDdm3cmO/l AeIdnImcUIHznlGKaYMQGmUJ1SsPdIzQpww9qtCIIZFMS X-Gm-Gg: ASbGncu8tvnM0E0iDaabRQ6t7xq5CLs3AYrSrht4qg5oiHfh0t3W3RRiotzpMfUpZYh p2PM3RUxjRRyjrBRx6j6tekWvfpZmbDWnFPyLSr+Hns2Zuv4rpXSQf+cjoZ4ZPwJDjWc5JXs/1b B1QGwG74wirItciDDwrL4YJw5+CFk6YW8hpaBsW0yyETpjy8Ufhtt2lgwgHCIvMEI8BRFWbLE+w 53aLYgKN2ryAmg29HNWX7pw9F7yPBEpegkSoZgt8S7+ZLOg8MO9zIK3ZM4SttrTtlpikbpge4C5 6JwgnTVcY4CBbUkCVnusTgaDeoIkIF9H7WDWlEvuqT+eqZxDgqKCWB3jd7OnmVtx9yBwMcQGsTT aeQ== X-Google-Smtp-Source: AGHT+IG3IACvUGbr2EPS0CYEUZP8cU93HUFLBFJTTQ7bkuFVgvUehyB0uETJlKw6h7quAAOqIH7jq4K5+FiH X-Received: by 2002:a05:6e02:1aa7:b0:427:d82b:1f36 with SMTP id e9e14a558f8ab-42e7adb3bb3mr178672815ab.32.1759724292194; Sun, 05 Oct 2025 21:18:12 -0700 (PDT) Received: from postal.iol.unh.edu (postal.iol.unh.edu. [132.177.123.84]) by smtp-relay.gmail.com with ESMTPS id 8926c6da1cb9f-57b5eddf6ebsm970660173.46.2025.10.05.21.18.12 (version=TLS1_2 cipher=ECDHE-ECDSA-AES128-GCM-SHA256 bits=128/128); Sun, 05 Oct 2025 21:18:12 -0700 (PDT) X-Relaying-Domain: iol.unh.edu Date: Sun, 05 Oct 2025 21:18:12 -0700 (PDT) Message-ID: <68e34304.050a0220.366dad.4c4cSMTPIN_ADDED_MISSING@mx.google.com> Received: from [172.21.0.3] (unknown [172.18.0.240]) by postal.iol.unh.edu (Postfix) with ESMTP id BF2DD6051830; Mon, 6 Oct 2025 00:18:11 -0400 (EDT) Subject: |SUCCESS| pw157251-157252 [PATCH] [v2,2/2] net/iavf: add restore com From: dpdklab@iol.unh.edu To: Test Report Cc: dpdk-test-reports@iol.unh.edu, Bruce Richardson In-Reply-To: <20251003102359.823028-2-ciara.loftus@intel.com> References: <20251003102359.823028-2-ciara.loftus@intel.com> Content-Type: text/plain X-BeenThere: test-report@dpdk.org X-Mailman-Version: 2.1.29 Precedence: list List-Id: automatic DPDK test reports List-Unsubscribe: , List-Archive: List-Post: List-Help: List-Subscribe: , Errors-To: test-report-bounces@dpdk.org Test-Label: iol-compile-amd64-testing Test-Status: SUCCESS http://dpdk.org/patch/157252 _Testing PASS_ Submitter: Loftus, Ciara Date: Friday, October 03 2025 10:23:59 DPDK git baseline: Repo:dpdk-next-net-intel Branch: master CommitID:e7d8cc7ef4df3552575525697079d3c957cfcdaf 157251-157252 --> testing pass Upstream job id: Generic-DPDK-Compile-Meson#431353 Test environment and result as below: +-------------------------------+--------------------+-------------------+-------------------------+----------------------+-------------------+------------------+ | Environment | dpdk_meson_compile | dpdk_msvc_compile | dpdk_llvm_clang_compile | dpdk_mingw64_compile | dpdk_compile_spdk | dpdk_compile_ovs | +===============================+====================+===================+=========================+======================+===================+==================+ | Ubuntu 20.04 | PASS | SKIPPED | SKIPPED | SKIPPED | SKIPPED | SKIPPED | +-------------------------------+--------------------+-------------------+-------------------------+----------------------+-------------------+------------------+ | FreeBSD 14.2 | PASS | SKIPPED | SKIPPED | SKIPPED | SKIPPED | SKIPPED | +-------------------------------+--------------------+-------------------+-------------------------+----------------------+-------------------+------------------+ | CentOS Stream 9 | PASS | SKIPPED | SKIPPED | SKIPPED | PASS | SKIPPED | +-------------------------------+--------------------+-------------------+-------------------------+----------------------+-------------------+------------------+ | CentOS Stream 10 | PASS | SKIPPED | SKIPPED | SKIPPED | SKIPPED | SKIPPED | +-------------------------------+--------------------+-------------------+-------------------------+----------------------+-------------------+------------------+ | Debian GNU/Linux 12 | PASS | SKIPPED | SKIPPED | SKIPPED | PASS | SKIPPED | +-------------------------------+--------------------+-------------------+-------------------------+----------------------+-------------------+------------------+ | Fedora Linux 42 | PASS | SKIPPED | SKIPPED | SKIPPED | PASS | PASS | +-------------------------------+--------------------+-------------------+-------------------------+----------------------+-------------------+------------------+ | openSUSE Leap 15.6 | PASS | SKIPPED | SKIPPED | SKIPPED | SKIPPED | SKIPPED | +-------------------------------+--------------------+-------------------+-------------------------+----------------------+-------------------+------------------+ | Red Hat Enterprise Linux 8.10 | PASS | SKIPPED | SKIPPED | SKIPPED | SKIPPED | SKIPPED | +-------------------------------+--------------------+-------------------+-------------------------+----------------------+-------------------+------------------+ | Red Hat Enterprise Linux 9.5 | PASS | SKIPPED | SKIPPED | SKIPPED | SKIPPED | SKIPPED | +-------------------------------+--------------------+-------------------+-------------------------+----------------------+-------------------+------------------+ | Ubuntu 22.04 | PASS | SKIPPED | SKIPPED | SKIPPED | PASS | SKIPPED | +-------------------------------+--------------------+-------------------+-------------------------+----------------------+-------------------+------------------+ | Ubuntu 24.04 | PASS | SKIPPED | SKIPPED | SKIPPED | PASS | PASS | +-------------------------------+--------------------+-------------------+-------------------------+----------------------+-------------------+------------------+ | Windows Server 2022 | SKIPPED | PASS | PASS | PASS | SKIPPED | SKIPPED | +-------------------------------+--------------------+-------------------+-------------------------+----------------------+-------------------+------------------+ Ubuntu 20.04 Kernel: 4.19 Compiler: gcc gcc (Ubuntu 9.4.0-1ubuntu1~20.04.2) 9.4.0 FreeBSD 14.2 Kernel: 14.2-RELEASE Compiler: clang 18.1.6 CentOS Stream 9 Kernel: 5.15 Compiler: gcc gcc (GCC) 11.5.0 20240719 (Red Hat 11.5.0-11) CentOS Stream 10 Kernel: 5.15 Compiler: gcc gcc (GCC) 14.2.1 20250110 (Red Hat 14.2.1-8) Debian GNU/Linux 12 Kernel: 5.15 Compiler: gcc gcc (Debian 12.2.0-14+deb12u1) 12.2.0 Fedora Linux 42 Kernel: 5.15 Compiler: clang gcc (GCC) 15.2.1 20250808 (Red Hat 15.2.1-1) openSUSE Leap 15.6 Kernel: 5.15 Compiler: gcc gcc (SUSE Linux) 7.5.0 Red Hat Enterprise Linux 8.10 Kernel: 5.15 Compiler: gcc gcc (GCC) 8.5.0 20210514 (Red Hat 8.5.0-22) Red Hat Enterprise Linux 9.5 Kernel: 5.15 Compiler: gcc gcc (GCC) 11.5.0 20240719 (Red Hat 11.5.0-2) Ubuntu 22.04 Kernel: 5.15 Compiler: gcc gcc (Ubuntu 11.4.0-1ubuntu1~22.04) 11.4.0 Ubuntu 24.04 Kernel: 5.15 Compiler: gcc gcc (Ubuntu 13.3.0-6ubuntu2~24.04) 13.3.0 Windows Server 2022 Kernel: 10.0.20348.2031 Compiler: clang 15.0.7, gcc 14.1.0 (MinGW), and MSVC VS 19.39.33521 To view detailed results, visit: https://lab.dpdk.org/results/dashboard/patchsets/34207/ UNH-IOL DPDK Community Lab To manage your email subscriptions, visit: https://lab.dpdk.org/results/dashboard/preferences/subscriptions/