From mboxrd@z Thu Jan 1 00:00:00 1970 Return-Path: Received: from mails.dpdk.org (mails.dpdk.org [217.70.189.124]) by inbox.dpdk.org (Postfix) with ESMTP id 62C9B488BF for ; Mon, 6 Oct 2025 06:20:31 +0200 (CEST) Received: from mails.dpdk.org (localhost [127.0.0.1]) by mails.dpdk.org (Postfix) with ESMTP id 4A5D1402E2; Mon, 6 Oct 2025 06:20:31 +0200 (CEST) Received: from mail-il1-f225.google.com (mail-il1-f225.google.com [209.85.166.225]) by mails.dpdk.org (Postfix) with ESMTP id 98759402E2 for ; Mon, 6 Oct 2025 06:20:29 +0200 (CEST) Received: by mail-il1-f225.google.com with SMTP id e9e14a558f8ab-428551be643so36782985ab.3 for ; Sun, 05 Oct 2025 21:20:29 -0700 (PDT) DKIM-Signature: v=1; a=rsa-sha256; c=relaxed/relaxed; d=iol.unh.edu; s=unh-iol; t=1759724429; x=1760329229; darn=dpdk.org; h=references:in-reply-to:cc:to:from:subject:message-id:date:from:to :cc:subject:date:message-id:reply-to; bh=zs1KTFoQoeaOQQYpi5CJGRMmOjVE/p8w6bzl3gq0yAw=; b=IElZgCWcfSpkKeUvxsrOSGYAxyen78NruyBWdpsSBI1BDnhY4p7bKiCVCnhfKVmhlw J8LdNNoXakVhg3ruUd+1urKQPDPuUtubdDxKfuPf6D2U5QuVbHMlaWPL/bgak1xRObpm ERllQscTyb9yOWp+AMxvBz/UWBephQCPGgvZs= X-Google-DKIM-Signature: v=1; a=rsa-sha256; c=relaxed/relaxed; d=1e100.net; s=20230601; t=1759724429; x=1760329229; h=references:in-reply-to:cc:to:from:subject:message-id:date :x-gm-message-state:from:to:cc:subject:date:message-id:reply-to; bh=zs1KTFoQoeaOQQYpi5CJGRMmOjVE/p8w6bzl3gq0yAw=; b=jm6IPMGH1d5J8MdpYO+NW/RDouh41rzUnJQD8DM9t/PLf60i1VZdWWxTpQG+QwSZsN BWZLuK4DxKGik36GEJfPZ6vg3w5OtNamuvAlmsEEIgcUNn8pIAgIZVY2z47KLa9JYTTz frs81MSUPH3aQVx8BmHTmHNBwwuH0qFfl6/N5+x21FMIm3cB5Nw2o/sBTh0fJo8SnWAl B4jV0NH7TZ8A256TZfnZzO1eV5hL4886MGAateH8PElIZa4uFllKSlByHjIeRl3AriZ7 XVTyzMQp01Ge0YNAwwiKDnyKEs0tePIkG6xw9YQDmd9H+EG5XGxnGR5unDpOaGksADiS 6s5Q== X-Gm-Message-State: AOJu0Yw78vXGIFFsGSkhr5GaCECl/oV88IbaHi6t3L97tclhjtAQW+o4 DKu2Zp9Sv/TcyIxNXA0t+76FFxya0/81bn40Tz1KPOjyZ3/+Rw2wugtNGI7DXKhBLb+Y89SjZbX /2fbn+L38FUDKXm36PkuJ/DSVY40TZOQYjv6MzNge2lFV X-Gm-Gg: ASbGncuGpyUoJ5dmWtctoTSQXKo84spY0hhaMOWpMhzKYeYhFX4n/uzMw3UJ9HyV3Pq pNJG4K1/u7+r0hTIr3RU9PXt6Jw8TOZxuFMI0N9ewVCnXsySy4cEoLT/H+Ro20udRQJUQ/E59r3 zEcf4ZsK6cfoBspLfC0BQDeOLTy9C+Tvkr/SOKz9adIeV02bG6r3t9b1xKL/fOmw/oNG44Rka8/ cE915N0rPEpC4nohC2xob3VqXToVANVdAYDpq83n6dvrCN5kNGHughUs4LW+4ud/J02FL60JBuE SKePXFKv9k8/T33MzKBBwra48qE5oidx6UF6jZGg/TV+HXkYF4hWUR2T+qKyjlQdM0f80/keyMd 0vw== X-Google-Smtp-Source: AGHT+IFwle9NAQOby54B8MSRYmiq/OKSnpFWMMLMW1YASxiAV+v/3QWU7aJ/PR2DUb0wIT/PUJcK4pmDTPPU X-Received: by 2002:a05:6e02:198e:b0:42d:8b1c:570c with SMTP id e9e14a558f8ab-42e7acd26d3mr153718795ab.5.1759724428838; Sun, 05 Oct 2025 21:20:28 -0700 (PDT) Received: from postal.iol.unh.edu (postal.iol.unh.edu. [132.177.123.84]) by smtp-relay.gmail.com with ESMTPS id 8926c6da1cb9f-57b5eaa9ad1sm942839173.10.2025.10.05.21.20.28 (version=TLS1_2 cipher=ECDHE-ECDSA-AES128-GCM-SHA256 bits=128/128); Sun, 05 Oct 2025 21:20:28 -0700 (PDT) X-Relaying-Domain: iol.unh.edu Date: Sun, 05 Oct 2025 21:20:28 -0700 (PDT) Message-ID: <68e3438c.050a0220.7999c.2c2dSMTPIN_ADDED_MISSING@mx.google.com> Received: from [172.21.0.2] (unknown [172.18.0.240]) by postal.iol.unh.edu (Postfix) with ESMTP id 5BEC36051830; Mon, 6 Oct 2025 00:20:28 -0400 (EDT) Subject: |SUCCESS| pw157253-157257 [PATCH] [v3,7/7] ethdev: deprecate queue s From: dpdklab@iol.unh.edu To: Test Report Cc: dpdk-test-reports@iol.unh.edu In-Reply-To: <20251003110201.1541183-8-bruce.richardson@intel.com> References: <20251003110201.1541183-8-bruce.richardson@intel.com> Content-Type: text/plain X-BeenThere: test-report@dpdk.org X-Mailman-Version: 2.1.29 Precedence: list List-Id: automatic DPDK test reports List-Unsubscribe: , List-Archive: List-Post: List-Help: List-Subscribe: , Errors-To: test-report-bounces@dpdk.org Test-Label: iol-compile-amd64-testing Test-Status: SUCCESS http://dpdk.org/patch/157257 _Testing PASS_ Submitter: Bruce Richardson Date: Friday, October 03 2025 11:02:01 DPDK git baseline: Repo:dpdk Branch: master CommitID:76393b98bf67f94dc6aa23cf5016c32571899261 157253-157257 --> testing pass Upstream job id: Generic-DPDK-Compile-Meson#431352 Test environment and result as below: +------------------------------+--------------------+-------------------+-------------------------+----------------------+ | Environment | dpdk_meson_compile | dpdk_msvc_compile | dpdk_llvm_clang_compile | dpdk_mingw64_compile | +==============================+====================+===================+=========================+======================+ | Ubuntu 20.04 | PASS | SKIPPED | SKIPPED | SKIPPED | +------------------------------+--------------------+-------------------+-------------------------+----------------------+ | FreeBSD 14.2 | PASS | SKIPPED | SKIPPED | SKIPPED | +------------------------------+--------------------+-------------------+-------------------------+----------------------+ | Red Hat Enterprise Linux 9.5 | PASS | SKIPPED | SKIPPED | SKIPPED | +------------------------------+--------------------+-------------------+-------------------------+----------------------+ | Windows Server 2022 | SKIPPED | PASS | PASS | PASS | +------------------------------+--------------------+-------------------+-------------------------+----------------------+ Ubuntu 20.04 Kernel: 4.19 Compiler: gcc gcc (Ubuntu 9.4.0-1ubuntu1~20.04.2) 9.4.0 FreeBSD 14.2 Kernel: 14.2-RELEASE Compiler: clang 18.1.6 Red Hat Enterprise Linux 9.5 Kernel: 5.15 Compiler: gcc gcc (GCC) 11.5.0 20240719 (Red Hat 11.5.0-2) Windows Server 2022 Kernel: 10.0.20348.2031 Compiler: clang 15.0.7, gcc 14.1.0 (MinGW), and MSVC VS 19.39.33521 To view detailed results, visit: https://lab.dpdk.org/results/dashboard/patchsets/34209/ UNH-IOL DPDK Community Lab To manage your email subscriptions, visit: https://lab.dpdk.org/results/dashboard/preferences/subscriptions/