From mboxrd@z Thu Jan 1 00:00:00 1970 Return-Path: Received: from mails.dpdk.org (mails.dpdk.org [217.70.189.124]) by inbox.dpdk.org (Postfix) with ESMTP id 7FFDE488BF for ; Mon, 6 Oct 2025 06:21:43 +0200 (CEST) Received: from mails.dpdk.org (localhost [127.0.0.1]) by mails.dpdk.org (Postfix) with ESMTP id 7A5B5402E2; Mon, 6 Oct 2025 06:21:43 +0200 (CEST) Received: from mail-il1-f228.google.com (mail-il1-f228.google.com [209.85.166.228]) by mails.dpdk.org (Postfix) with ESMTP id 95FCF402E2 for ; Mon, 6 Oct 2025 06:21:41 +0200 (CEST) Received: by mail-il1-f228.google.com with SMTP id e9e14a558f8ab-424da17e309so48957715ab.2 for ; Sun, 05 Oct 2025 21:21:41 -0700 (PDT) DKIM-Signature: v=1; a=rsa-sha256; c=relaxed/relaxed; d=iol.unh.edu; s=unh-iol; t=1759724501; x=1760329301; darn=dpdk.org; h=cc:to:from:subject:message-id:date:from:to:cc:subject:date :message-id:reply-to; bh=UH/84W5gUTprlhFwfYYrZzKHAAaLZt5shWVYVV8MtyQ=; b=BYx9CcbQ5GG8n10VqfbgpqFAKT++PEVApmt1gToqEXYYOgxEj/0VDpaGuG/Tz8XhSA GcIEG86zRh3KiHyEixtQRII5M6i4HOG+wnC3thpnqcFvG6wuDg30ALcEJNuKma3xkdDk 4XBFHR+llklFdClGF2dwQSeGijIP4yaB8ZfZI= X-Google-DKIM-Signature: v=1; a=rsa-sha256; c=relaxed/relaxed; d=1e100.net; s=20230601; t=1759724501; x=1760329301; h=cc:to:from:subject:message-id:date:x-gm-message-state:from:to:cc :subject:date:message-id:reply-to; bh=UH/84W5gUTprlhFwfYYrZzKHAAaLZt5shWVYVV8MtyQ=; b=MCzx0Z1nWIvDSPcpEg9omza/mIav8kabs6fN4Q9weiW1nPDw4KxtZ1ZwjNsmteaOFA /eMx5/fHp7WHz/QquKXktLsVrEz3ZVhpq6QYKL2fSiJ0CuQFQa73Lo4qSVbSTL6NWA1b TIz1jEkAJPLm5aow8VRjfvD736gKh6cqpiVDrNhQc3Fj67RztkH7EbpDx2hxXv+M2Fon UAP5OU/tgbmEALBmwN2i3anSK337a8hqdq6Uke8V0nwmD9nwbFPuIkLpZWDwKrSsLaE3 +6kWwTy5NMqq9/UyhddJkFZ+3LXjGFLUAJMDtnN6wMm7HvXONay2qdEKoWprb7+T7vWT FMjw== X-Gm-Message-State: AOJu0YzgWBFu88ANko2mc8TpoBD+iVg8IZ1OQhAspwZc8bUuE6c4wZi0 08rcZ1c3azQnxdbFiaKLcm+Iyus1T7Ruv1owk6js9Vb6FkxvwyAOPgAksyUCM4WgoDqwsVPymvr RoIL5ZLrCueDeVqRUmWp1isSFW5U3xcM8rouopL/E/of9z4Pq6bBU X-Gm-Gg: ASbGnctmuDqpsYCkc7UGsrNOk5jCgEBW+WnYmMDrZta94z6yQaH/p+tgWjHPg6f3B1m HXGqVH0VZ+kFyiwpIFQ3v1POy7YL5mKKxIiHchzi9PnA42wNcoN9Mc1GpbKfEL3wERfc/kCl0y/ Iym79vmEbeCCPNboHOcY4RzzKa9fwu0taZKdSkrTVrSbW5us6qT4pL7M76K7fF7U04EBx+/AVzh wsFmxzjUBMFK3VVFRsC8PVQpHvphrOPiC7SZ5tTeUc+f+Rxjqa7cbeKcMUBBjADm17DITR/pOjl TeR996GIFoSM6VjRc2i7AC99u88eqNUZ/Sg+iwHrtAcSt1yprDy2+/8= X-Google-Smtp-Source: AGHT+IG2rzhyy8jNBoZJ6eYv0tMaYhogwPqgtkFY2wqoPNjosCFPV7N3PEhYPcs7l9Zbi40tgYgTbRuWGRwL X-Received: by 2002:a05:6e02:190e:b0:423:fcd6:5488 with SMTP id e9e14a558f8ab-42e7ad16e68mr160320575ab.12.1759724500892; Sun, 05 Oct 2025 21:21:40 -0700 (PDT) Received: from postal.iol.unh.edu (postal.iol.unh.edu. [2606:4100:3880:1234::84]) by smtp-relay.gmail.com with ESMTPS id 8926c6da1cb9f-57b5ed690c6sm933184173.35.2025.10.05.21.21.40 (version=TLS1_2 cipher=ECDHE-ECDSA-AES128-GCM-SHA256 bits=128/128); Sun, 05 Oct 2025 21:21:40 -0700 (PDT) X-Relaying-Domain: iol.unh.edu Date: Sun, 05 Oct 2025 21:21:40 -0700 (PDT) Message-ID: <68e343d4.050a0220.269570.3282SMTPIN_ADDED_MISSING@mx.google.com> Received: from [172.21.0.2] (unknown [172.18.0.240]) by postal.iol.unh.edu (Postfix) with ESMTP id 767026051830; Mon, 6 Oct 2025 00:21:40 -0400 (EDT) Subject: |SUCCESS| [GIT MASTER] 62f583c49bf67dd4d6733ece14e55fe6839e66d1 From: dpdklab@iol.unh.edu To: Test Report Cc: dpdk-test-reports@iol.unh.edu, Xueming Li , Christian Ehrhardt , Kevin Traynor , Luca Boccassi Content-Type: text/plain X-BeenThere: test-report@dpdk.org X-Mailman-Version: 2.1.29 Precedence: list List-Id: automatic DPDK test reports List-Unsubscribe: , List-Archive: List-Post: List-Help: List-Subscribe: , Errors-To: test-report-bounces@dpdk.org _Testing PASS_ Branch: tags/v23.11 62f583c49bf67dd4d6733ece14e55fe6839e66d1 --> testing pass Upstream job id: Generic-VM-DPDK-Compile-Meson#38801 Test environment and result as below: +---------------------+--------------------+-------------------+ | Environment | dpdk_meson_compile | dpdk_msvc_compile | +=====================+====================+===================+ | Ubuntu 20.04 | PASS | SKIPPED | +---------------------+--------------------+-------------------+ | FreeBSD 14.2 | PASS | SKIPPED | +---------------------+--------------------+-------------------+ | Windows Server 2022 | SKIPPED | PASS | +---------------------+--------------------+-------------------+ Ubuntu 20.04 Kernel: 4.19 Compiler: gcc gcc (Ubuntu 9.4.0-1ubuntu1~20.04.2) 9.4.0 FreeBSD 14.2 Kernel: 14.2-RELEASE Compiler: clang 18.1.6 Windows Server 2022 Kernel: 10.0.20348.2031 Compiler: clang 15.0.7, gcc 14.1.0 (MinGW), and MSVC VS 19.39.33521 To view detailed results, visit: https://lab.dpdk.org/results/dashboard/tarballs/35114/ UNH-IOL DPDK Community Lab To manage your email subscriptions, visit: https://lab.dpdk.org/results/dashboard/preferences/subscriptions/