From mboxrd@z Thu Jan 1 00:00:00 1970 Return-Path: Received: from mails.dpdk.org (mails.dpdk.org [217.70.189.124]) by inbox.dpdk.org (Postfix) with ESMTP id 96C7E488BF for ; Mon, 6 Oct 2025 06:22:29 +0200 (CEST) Received: from mails.dpdk.org (localhost [127.0.0.1]) by mails.dpdk.org (Postfix) with ESMTP id 92410402E2; Mon, 6 Oct 2025 06:22:29 +0200 (CEST) Received: from mail-yw1-f227.google.com (mail-yw1-f227.google.com [209.85.128.227]) by mails.dpdk.org (Postfix) with ESMTP id DB5CE402E2 for ; Mon, 6 Oct 2025 06:22:27 +0200 (CEST) Received: by mail-yw1-f227.google.com with SMTP id 00721157ae682-77f947312a5so33292137b3.2 for ; Sun, 05 Oct 2025 21:22:27 -0700 (PDT) DKIM-Signature: v=1; a=rsa-sha256; c=relaxed/relaxed; d=iol.unh.edu; s=unh-iol; t=1759724547; x=1760329347; darn=dpdk.org; h=cc:to:from:subject:message-id:date:from:to:cc:subject:date :message-id:reply-to; bh=DC1BZbFL/On7ooTBrblWbWDAAWYi5fSm7II2RGUOPno=; b=TeXhxE5D6hO9NQY7cDVQJ2MtjOKhzH99215LWUe+EMrVyca+0OSOnnhXpbHXXXOafE /13+yVM0RuEcRht9zVMsS2//mHpworVkPbYgxvO8QP4HRlfiX94xwEi3lyWlwTpYl7YT vJ8L9SVWARJBJlu8beL3VBj3ESfVC0Dfz7zkE= X-Google-DKIM-Signature: v=1; a=rsa-sha256; c=relaxed/relaxed; d=1e100.net; s=20230601; t=1759724547; x=1760329347; h=cc:to:from:subject:message-id:date:x-gm-message-state:from:to:cc :subject:date:message-id:reply-to; bh=DC1BZbFL/On7ooTBrblWbWDAAWYi5fSm7II2RGUOPno=; b=pRlrEEr7Md6DEXtj/wT1n24li4bI/XLRH90BMuVVLylagA+GI1XOT+vb4TP7lmlhp9 u+J0ytA5YVgXf74uUNnMLIjxxeniW+slTwbvcyA0jlipeKQu9LFQjQlE8W5Y/uEjlVWT 93F7WTChut79IJn69/L3W/iPmZgOUaaNjbVoZW7J64c4G8GawZGR8UqS1WHbbq/aDJKB klAQnJgKmQN+1CNhTghaElkSLi07CqrEzuZ04xPrGUp/QuQhA7wsorwvBIEbY8mPZzFH T4Stg13BKqMH7hrqo+c7nvY5NEOowNnN7ik6ddjoTSFZUZYCDrvF1AvdC6hfXazj64JB jUVg== X-Gm-Message-State: AOJu0YyA00wP2HNr4aG7GPnBujwjMi/9gSdP5M364K8dF2M8sLTejcAH sgHhXAtumTMzOwZ/NlveIzQKo7k59233B9E+5hGF+BZS0Sp6zb5d+ccKsTTHnuC4YNGcGj4Zqwg a4x1es1geMk4XtGBe4PFa22kUgLY0UwPUh+le3C4baf7oLbPpi3jh X-Gm-Gg: ASbGnct3sel5dlMPRGVzOR3RMCB6sMDmLymJBNNodvbivvlh61Kz25ExPIoi/c5eAxn o5Ltr/E4T++LIFuYJ4QhXT8ydFcdFh/b5gDo1phBlWXNnBpBO35DCyoLb1i3QoEQ9dBS8iViJ4O Kyxddq8Fg2eHVpW2I0XrOxVp5Qk+aA2VFIl/iLsWgVro8vU4Bq6Hx7uvyZZ49ccu6K1b12M4RRJ ujLDLjRYfEpT87ECyF0fvnTHAzA0to8EcSM+xuPGXnOoWDwiTBNE3eisruUet0dnAQvTxn1hWoX 0WRdGMAeS8bhxQiX/Y956odoM62A2fyi1Rn9YlP225b1ZLaWc6/2+PU= X-Google-Smtp-Source: AGHT+IFXD52LiL/o84FD4JGWU1sg+hrMCN+UL182q5RN8OYzYZA/dykQ5SIKCTaS5pWOK7wS3krx9+9tn6+g X-Received: by 2002:a05:690e:4293:20b0:635:3aa6:f57f with SMTP id 956f58d0204a3-63b9a0ee700mr9500498d50.35.1759724547266; Sun, 05 Oct 2025 21:22:27 -0700 (PDT) Received: from postal.iol.unh.edu (postal.iol.unh.edu. [2606:4100:3880:1234::84]) by smtp-relay.gmail.com with ESMTPS id 956f58d0204a3-63b845a116bsm698957d50.6.2025.10.05.21.22.27 (version=TLS1_2 cipher=ECDHE-ECDSA-AES128-GCM-SHA256 bits=128/128); Sun, 05 Oct 2025 21:22:27 -0700 (PDT) X-Relaying-Domain: iol.unh.edu Date: Sun, 05 Oct 2025 21:22:27 -0700 (PDT) Message-ID: <68e34403.530a0220.b5b4.5331SMTPIN_ADDED_MISSING@mx.google.com> Received: from [172.21.0.2] (unknown [172.18.0.240]) by postal.iol.unh.edu (Postfix) with ESMTP id B30F56051830; Mon, 6 Oct 2025 00:22:26 -0400 (EDT) Subject: |SUCCESS| [GIT MASTER] b287e404643aeab5bb5db084c142789df187844e From: dpdklab@iol.unh.edu To: Test Report Cc: dpdk-test-reports@iol.unh.edu, Xueming Li , Christian Ehrhardt , Kevin Traynor , Luca Boccassi Content-Type: text/plain X-BeenThere: test-report@dpdk.org X-Mailman-Version: 2.1.29 Precedence: list List-Id: automatic DPDK test reports List-Unsubscribe: , List-Archive: List-Post: List-Help: List-Subscribe: , Errors-To: test-report-bounces@dpdk.org _Testing PASS_ Branch: tags/v24.11 b287e404643aeab5bb5db084c142789df187844e --> testing pass Upstream job id: Windows-Compile-DPDK-Native#31433 Test environment and result as below: +---------------------+--------------------+-------------------+-------------------------+ | Environment | dpdk_meson_compile | dpdk_msvc_compile | dpdk_llvm_clang_compile | +=====================+====================+===================+=========================+ | Ubuntu 20.04 | PASS | SKIPPED | SKIPPED | +---------------------+--------------------+-------------------+-------------------------+ | FreeBSD 14.2 | PASS | SKIPPED | SKIPPED | +---------------------+--------------------+-------------------+-------------------------+ | Windows Server 2022 | SKIPPED | PASS | PASS | +---------------------+--------------------+-------------------+-------------------------+ Ubuntu 20.04 Kernel: 4.19 Compiler: gcc gcc (Ubuntu 9.4.0-1ubuntu1~20.04.2) 9.4.0 FreeBSD 14.2 Kernel: 14.2-RELEASE Compiler: clang 18.1.6 Windows Server 2022 Kernel: 10.0.20348.2031 Compiler: clang 15.0.7, gcc 14.1.0 (MinGW), and MSVC VS 19.39.33521 To view detailed results, visit: https://lab.dpdk.org/results/dashboard/tarballs/35115/ UNH-IOL DPDK Community Lab To manage your email subscriptions, visit: https://lab.dpdk.org/results/dashboard/preferences/subscriptions/