From mboxrd@z Thu Jan 1 00:00:00 1970 Return-Path: Received: from mails.dpdk.org (mails.dpdk.org [217.70.189.124]) by inbox.dpdk.org (Postfix) with ESMTP id 08584488BF for ; Mon, 6 Oct 2025 06:26:03 +0200 (CEST) Received: from mails.dpdk.org (localhost [127.0.0.1]) by mails.dpdk.org (Postfix) with ESMTP id DF909402E2; Mon, 6 Oct 2025 06:26:02 +0200 (CEST) Received: from mail-pl1-f226.google.com (mail-pl1-f226.google.com [209.85.214.226]) by mails.dpdk.org (Postfix) with ESMTP id 5D654402E2 for ; Mon, 6 Oct 2025 06:26:01 +0200 (CEST) Received: by mail-pl1-f226.google.com with SMTP id d9443c01a7336-28e7cd34047so38208355ad.2 for ; Sun, 05 Oct 2025 21:26:01 -0700 (PDT) DKIM-Signature: v=1; a=rsa-sha256; c=relaxed/relaxed; d=iol.unh.edu; s=unh-iol; t=1759724760; x=1760329560; darn=dpdk.org; h=cc:to:from:subject:message-id:date:from:to:cc:subject:date :message-id:reply-to; bh=lMV68KcThW037rcsW7/2d7Qyt2/i1etBua75y7sZ838=; b=IUwhLYI2gRgPdaRnj6oha/fgsg/6iRJSRnajWqGQ7Z8FJLT/y4IeE8EqtIkP6dDhEj 5sg8ynBFe/uXxw2liGZUhJqlORS7ev8Y6lHCQxBegpW07QOW24YYPjf9018fyU0Drnxu LU4/505kGJV0XflEY/yDxiUkFY9uRc9DV7D8I= X-Google-DKIM-Signature: v=1; a=rsa-sha256; c=relaxed/relaxed; d=1e100.net; s=20230601; t=1759724760; x=1760329560; h=cc:to:from:subject:message-id:date:x-gm-message-state:from:to:cc :subject:date:message-id:reply-to; bh=lMV68KcThW037rcsW7/2d7Qyt2/i1etBua75y7sZ838=; b=drjXe/x7nuj5pxkHHD7jCJcg5jL0gQExKdWCdns6DmfatOPTGhFJX1YjoPoupRF0Qs j5D1tgI268Bz6WvnSekRrg/Ntowv1q8hmo6v6XfWJodeW3TlgfwGqeClL9S7YGM0yBAD s0hPJln2sL/7JQFGN9YA/ERwetFmuriJN5qgxLFgcp5EWUFT0N0AI0EMLbaviv0e5Nx7 ZExflfSEdh+BcMVku2VHm6GaalPART4FguaU2w+O2gGBEjIUrLyGMEeE4nQhYn2LCAzq RnKAgKtsKWDVwVzyz/WzOdYb35B7m4Q7mliatyct4/yoXitmDEuCNoUvI0nPIx//NYc6 hBPA== X-Gm-Message-State: AOJu0Yw+SezFbGnuxyJ+lPeJ4tLNtNkpaJvnBCQ7j/g4H7TOfzf/3Ma3 b8FWsTkyLRrUoi4Z0xXuxsgdBKwsldtYjG6fGMGtNvurYLy2uZR+9DpKK3UjyzYp5Oji9pJQvCL 1aBiwuD/2NVELVqCzEk2IQtK22WhHGwlhGYXyZcqkeTpPp9QUd5hm X-Gm-Gg: ASbGnctaGPx8Lbp3UH+GWpvwpSbjPSIM1O3d1TvFvXjonAd7toe16hDDsBJOSEo0VN9 R+bNAVt1CB8ZBWrKBk8PR8fqqFpScRcQEzQ03ZcqcX8fLr3qdSj0fiDyg2D3aseRCULqhMWP4rc PTLbaT46KktlK92g2pe1X+fk0/6X18dIg5QHdJ3Am/3h0I8L9dpL6hdlHkTmwsKdfcr7lgjTrVp VPVFdOFPU3T4fsfaCOgbEoxF20rCqytxVRmgbvOJhVmSAVo36eFuFopm1PImNiE1KEHVFJYkrRU fe0F1CkorUT6DI8figMLvHZ4ZNgMGgdMeWiOQrcguJKmH6X6Az/MLdE= X-Google-Smtp-Source: AGHT+IFzvRwCdQvTFi1Mm7Pj0OsgymJAkr6IduCzR7lTFzNUxbSZr7aYry678hOQogIl1DqvtsE7QhLB43N5 X-Received: by 2002:a17:903:4b08:b0:26a:f6e6:ef4f with SMTP id d9443c01a7336-28e9a65e62bmr117225365ad.60.1759724760379; Sun, 05 Oct 2025 21:26:00 -0700 (PDT) Received: from postal.iol.unh.edu (postal.iol.unh.edu. [2606:4100:3880:1234::84]) by smtp-relay.gmail.com with ESMTPS id d9443c01a7336-28e8d180ad6sm9309525ad.48.2025.10.05.21.26.00 (version=TLS1_2 cipher=ECDHE-ECDSA-AES128-GCM-SHA256 bits=128/128); Sun, 05 Oct 2025 21:26:00 -0700 (PDT) X-Relaying-Domain: iol.unh.edu Date: Sun, 05 Oct 2025 21:26:00 -0700 (PDT) Message-ID: <68e344d8.170a0220.39e5c0.4166SMTPIN_ADDED_MISSING@mx.google.com> Received: from [172.21.0.2] (unknown [172.18.0.240]) by postal.iol.unh.edu (Postfix) with ESMTP id 99B5B6051830; Mon, 6 Oct 2025 00:25:59 -0400 (EDT) Subject: |SUCCESS| [GIT MASTER] b287e404643aeab5bb5db084c142789df187844e From: dpdklab@iol.unh.edu To: Test Report Cc: dpdk-test-reports@iol.unh.edu, Xueming Li , Christian Ehrhardt , Kevin Traynor , Luca Boccassi Content-Type: text/plain X-BeenThere: test-report@dpdk.org X-Mailman-Version: 2.1.29 Precedence: list List-Id: automatic DPDK test reports List-Unsubscribe: , List-Archive: List-Post: List-Help: List-Subscribe: , Errors-To: test-report-bounces@dpdk.org _Testing PASS_ Branch: tags/v24.11 b287e404643aeab5bb5db084c142789df187844e --> testing pass Upstream job id: Windows-Compile-DPDK-Native#31434 Test environment and result as below: +---------------------+--------------------+-------------------+-------------------------+----------------------+ | Environment | dpdk_meson_compile | dpdk_msvc_compile | dpdk_llvm_clang_compile | dpdk_mingw64_compile | +=====================+====================+===================+=========================+======================+ | Ubuntu 20.04 | PASS | SKIPPED | SKIPPED | SKIPPED | +---------------------+--------------------+-------------------+-------------------------+----------------------+ | FreeBSD 14.2 | PASS | SKIPPED | SKIPPED | SKIPPED | +---------------------+--------------------+-------------------+-------------------------+----------------------+ | Windows Server 2022 | SKIPPED | PASS | PASS | PASS | +---------------------+--------------------+-------------------+-------------------------+----------------------+ Ubuntu 20.04 Kernel: 4.19 Compiler: gcc gcc (Ubuntu 9.4.0-1ubuntu1~20.04.2) 9.4.0 FreeBSD 14.2 Kernel: 14.2-RELEASE Compiler: clang 18.1.6 Windows Server 2022 Kernel: 10.0.20348.2031 Compiler: clang 15.0.7, gcc 14.1.0 (MinGW), and MSVC VS 19.39.33521 To view detailed results, visit: https://lab.dpdk.org/results/dashboard/tarballs/35115/ UNH-IOL DPDK Community Lab To manage your email subscriptions, visit: https://lab.dpdk.org/results/dashboard/preferences/subscriptions/