From mboxrd@z Thu Jan 1 00:00:00 1970 Return-Path: Received: from mails.dpdk.org (mails.dpdk.org [217.70.189.124]) by inbox.dpdk.org (Postfix) with ESMTP id BD04E488BF for ; Mon, 6 Oct 2025 06:47:07 +0200 (CEST) Received: from mails.dpdk.org (localhost [127.0.0.1]) by mails.dpdk.org (Postfix) with ESMTP id B5BA6402E2; Mon, 6 Oct 2025 06:47:07 +0200 (CEST) Received: from mail-pl1-f227.google.com (mail-pl1-f227.google.com [209.85.214.227]) by mails.dpdk.org (Postfix) with ESMTP id 8A4E6402E2 for ; Mon, 6 Oct 2025 06:47:06 +0200 (CEST) Received: by mail-pl1-f227.google.com with SMTP id d9443c01a7336-2698d47e776so34967175ad.1 for ; Sun, 05 Oct 2025 21:47:06 -0700 (PDT) DKIM-Signature: v=1; a=rsa-sha256; c=relaxed/relaxed; d=iol.unh.edu; s=unh-iol; t=1759726025; x=1760330825; darn=dpdk.org; h=references:in-reply-to:cc:to:from:subject:message-id:date:from:to :cc:subject:date:message-id:reply-to; bh=WYS1LM3kqlSZcK/ble3b2Y1JCSD9NtWZso4ZvjCTH54=; b=WGr/lcLXnn6/X3VFNzjO1j5zQP2zJ8VXD7LqkhIvei4vzcc+73LGzebyGFSEtCLEYT O2gdkteMsTdpYeVm8iJZk/kiQ2mB2vB1vU9ySJrhBulB/ZvjcZFze3/VZ09z+zRLuaI+ j55TGamZ1j4Vj/V3RjL3EwC+TROv0KUtX1gOM= X-Google-DKIM-Signature: v=1; a=rsa-sha256; c=relaxed/relaxed; d=1e100.net; s=20230601; t=1759726025; x=1760330825; h=references:in-reply-to:cc:to:from:subject:message-id:date :x-gm-message-state:from:to:cc:subject:date:message-id:reply-to; bh=WYS1LM3kqlSZcK/ble3b2Y1JCSD9NtWZso4ZvjCTH54=; b=F2MY7gsTC31u1liSMQo/jdWPRnGFT/yJ4FygfDdOY+gTvpbDe1Rtan8KVtJii6hnpN rD9PlsyRZKgMDu4fQhhAv3KFK6IqA6q2tHmgNpXdcpKx/k8Czd/igheR6I3pFsFI4NhT y0aYt0t/vtpteF6QEcowpZJ/1hjl2uznAqGq2eTc+tLjP10NR6ysniIVywGCFNJKDXHI BCH6IBSAOpF6RU9AsVtRIIJ+gL8007Tq+WrebQZZaI1uV3Bg6ANyIm6dM4DbtjQi536j ZBsuMcH35YAd3Qa5Y2oncRqm0kC1Zol2zQafhKH9+1QfvV94AwpHGcTI9koXQNHM0AGJ MGeQ== X-Gm-Message-State: AOJu0YwUQpHz8sUJxUTJ2kCrpqI1GOsI1wesl4AWDaRhzlntqU3eNzVE QBCFonQkuBXqgUnKibntAw2dcKkr3iZANnKuVjKoEF9AqK1QE6PEnL46xh0RxTDEmUyBw36L4B0 SPLZ1QAdjwXhH5wLFdb1HHLcIxHjVa0CAHnurmSdeFR0r+Uu02BCbJejg5fz0 X-Gm-Gg: ASbGncvcDOq8444mU59cRmo1gyVc+hlcY0xIGL6XP1cyOXEBHr3f7VgPIcOpFd75O7N t+x69zT2jeUsptoCd8yjjOz4FK3Tkx/kuAJ537MX+kvnGD+yXQl4kxciUrKbeO4f09bcHqRlyN1 gvwRTLUODY1jm5ROxH2Nqjpr+/rq7Zh/MFn/nURzgebITVUPSVHEyiF78LuuES2Favi6XE39ME9 GynU8bm1e80KIqox/HIBNRupTAbFrP0cIntnLWK5R6LPCIo0nMotzH0FxpxzTUbNgfkqNVd0AC+ veSCq03Hc8KEDn5uZzMLfizJx3FAXdbaBbVbgSglR0+L8Ni0U1dH8Cg= X-Google-Smtp-Source: AGHT+IEIPRbqmxTgIpzokgZEwI44Aiegbo0MwRAF9esrPsbVmBIU8mSDbPVbLLxvr2LSXVVyxmmL7O5uXMh0 X-Received: by 2002:a17:903:2392:b0:27e:f06b:ae31 with SMTP id d9443c01a7336-28e9a6feae6mr134769315ad.61.1759726025600; Sun, 05 Oct 2025 21:47:05 -0700 (PDT) Received: from postal.iol.unh.edu (postal.iol.unh.edu. [2606:4100:3880:1234::84]) by smtp-relay.gmail.com with ESMTPS id d9443c01a7336-28e8d1818e8sm9968765ad.44.2025.10.05.21.47.05 (version=TLS1_2 cipher=ECDHE-ECDSA-AES128-GCM-SHA256 bits=128/128); Sun, 05 Oct 2025 21:47:05 -0700 (PDT) X-Relaying-Domain: iol.unh.edu Date: Sun, 05 Oct 2025 21:47:05 -0700 (PDT) Message-ID: <68e349c9.170a0220.392f95.7145SMTPIN_ADDED_MISSING@mx.google.com> Received: from [172.21.0.3] (unknown [172.18.0.240]) by postal.iol.unh.edu (Postfix) with ESMTP id D150C6051830; Mon, 6 Oct 2025 00:47:04 -0400 (EDT) Subject: |SUCCESS| pw157251-157252 [PATCH] [v2,2/2] net/iavf: add restore com From: dpdklab@iol.unh.edu To: Test Report Cc: dpdk-test-reports@iol.unh.edu, Bruce Richardson In-Reply-To: <20251003102359.823028-2-ciara.loftus@intel.com> References: <20251003102359.823028-2-ciara.loftus@intel.com> Content-Type: text/plain X-BeenThere: test-report@dpdk.org X-Mailman-Version: 2.1.29 Precedence: list List-Id: automatic DPDK test reports List-Unsubscribe: , List-Archive: List-Post: List-Help: List-Subscribe: , Errors-To: test-report-bounces@dpdk.org Test-Label: iol-compile-amd64-testing Test-Status: SUCCESS http://dpdk.org/patch/157252 _Testing PASS_ Submitter: Loftus, Ciara Date: Friday, October 03 2025 10:23:59 DPDK git baseline: Repo:dpdk-next-net-intel Branch: master CommitID:e7d8cc7ef4df3552575525697079d3c957cfcdaf 157251-157252 --> testing pass Upstream job id: Generic-DPDK-Compile-Meson#431355 Test environment and result as below: +-------------------------------+--------------------+-------------------+-------------------------+----------------------+-------------------+------------------+ | Environment | dpdk_meson_compile | dpdk_msvc_compile | dpdk_llvm_clang_compile | dpdk_mingw64_compile | dpdk_compile_spdk | dpdk_compile_ovs | +===============================+====================+===================+=========================+======================+===================+==================+ | Ubuntu 20.04 | PASS | SKIPPED | SKIPPED | SKIPPED | SKIPPED | SKIPPED | +-------------------------------+--------------------+-------------------+-------------------------+----------------------+-------------------+------------------+ | FreeBSD 14.2 | PASS | SKIPPED | SKIPPED | SKIPPED | SKIPPED | SKIPPED | +-------------------------------+--------------------+-------------------+-------------------------+----------------------+-------------------+------------------+ | CentOS Stream 9 | PASS | SKIPPED | SKIPPED | SKIPPED | PASS | SKIPPED | +-------------------------------+--------------------+-------------------+-------------------------+----------------------+-------------------+------------------+ | CentOS Stream 10 | PASS | SKIPPED | SKIPPED | SKIPPED | SKIPPED | SKIPPED | +-------------------------------+--------------------+-------------------+-------------------------+----------------------+-------------------+------------------+ | Debian GNU/Linux 12 | PASS | SKIPPED | SKIPPED | SKIPPED | PASS | SKIPPED | +-------------------------------+--------------------+-------------------+-------------------------+----------------------+-------------------+------------------+ | Fedora Linux 42 | PASS | SKIPPED | SKIPPED | SKIPPED | PASS | PASS | +-------------------------------+--------------------+-------------------+-------------------------+----------------------+-------------------+------------------+ | openSUSE Leap 15.6 | PASS | SKIPPED | SKIPPED | SKIPPED | SKIPPED | SKIPPED | +-------------------------------+--------------------+-------------------+-------------------------+----------------------+-------------------+------------------+ | Red Hat Enterprise Linux 8.10 | PASS | SKIPPED | SKIPPED | SKIPPED | SKIPPED | SKIPPED | +-------------------------------+--------------------+-------------------+-------------------------+----------------------+-------------------+------------------+ | Red Hat Enterprise Linux 9.5 | PASS | SKIPPED | SKIPPED | SKIPPED | SKIPPED | SKIPPED | +-------------------------------+--------------------+-------------------+-------------------------+----------------------+-------------------+------------------+ | Ubuntu 22.04 | PASS | SKIPPED | SKIPPED | SKIPPED | PASS | SKIPPED | +-------------------------------+--------------------+-------------------+-------------------------+----------------------+-------------------+------------------+ | Ubuntu 24.04 | PASS | SKIPPED | SKIPPED | SKIPPED | PASS | PASS | +-------------------------------+--------------------+-------------------+-------------------------+----------------------+-------------------+------------------+ | Alpine Linux 3.22.0 | PASS | SKIPPED | SKIPPED | SKIPPED | SKIPPED | SKIPPED | +-------------------------------+--------------------+-------------------+-------------------------+----------------------+-------------------+------------------+ | Windows Server 2022 | SKIPPED | PASS | PASS | PASS | SKIPPED | SKIPPED | +-------------------------------+--------------------+-------------------+-------------------------+----------------------+-------------------+------------------+ Ubuntu 20.04 Kernel: 4.19 Compiler: gcc gcc (Ubuntu 9.4.0-1ubuntu1~20.04.2) 9.4.0 FreeBSD 14.2 Kernel: 14.2-RELEASE Compiler: clang 18.1.6 CentOS Stream 9 Kernel: 5.15 Compiler: gcc gcc (GCC) 11.5.0 20240719 (Red Hat 11.5.0-11) CentOS Stream 10 Kernel: 5.15 Compiler: gcc gcc (GCC) 14.2.1 20250110 (Red Hat 14.2.1-8) Debian GNU/Linux 12 Kernel: 5.15 Compiler: gcc gcc (Debian 12.2.0-14+deb12u1) 12.2.0 Fedora Linux 42 Kernel: 5.15 Compiler: clang gcc (GCC) 15.2.1 20250808 (Red Hat 15.2.1-1) openSUSE Leap 15.6 Kernel: 5.15 Compiler: gcc gcc (SUSE Linux) 7.5.0 Red Hat Enterprise Linux 8.10 Kernel: 5.15 Compiler: gcc gcc (GCC) 8.5.0 20210514 (Red Hat 8.5.0-22) Red Hat Enterprise Linux 9.5 Kernel: 5.15 Compiler: gcc gcc (GCC) 11.5.0 20240719 (Red Hat 11.5.0-2) Ubuntu 22.04 Kernel: 5.15 Compiler: gcc gcc (Ubuntu 11.4.0-1ubuntu1~22.04) 11.4.0 Ubuntu 24.04 Kernel: 5.15 Compiler: gcc gcc (Ubuntu 13.3.0-6ubuntu2~24.04) 13.3.0 Alpine Linux 3.22.0 Kernel: 5.15 Compiler: gcc gcc (Alpine 14.2.0) 14.2.0 Windows Server 2022 Kernel: 10.0.20348.2031 Compiler: clang 15.0.7, gcc 14.1.0 (MinGW), and MSVC VS 19.39.33521 To view detailed results, visit: https://lab.dpdk.org/results/dashboard/patchsets/34207/ UNH-IOL DPDK Community Lab To manage your email subscriptions, visit: https://lab.dpdk.org/results/dashboard/preferences/subscriptions/