From mboxrd@z Thu Jan 1 00:00:00 1970 Return-Path: Received: from mails.dpdk.org (mails.dpdk.org [217.70.189.124]) by inbox.dpdk.org (Postfix) with ESMTP id C8034488BF for ; Mon, 6 Oct 2025 07:12:56 +0200 (CEST) Received: from mails.dpdk.org (localhost [127.0.0.1]) by mails.dpdk.org (Postfix) with ESMTP id C3401402E2; Mon, 6 Oct 2025 07:12:56 +0200 (CEST) Received: from mail-yw1-f228.google.com (mail-yw1-f228.google.com [209.85.128.228]) by mails.dpdk.org (Postfix) with ESMTP id 3743D402E2 for ; Mon, 6 Oct 2025 07:12:55 +0200 (CEST) Received: by mail-yw1-f228.google.com with SMTP id 00721157ae682-71d5fe46572so60797587b3.1 for ; Sun, 05 Oct 2025 22:12:55 -0700 (PDT) DKIM-Signature: v=1; a=rsa-sha256; c=relaxed/relaxed; d=iol.unh.edu; s=unh-iol; t=1759727574; x=1760332374; darn=dpdk.org; h=references:in-reply-to:cc:to:from:subject:message-id:date:from:to :cc:subject:date:message-id:reply-to; bh=kk5UVlGhNrzPmvfSbwRaY7NiuODwQAv2DlRwf1hgB/0=; b=LrcAnvCzAnUPBLOmwDwwzIqSmhkFIPDzl8WYjEOqz1Z5f/kbd6VVw7IFzK7lXP7Nap +CEIkOatbzniDt8l152GkRMJiYumoTeZIRLnShWfQNIgHHjhMR17EXKaT4DW784P7RZA hFzavOXr2C4GsEAfaUCrJK4GXCOv2D2W9Uvkc= X-Google-DKIM-Signature: v=1; a=rsa-sha256; c=relaxed/relaxed; d=1e100.net; s=20230601; t=1759727574; x=1760332374; h=references:in-reply-to:cc:to:from:subject:message-id:date :x-gm-message-state:from:to:cc:subject:date:message-id:reply-to; bh=kk5UVlGhNrzPmvfSbwRaY7NiuODwQAv2DlRwf1hgB/0=; b=NrlJURJIpZXF3HYtMsdsLBu1NPBSzHoIiEvPR1dcJPrg/UeaNxUHoe7g0HjvWFnB62 aCLilUj3wrpI+HKY1d/VJeGkelcLg/zoDWN5AY64wha1ZPgCst55ihXJZRGIR4Hv/uMj zMg6Xa9G35pTkkS6WwDOTT1u7YktI76r+eCSwqq5vtfWVnPpDHHfHqQmMK75OSbBSras y0naoH2mIHuayoQbqaj9/kHevpK/nRW17y0g4sahyfoH1Q27BArRfb/brcL6vrUK4ti1 zBoMTVGUjB2FhqOV0SauwX/prnOJhz6z9d4Mk5rOd/DWp6tDBsoechKNsObbpBL4o4Zg 729g== X-Gm-Message-State: AOJu0YwLYugEzDjftkppeYboAAHxfXdIeXmlBmAC+pKu+Dsmr7rpowxq RF22JbRGfmYH99Uhk1PXzZ0AEnLCeyp+Rx1ZNyzGBcDSEST0NOsp1tNqVELCCVkG69rn6J5EEFh Xw9YDmEGfW9D3KDXbexrKxOPmTX+WysZ5/8/AUsnvA//S X-Gm-Gg: ASbGncvSc1RG+PKNizguINrPBjmy42/AtolPzivnukcFWzRd7C+fJ9kcK3x2Rg4AXGm LFFLkriuojDK4YxSgCxtLakZWASipYH1p04Kp5Jjjn7ZWFxMYyLZxUqgrv6wVyrWXPWBgifXgPK qgKNfeuI34HU2r5JlSt5e3Avp7JauBOBAGF6lBgWVjmPk7VIdFnSOjWdaDLj1gKVmutzoqjsU9q k08M2Dkq1ew8CjZO2rX811A9orVIk18288IaiTqJwlmmWWWVfBHLEIdOspFJEC3fHyV2ob3Mvre M1JyNGHK6jla1tDkSWVB+9VU8oRvlauZT7q4hhfozsaxXfUevUFPMKtoxscHhaAjlHc+DbXYM+o zcQ== X-Google-Smtp-Source: AGHT+IG9JioxiWRl5m1/o7oAkpYCmSSrI2WsF2jW2ul499ofOP7chtE2cvLW2Z6mJHAIZfRSbm0YuOuUhLV3 X-Received: by 2002:a05:690c:368a:b0:71f:9a36:d32e with SMTP id 00721157ae682-77f94bc4c37mr131557297b3.23.1759727574537; Sun, 05 Oct 2025 22:12:54 -0700 (PDT) Received: from postal.iol.unh.edu (postal.iol.unh.edu. [132.177.123.84]) by smtp-relay.gmail.com with ESMTPS id 00721157ae682-77f81d03f21sm6077907b3.26.2025.10.05.22.12.54 (version=TLS1_2 cipher=ECDHE-ECDSA-AES128-GCM-SHA256 bits=128/128); Sun, 05 Oct 2025 22:12:54 -0700 (PDT) X-Relaying-Domain: iol.unh.edu Date: Sun, 05 Oct 2025 22:12:54 -0700 (PDT) Message-ID: <68e34fd6.050a0220.10649f.007aSMTPIN_ADDED_MISSING@mx.google.com> Received: from [172.21.0.3] (unknown [172.18.0.240]) by postal.iol.unh.edu (Postfix) with ESMTP id 3A93E6051830; Mon, 6 Oct 2025 01:12:54 -0400 (EDT) Subject: |SUCCESS| pw157260 [PATCH] ethdev: fix copy-paste error in fn parame From: dpdklab@iol.unh.edu To: Test Report Cc: dpdk-test-reports@iol.unh.edu, Stephen Hemminger In-Reply-To: <20251003110944.1594659-1-bruce.richardson@intel.com> References: <20251003110944.1594659-1-bruce.richardson@intel.com> Content-Type: text/plain X-BeenThere: test-report@dpdk.org X-Mailman-Version: 2.1.29 Precedence: list List-Id: automatic DPDK test reports List-Unsubscribe: , List-Archive: List-Post: List-Help: List-Subscribe: , Errors-To: test-report-bounces@dpdk.org Test-Label: iol-compile-amd64-testing Test-Status: SUCCESS http://dpdk.org/patch/157260 _Testing PASS_ Submitter: Bruce Richardson Date: Friday, October 03 2025 11:09:44 DPDK git baseline: Repo:dpdk-next-net Branch: master CommitID:c04bbd131b2c14b3049bf86d3ef367b34e6fdf1e 157260 --> testing pass Upstream job id: Generic-DPDK-Compile-Meson#431358 Test environment and result as below: +---------------------+--------------------+-------------------+-------------------------+----------------------+-------------------+ | Environment | dpdk_meson_compile | dpdk_msvc_compile | dpdk_llvm_clang_compile | dpdk_mingw64_compile | dpdk_compile_spdk | +=====================+====================+===================+=========================+======================+===================+ | Ubuntu 20.04 | PASS | SKIPPED | SKIPPED | SKIPPED | SKIPPED | +---------------------+--------------------+-------------------+-------------------------+----------------------+-------------------+ | FreeBSD 14.2 | PASS | SKIPPED | SKIPPED | SKIPPED | SKIPPED | +---------------------+--------------------+-------------------+-------------------------+----------------------+-------------------+ | CentOS Stream 9 | PASS | SKIPPED | SKIPPED | SKIPPED | PASS | +---------------------+--------------------+-------------------+-------------------------+----------------------+-------------------+ | CentOS Stream 10 | PASS | SKIPPED | SKIPPED | SKIPPED | SKIPPED | +---------------------+--------------------+-------------------+-------------------------+----------------------+-------------------+ | Debian GNU/Linux 12 | PASS | SKIPPED | SKIPPED | SKIPPED | PASS | +---------------------+--------------------+-------------------+-------------------------+----------------------+-------------------+ | Windows Server 2022 | SKIPPED | PASS | PASS | PASS | SKIPPED | +---------------------+--------------------+-------------------+-------------------------+----------------------+-------------------+ Ubuntu 20.04 Kernel: 4.19 Compiler: gcc gcc (Ubuntu 9.4.0-1ubuntu1~20.04.2) 9.4.0 FreeBSD 14.2 Kernel: 14.2-RELEASE Compiler: clang 18.1.6 CentOS Stream 9 Kernel: 5.15 Compiler: gcc gcc (GCC) 11.5.0 20240719 (Red Hat 11.5.0-11) CentOS Stream 10 Kernel: 5.15 Compiler: gcc gcc (GCC) 14.2.1 20250110 (Red Hat 14.2.1-8) Debian GNU/Linux 12 Kernel: 5.15 Compiler: gcc gcc (Debian 12.2.0-14+deb12u1) 12.2.0 Windows Server 2022 Kernel: 10.0.20348.2031 Compiler: clang 15.0.7, gcc 14.1.0 (MinGW), and MSVC VS 19.39.33521 To view detailed results, visit: https://lab.dpdk.org/results/dashboard/patchsets/34208/ UNH-IOL DPDK Community Lab To manage your email subscriptions, visit: https://lab.dpdk.org/results/dashboard/preferences/subscriptions/