From mboxrd@z Thu Jan 1 00:00:00 1970 Return-Path: Received: from mails.dpdk.org (mails.dpdk.org [217.70.189.124]) by inbox.dpdk.org (Postfix) with ESMTP id CE838488BF for ; Mon, 6 Oct 2025 07:35:40 +0200 (CEST) Received: from mails.dpdk.org (localhost [127.0.0.1]) by mails.dpdk.org (Postfix) with ESMTP id C8E4E402E2; Mon, 6 Oct 2025 07:35:40 +0200 (CEST) Received: from mail-il1-f227.google.com (mail-il1-f227.google.com [209.85.166.227]) by mails.dpdk.org (Postfix) with ESMTP id 1F951402E2 for ; Mon, 6 Oct 2025 07:35:39 +0200 (CEST) Received: by mail-il1-f227.google.com with SMTP id e9e14a558f8ab-42f67e91ae7so18493505ab.0 for ; Sun, 05 Oct 2025 22:35:39 -0700 (PDT) DKIM-Signature: v=1; a=rsa-sha256; c=relaxed/relaxed; d=iol.unh.edu; s=unh-iol; t=1759728938; x=1760333738; darn=dpdk.org; h=cc:to:from:subject:message-id:date:from:to:cc:subject:date :message-id:reply-to; bh=PyRwr1TXIrGSnVeKS32KE1hgxFQRoh1wx8bU+zjow6w=; b=QP/jZb8Mpd2aXqYhiY9rFAk31U5s2k0AwgVlzydpd9ZVtkvF7veC5UqCXNL1UF9oJz fkcLoPavFVacUCzSTQyLeBPHnxBq2gIaavRugmaGBdxan8NwNVzY2tSxD5eKOoJM8Y3r Ozqczs2Ryq7e9vIE0lEINw6MmcukNkNTo/0/Q= X-Google-DKIM-Signature: v=1; a=rsa-sha256; c=relaxed/relaxed; d=1e100.net; s=20230601; t=1759728938; x=1760333738; h=cc:to:from:subject:message-id:date:x-gm-message-state:from:to:cc :subject:date:message-id:reply-to; bh=PyRwr1TXIrGSnVeKS32KE1hgxFQRoh1wx8bU+zjow6w=; b=QnIL9Va0Q8KldP8EB+gEXfyUarEdLRsGSPiy1QUESsQkg8FZCLWvkpqFDsjdt5y3jV JdSGuLCZi5XqvuPyIUEgWhR1FGw0aJGMeIBKPweJhyIyxbVoQCEuO7D+3JP9aUhp9Tp9 NujRHDn0EBgxN06EwjbTl5RTJAD1nvG+q+FCMJWYgYQnkgbEjahbs4Czl0U2oU3J6w5q 7EFbI30yaSgmXfJm978CL6X3akmZ5yU6dkjnsah9XSSYfBYisPIgN8yrssvF3FEIfjtd SjOyfEck5xSXAndYTk0WxG0TKTmk5ZaM/cVHPOKcdoZDdznsMJjNtTkTB0MUhlHS6YJe xZqQ== X-Gm-Message-State: AOJu0Yw0zSX0sfliJOxOV/wY/nzUK0SXKsBXLmFfsZuC1LUCBWUjZWtd kVcuYmXfuCUABXKiLdPM0HLEbyrrKtuFei+AbPcsLpNI7Uz7Hg5FhUV6k4U3qKHpAtapw+6Z2VA YydmFL9iWJz7pRDfDnQ20sLdvFwNCejdAfTZ9lnyk0Q/k/AW+abpn X-Gm-Gg: ASbGncuI4Pf9hNz5AnwEErIdM9y5IdVep1hUvuPsoTyHDRb8Uzw+hAFbwx1VvfEKnMT ZPp9fYt5ktJqEjuh/MmXdbWyj+2wNyWo1U2t8PXinTBFiZ1jTvdVil16A7N/GQ/xf7180KVOP0w pR/8ewqDYbpAq7Hlqpwfu2pQkcVu79R1Si9g/TYkJqtmxrx3BngafJGJYMdHsQQEGK6/P54JDrG qnTzLwPQ9xKfZYJxKi2NY0IhM7SxpKXdBfWzrO/DHbnWq3Akb4YjY25bCPjFKa3BII+ziu9aw+e CeHtUmchWzvaIvhVjfVxYkL53B6rqw5ia3mfQHns5lRMVnnb7Mxd/O4= X-Google-Smtp-Source: AGHT+IH92pRypETaz6zezJOwT35QGKxlffiX9YJX02My7sBOlS9VTOgEe0CRTamq530bKlEb10pAGnRk0aAy X-Received: by 2002:a05:6e02:1885:b0:42d:84ec:b5e5 with SMTP id e9e14a558f8ab-42e7ad04f91mr167678805ab.3.1759728938458; Sun, 05 Oct 2025 22:35:38 -0700 (PDT) Received: from postal.iol.unh.edu (postal.iol.unh.edu. [2606:4100:3880:1234::84]) by smtp-relay.gmail.com with ESMTPS id e9e14a558f8ab-42d8b290382sm9039235ab.33.2025.10.05.22.35.38 (version=TLS1_2 cipher=ECDHE-ECDSA-AES128-GCM-SHA256 bits=128/128); Sun, 05 Oct 2025 22:35:38 -0700 (PDT) X-Relaying-Domain: iol.unh.edu Date: Sun, 05 Oct 2025 22:35:38 -0700 (PDT) Message-ID: <68e3552a.050a0220.23f770.3298SMTPIN_ADDED_MISSING@mx.google.com> Received: from [172.21.0.3] (unknown [172.18.0.240]) by postal.iol.unh.edu (Postfix) with ESMTP id 07A506051830; Mon, 6 Oct 2025 01:35:38 -0400 (EDT) Subject: |SUCCESS| [GIT MASTER] b287e404643aeab5bb5db084c142789df187844e From: dpdklab@iol.unh.edu To: Test Report Cc: dpdk-test-reports@iol.unh.edu, Xueming Li , Christian Ehrhardt , Kevin Traynor , Luca Boccassi Content-Type: text/plain X-BeenThere: test-report@dpdk.org X-Mailman-Version: 2.1.29 Precedence: list List-Id: automatic DPDK test reports List-Unsubscribe: , List-Archive: List-Post: List-Help: List-Subscribe: , Errors-To: test-report-bounces@dpdk.org _Testing PASS_ Branch: tags/v24.11 b287e404643aeab5bb5db084c142789df187844e --> testing pass Upstream job id: Generic-Unit-Test-DPDK#378699 Test environment and result as below: +-------------------------------+----------------+ | Environment | dpdk_unit_test | +===============================+================+ | CentOS Stream 10 | PASS | +-------------------------------+----------------+ | CentOS Stream 9 | PASS | +-------------------------------+----------------+ | Debian GNU/Linux 12 | PASS | +-------------------------------+----------------+ | Fedora Linux 40 | PASS | +-------------------------------+----------------+ | Fedora Linux 41 | PASS | +-------------------------------+----------------+ | Fedora Linux 42 | PASS | +-------------------------------+----------------+ | Red Hat Enterprise Linux 8.10 | PASS | +-------------------------------+----------------+ | Ubuntu 24.04 | PASS | +-------------------------------+----------------+ | Ubuntu 22.04 | PASS | +-------------------------------+----------------+ | Ubuntu 20.04 | PASS | +-------------------------------+----------------+ | Red Hat Enterprise Linux 9.5 | PASS | +-------------------------------+----------------+ | Windows Server 2022 | PASS | +-------------------------------+----------------+ CentOS Stream 10 Kernel: 5.15 Compiler: gcc gcc (GCC) 14.2.1 20250110 (Red Hat 14.2.1-8) CentOS Stream 9 Kernel: 5.15 Compiler: gcc gcc (GCC) 11.5.0 20240719 (Red Hat 11.5.0-11) Debian GNU/Linux 12 Kernel: 5.15 Compiler: gcc gcc (Debian 12.2.0-14+deb12u1) 12.2.0 Fedora Linux 40 Kernel: 5.15 Compiler: gcc gcc (GCC) 14.2.1 20240912 (Red Hat 14.2.1-3) Fedora Linux 41 Kernel: 5.15 Compiler: clang gcc (GCC) 14.3.1 20250523 (Red Hat 14.3.1-1) Fedora Linux 42 Kernel: 5.15 Compiler: clang gcc (GCC) 15.2.1 20250808 (Red Hat 15.2.1-1) Red Hat Enterprise Linux 8.10 Kernel: 5.15 Compiler: gcc gcc (GCC) 8.5.0 20210514 (Red Hat 8.5.0-22) Ubuntu 24.04 Kernel: 5.15 Compiler: gcc gcc (Ubuntu 13.3.0-6ubuntu2~24.04) 13.3.0 Ubuntu 22.04 Kernel: 5.15 Compiler: gcc gcc (Ubuntu 11.4.0-1ubuntu1~22.04) 11.4.0 Ubuntu 20.04 Kernel: 5.15 Compiler: gcc gcc (Ubuntu 9.4.0-1ubuntu1~20.04.2) 9.4.0 Red Hat Enterprise Linux 9.5 Kernel: 5.15 Compiler: gcc gcc (GCC) 11.5.0 20240719 (Red Hat 11.5.0-2) Windows Server 2022 Kernel: 10.0.20348.2031 Compiler: clang 15.0.7, gcc 14.1.0 (MinGW), and MSVC VS 19.39.33521 To view detailed results, visit: https://lab.dpdk.org/results/dashboard/tarballs/35115/ UNH-IOL DPDK Community Lab To manage your email subscriptions, visit: https://lab.dpdk.org/results/dashboard/preferences/subscriptions/