From mboxrd@z Thu Jan 1 00:00:00 1970 Return-Path: Received: from mails.dpdk.org (mails.dpdk.org [217.70.189.124]) by inbox.dpdk.org (Postfix) with ESMTP id 7F1E2488C2 for ; Mon, 6 Oct 2025 08:19:18 +0200 (CEST) Received: from mails.dpdk.org (localhost [127.0.0.1]) by mails.dpdk.org (Postfix) with ESMTP id 78F7E402AF; Mon, 6 Oct 2025 08:19:18 +0200 (CEST) Received: from mail-pj1-f99.google.com (mail-pj1-f99.google.com [209.85.216.99]) by mails.dpdk.org (Postfix) with ESMTP id BEE6E402AF for ; Mon, 6 Oct 2025 08:19:16 +0200 (CEST) Received: by mail-pj1-f99.google.com with SMTP id 98e67ed59e1d1-33067909400so3328115a91.2 for ; Sun, 05 Oct 2025 23:19:16 -0700 (PDT) DKIM-Signature: v=1; a=rsa-sha256; c=relaxed/relaxed; d=iol.unh.edu; s=unh-iol; t=1759731556; x=1760336356; darn=dpdk.org; h=references:in-reply-to:cc:to:from:subject:message-id:date:from:to :cc:subject:date:message-id:reply-to; bh=4H3vAR7wMG58YGm3OF+rO80QAWxhI2Pp3nVJ5rD2ezQ=; b=f+tOtEB/8SsNqpcSwEJ+sbqwc4hSo4lXpBjneYRDCSQkdXpVS39jcTnEC/c2rLjE3+ wq7LN8bOf0TJAWjG8MiHToALmOaO0BIIyfQi68+pjGm4k+Geq+tBbQoVkm8jsbwCjz0F 1EuY3XupRT6InoHfh+f1eNXxAZp5t6JJ2lGCE= X-Google-DKIM-Signature: v=1; a=rsa-sha256; c=relaxed/relaxed; d=1e100.net; s=20230601; t=1759731556; x=1760336356; h=references:in-reply-to:cc:to:from:subject:message-id:date :x-gm-message-state:from:to:cc:subject:date:message-id:reply-to; bh=4H3vAR7wMG58YGm3OF+rO80QAWxhI2Pp3nVJ5rD2ezQ=; b=Q8PLzeprdts5LHrD+kFR5rKtHnYgE4yurENgjA/K4HN//V1FvBVgx5kZZR1YXgWMLE UdmQx34UV0P2joA5LiF65XjFNJtahoKEwwIkVy0xlY2FelY5JUgTdr5Ug5gdqsc8yVkI Aer2bN4bNmsBvymGyCVsuD6lBZl4yFcAXRgHnzTQg8prNhAP8IRx3FGyIpQo/f738wNn uqtYTxgyITwyfo4o9PKSYRe9quj2piLCb8mCfa08k++y5jTrL0CH0tboIQ0tRuJyz4RQ Tcw5FJunMSYB3gbkVFBsIIuRJGBnaGKvFc9gL6RWmFleWTXFQCzvCuNV0V63fpp3Y4qj Qzcw== X-Gm-Message-State: AOJu0Yx4UXQq8+CwEn7F7MfJKMIQWq5USImeqKN5b0LFaAYNB2Cb4uvy 0C+17f/xpX3HdnSqFr5NTmXRtc7Pl6ki1D44AD35C/exiBEcucF3nuaUNvgfiSpQTvJsW2tYGQs TciThuv1U4iXqv7BZ/4CIpU+ZvGtovisuMSbSfAYDDw1T X-Gm-Gg: ASbGnctm0Ea50CZ0Uh02V21EZjGF3FgTyh9rSc0PoD00giJtropDSCtH8vkNzExQfSU dl1oxk5MOnt+ISOMZ2SxTH7AJOlavymCVa/RAdhYEhsZOr3Ur2trsXTjggtXj0iomIEjsydp5/s B5smRk5mBlFnQR5a2l8WB9e9xLg2GvQ32C23cZnc02vNTWWzkUiFWYG+k4EXTspxaTbMAECA3j0 uawNZxPZ+IhBzSLHVTRmvhI9dBDLi90EvvgnprHqLgd1XjnWrzLDljmcgdlL7ujxl7/osw5ABuq KQ54nPaxtKdQygNlLl1onIGW3iH0rW042Rj1NxkXuU/4AMH2QLev335hreINXE0uyMEFFKA8nHO okA== X-Google-Smtp-Source: AGHT+IGWBbhjTe1SU/+rmraGHmWCMY3c52eLt2Qq6zCHL/+jnmN4m1dcGI0BWlyWPAzJdC5OqTjKZdLrOrnq X-Received: by 2002:a17:90b:1d92:b0:32e:389b:8762 with SMTP id 98e67ed59e1d1-339c264f452mr14685406a91.0.1759731555906; Sun, 05 Oct 2025 23:19:15 -0700 (PDT) Received: from postal.iol.unh.edu (postal.iol.unh.edu. [132.177.123.84]) by smtp-relay.gmail.com with ESMTPS id 98e67ed59e1d1-339b4e977e5sm1056656a91.2.2025.10.05.23.19.15 (version=TLS1_2 cipher=ECDHE-ECDSA-AES128-GCM-SHA256 bits=128/128); Sun, 05 Oct 2025 23:19:15 -0700 (PDT) X-Relaying-Domain: iol.unh.edu Date: Sun, 05 Oct 2025 23:19:15 -0700 (PDT) Message-ID: <68e35f63.170a0220.12bfbc.a09fSMTPIN_ADDED_MISSING@mx.google.com> Received: from [172.21.0.2] (unknown [172.18.0.240]) by postal.iol.unh.edu (Postfix) with ESMTP id 31B996051830; Mon, 6 Oct 2025 02:19:15 -0400 (EDT) Subject: |SUCCESS| pw157278-157282 [PATCH] [5/5] net/cnxk: enable CPT CQ for From: dpdklab@iol.unh.edu To: Test Report Cc: dpdk-test-reports@iol.unh.edu In-Reply-To: <20251006051402.1387576-5-rkudurumalla@marvell.com> References: <20251006051402.1387576-5-rkudurumalla@marvell.com> Content-Type: text/plain X-BeenThere: test-report@dpdk.org X-Mailman-Version: 2.1.29 Precedence: list List-Id: automatic DPDK test reports List-Unsubscribe: , List-Archive: List-Post: List-Help: List-Subscribe: , Errors-To: test-report-bounces@dpdk.org Test-Label: iol-compile-amd64-testing Test-Status: SUCCESS http://dpdk.org/patch/157282 _Testing PASS_ Submitter: Rakesh Kudurumalla Date: Monday, October 06 2025 05:14:02 DPDK git baseline: Repo:dpdk-next-net-mrvl Branch: master CommitID:f3878b615e69a12087a6c5d212723478cfc79c31 157278-157282 --> testing pass Upstream job id: Windows-Compile-DPDK-Native#31437 Test environment and result as below: +---------------------+--------------------+-------------------+-------------------------+ | Environment | dpdk_meson_compile | dpdk_msvc_compile | dpdk_llvm_clang_compile | +=====================+====================+===================+=========================+ | Ubuntu 20.04 | PASS | SKIPPED | SKIPPED | +---------------------+--------------------+-------------------+-------------------------+ | FreeBSD 14.2 | PASS | SKIPPED | SKIPPED | +---------------------+--------------------+-------------------+-------------------------+ | Windows Server 2022 | SKIPPED | PASS | PASS | +---------------------+--------------------+-------------------+-------------------------+ Ubuntu 20.04 Kernel: 4.19 Compiler: gcc gcc (Ubuntu 9.4.0-1ubuntu1~20.04.2) 9.4.0 FreeBSD 14.2 Kernel: 14.2-RELEASE Compiler: clang 18.1.6 Windows Server 2022 Kernel: 10.0.20348.2031 Compiler: clang 15.0.7, gcc 14.1.0 (MinGW), and MSVC VS 19.39.33521 To view detailed results, visit: https://lab.dpdk.org/results/dashboard/patchsets/34217/ UNH-IOL DPDK Community Lab To manage your email subscriptions, visit: https://lab.dpdk.org/results/dashboard/preferences/subscriptions/