From mboxrd@z Thu Jan 1 00:00:00 1970 Return-Path: Received: from mails.dpdk.org (mails.dpdk.org [217.70.189.124]) by inbox.dpdk.org (Postfix) with ESMTP id A913E488C2 for ; Mon, 6 Oct 2025 08:31:13 +0200 (CEST) Received: from mails.dpdk.org (localhost [127.0.0.1]) by mails.dpdk.org (Postfix) with ESMTP id 8D257402AF; Mon, 6 Oct 2025 08:31:13 +0200 (CEST) Received: from mail-io1-f97.google.com (mail-io1-f97.google.com [209.85.166.97]) by mails.dpdk.org (Postfix) with ESMTP id 86EEB402AF for ; Mon, 6 Oct 2025 08:31:11 +0200 (CEST) Received: by mail-io1-f97.google.com with SMTP id ca18e2360f4ac-92790f12293so212322839f.2 for ; Sun, 05 Oct 2025 23:31:11 -0700 (PDT) DKIM-Signature: v=1; a=rsa-sha256; c=relaxed/relaxed; d=iol.unh.edu; s=unh-iol; t=1759732271; x=1760337071; darn=dpdk.org; h=references:in-reply-to:cc:to:from:subject:message-id:date:from:to :cc:subject:date:message-id:reply-to; bh=75BA6r0tRllERuMeXfXXHxNwkyEgZ9IyuTFq+/SshWE=; b=ZcWZv5AQBNswWAadglm1wlx1/ZumqaLzJeLSUqgjoaJ7JdVxVXaRxyxOlVXltHog5m BmqZ/tzWWp15Ji6PgznYdtHT8lP2Ct0h+yPQ32wgZDsL7/gQFzkr2HUy9DJukshtLu2R vrUweXxLo1hIhILIzkItFJdhBYLbN0gjeEyzk= X-Google-DKIM-Signature: v=1; a=rsa-sha256; c=relaxed/relaxed; d=1e100.net; s=20230601; t=1759732271; x=1760337071; h=references:in-reply-to:cc:to:from:subject:message-id:date :x-gm-message-state:from:to:cc:subject:date:message-id:reply-to; bh=75BA6r0tRllERuMeXfXXHxNwkyEgZ9IyuTFq+/SshWE=; b=BDXUZUMqq/WQWjjOwQRM92DyWlS8GcPmUC30c8MNIlXUo9A4yw8QB36EeTCIylQ3VT ALm+ZyY9OYEW+Rebr98peLos3RAWjf64hPokEUwu3Pe7u3i+o9x4ZTpmSQz3eR8xJGlb 4XYOIw99TV6Yh0rfz4R2XlwHvvAju1DdZW/NyUJE9tiwBj27VrRB1F1Lxgt0Sw+ytQOd I8eOOl5EPPTTgI488uAJc5n9vDC/kvRQm3h1YZY0/Zf3xqp4BTPFyGlEel1D9Zi3e475 xpsJmrqTV2x7zaYnCsRWIgIyUP0TBrk/9JoPW4KTi1TyZu1MpIk20d6oEgXnYRk50j8X JZxg== X-Gm-Message-State: AOJu0YyZe3AQFSYgd5s/WmVKLHGfayJ05JcsAKyTsBc8W2OyyFIXVUI4 4WmW4XvPCfzwwDFWVKpk+CwzpEuTY79O1dMUnCzu05CBUsZmpLjLgGPwTfpz5y310rNEwJisPJ4 a33Lk1RidCucOHweSpYhqf6No/25gzPkva7oJ2quFEYFmF4ojP49luFZzIE1e X-Gm-Gg: ASbGnctw8UN8fNKm5xflEcK3BDMO+QNyLO4mMba3pZxWkiwfs/R8acBUhX+u6EzwCKY pF0q+anoVbKEmB2F7JuMzrmJrdozRwvk6JxVongGNwRZQYM6hvs76gA3ex7wajpDsB5YSIuXuR0 rCG+wUiC2vEh+6B5S6BqTWbDTbWib41Dnj2K1ggwy9pjXpu2DeQi44tWTBxW9oGkJ7+oXMYqlRj kuicGIOBIt5FL5efs+zYlu1RRk37VL49PTf5eEtGsqAf1gyOyNPlMqJO69bL+2+dQM/zhwIbZ8E JB3p7fMSiOErlGSUKZXQVOCPKxIyl9ZZ4lzLkJDnAyMbyQ0SNXe2CL8= X-Google-Smtp-Source: AGHT+IGpPCQw8p9p4VgOyzNQlhzkYFywXxAIc2Drhm0bZ4BHVIR1Jxkh5mMgcaS9WJJFMGuV0N5712ZGZxj+ X-Received: by 2002:a05:6602:2cc5:b0:926:295d:81ba with SMTP id ca18e2360f4ac-93b96964867mr1677634139f.5.1759732270762; Sun, 05 Oct 2025 23:31:10 -0700 (PDT) Received: from postal.iol.unh.edu (postal.iol.unh.edu. [2606:4100:3880:1234::84]) by smtp-relay.gmail.com with ESMTPS id 8926c6da1cb9f-57b5ed690c6sm950935173.35.2025.10.05.23.31.10 (version=TLS1_2 cipher=ECDHE-ECDSA-AES128-GCM-SHA256 bits=128/128); Sun, 05 Oct 2025 23:31:10 -0700 (PDT) X-Relaying-Domain: iol.unh.edu Date: Sun, 05 Oct 2025 23:31:10 -0700 (PDT) Message-ID: <68e3622e.050a0220.269570.43c4SMTPIN_ADDED_MISSING@mx.google.com> Received: from [172.21.0.2] (unknown [172.18.0.240]) by postal.iol.unh.edu (Postfix) with ESMTP id 49ED36051830; Mon, 6 Oct 2025 02:31:10 -0400 (EDT) Subject: |SUCCESS| pw157278-157282 [PATCH] [5/5] net/cnxk: enable CPT CQ for From: dpdklab@iol.unh.edu To: Test Report Cc: dpdk-test-reports@iol.unh.edu In-Reply-To: <20251006051402.1387576-5-rkudurumalla@marvell.com> References: <20251006051402.1387576-5-rkudurumalla@marvell.com> Content-Type: text/plain X-BeenThere: test-report@dpdk.org X-Mailman-Version: 2.1.29 Precedence: list List-Id: automatic DPDK test reports List-Unsubscribe: , List-Archive: List-Post: List-Help: List-Subscribe: , Errors-To: test-report-bounces@dpdk.org Test-Label: iol-compile-amd64-testing Test-Status: SUCCESS http://dpdk.org/patch/157282 _Testing PASS_ Submitter: Rakesh Kudurumalla Date: Monday, October 06 2025 05:14:02 DPDK git baseline: Repo:dpdk-next-net-mrvl Branch: master CommitID:f3878b615e69a12087a6c5d212723478cfc79c31 157278-157282 --> testing pass Upstream job id: Windows-Compile-DPDK-Native#31438 Test environment and result as below: +---------------------+--------------------+-------------------+-------------------------+----------------------+ | Environment | dpdk_meson_compile | dpdk_msvc_compile | dpdk_llvm_clang_compile | dpdk_mingw64_compile | +=====================+====================+===================+=========================+======================+ | Ubuntu 20.04 | PASS | SKIPPED | SKIPPED | SKIPPED | +---------------------+--------------------+-------------------+-------------------------+----------------------+ | FreeBSD 14.2 | PASS | SKIPPED | SKIPPED | SKIPPED | +---------------------+--------------------+-------------------+-------------------------+----------------------+ | Windows Server 2022 | SKIPPED | PASS | PASS | PASS | +---------------------+--------------------+-------------------+-------------------------+----------------------+ Ubuntu 20.04 Kernel: 4.19 Compiler: gcc gcc (Ubuntu 9.4.0-1ubuntu1~20.04.2) 9.4.0 FreeBSD 14.2 Kernel: 14.2-RELEASE Compiler: clang 18.1.6 Windows Server 2022 Kernel: 10.0.20348.2031 Compiler: clang 15.0.7, gcc 14.1.0 (MinGW), and MSVC VS 19.39.33521 To view detailed results, visit: https://lab.dpdk.org/results/dashboard/patchsets/34217/ UNH-IOL DPDK Community Lab To manage your email subscriptions, visit: https://lab.dpdk.org/results/dashboard/preferences/subscriptions/