From mboxrd@z Thu Jan 1 00:00:00 1970 Return-Path: Received: from mails.dpdk.org (mails.dpdk.org [217.70.189.124]) by inbox.dpdk.org (Postfix) with ESMTP id E36E5488C2 for ; Mon, 6 Oct 2025 08:33:45 +0200 (CEST) Received: from mails.dpdk.org (localhost [127.0.0.1]) by mails.dpdk.org (Postfix) with ESMTP id DE54A402AF; Mon, 6 Oct 2025 08:33:45 +0200 (CEST) Received: from mail-pj1-f99.google.com (mail-pj1-f99.google.com [209.85.216.99]) by mails.dpdk.org (Postfix) with ESMTP id EC46F402AF for ; Mon, 6 Oct 2025 08:33:43 +0200 (CEST) Received: by mail-pj1-f99.google.com with SMTP id 98e67ed59e1d1-32ed19ce5a3so4188582a91.0 for ; Sun, 05 Oct 2025 23:33:43 -0700 (PDT) DKIM-Signature: v=1; a=rsa-sha256; c=relaxed/relaxed; d=iol.unh.edu; s=unh-iol; t=1759732423; x=1760337223; darn=dpdk.org; h=cc:to:from:subject:message-id:date:from:to:cc:subject:date :message-id:reply-to; bh=EPIP69yyhMCNAcMYSlQoePoeKphWLvlt4kp14zsZeT4=; b=RqYvfMcXAtt/39xRyV0zHYBbJBnxw/frCfy+wIxP18xu0fpJNhflKBEICPUHGr+aoh STNdkCUMSpwICnZ8GQQPuga/KdUseQdzR0LBVyMmgSR+k72CZ76pB6PR5s7ADZWSWNW+ GCof+sRn4t1SjuiCsXjLWZIycnEYXgWbBbU0I= X-Google-DKIM-Signature: v=1; a=rsa-sha256; c=relaxed/relaxed; d=1e100.net; s=20230601; t=1759732423; x=1760337223; h=cc:to:from:subject:message-id:date:x-gm-message-state:from:to:cc :subject:date:message-id:reply-to; bh=EPIP69yyhMCNAcMYSlQoePoeKphWLvlt4kp14zsZeT4=; b=mwzX77K+H2FQuiXZOls2/8ho1t36QBC3aCHPKLyPLm+0wd9myjpLJHzkLmftCumetj cTyYvscQb27dACtOzVUa6g0By6n66dTU6mzlQqWxN3gLSrtMNbgSd5FNaIoYP2u8R90d O/KbOyHulWkuY0yppvwGWSCpR/kNwx1tqkFLW5quBT3je5ZCiV6Y5LpMeqK4aQigBK1q cJy+NbgSoZu/s1QsaSx8+E/0KnbkiLTeZNMMk69EGxUM9dAQ9nDfu6gAehOZDaFDC/QU Ga1BUUuYzug+OCSYK0DPPGMH6ZXGmqzRN/mlTw/UcdR+6qAN2POcjf+NfRKOLHrb+M2j QP5Q== X-Gm-Message-State: AOJu0YzbR+JrnG8aj8SiYiHM3dxvOFjq/VISdI7rCjfMmdm4Eo2RLHo3 /noMNOAWfiJB7mnDA5eyHxPNeTry7arGqqpM/B2NWk5XBXA8zT92QiIi5uKEMKWMYw1ZdxBbg3V gY/j0wODlpzPsxm+xVKTnL8ossFBHcywNBLmuGEEksARyHc74oiug X-Gm-Gg: ASbGncssMgLUTOJOipV4JPDtdWOwqqZQUALhIv6Mlr/HxVRS1/ExraBOqANQfqbVxSb QXw0wJEHtDTpxRn+2NlZtMcL+fxh+oJQMtJEXw7miQHegFfuZjN0c6UycNIt8HdJoPj2V2FeGdh FyCcEgTvl2DRoAgCP+5dtW/EOHI1HMwtYf62oTO6IdtC8qfySY1L6dwUTlIf5DbL/Uh2Wb2d6Ed HYn5x3SFbS91/9LH+gnMKhx2DwbfLzSwKaDXaFtHNND5iq/OvvxHW+CS0pPp7SknGeK1vIy1ck5 D/+Qo0UKsYMzXeDBp9N25/cdPXdnnHIya4AA3Hoc+rRSDuA+JvoCm5U= X-Google-Smtp-Source: AGHT+IFVH1qS4iRvtyJF/IU/VFAByy3Lfx3bxwod4YvPK+GhcoX4BBHV1YLAVhfijs1bkZcXZPANwQRtqUqK X-Received: by 2002:a17:90b:1a8b:b0:32e:3686:830e with SMTP id 98e67ed59e1d1-339c278e63bmr15057483a91.23.1759732422988; Sun, 05 Oct 2025 23:33:42 -0700 (PDT) Received: from postal.iol.unh.edu (postal.iol.unh.edu. [2606:4100:3880:1234::84]) by smtp-relay.gmail.com with ESMTPS id 98e67ed59e1d1-339b4f338besm1184421a91.8.2025.10.05.23.33.42 (version=TLS1_2 cipher=ECDHE-ECDSA-AES128-GCM-SHA256 bits=128/128); Sun, 05 Oct 2025 23:33:42 -0700 (PDT) X-Relaying-Domain: iol.unh.edu Date: Sun, 05 Oct 2025 23:33:42 -0700 (PDT) Message-ID: <68e362c6.170a0220.1d4c58.1822SMTPIN_ADDED_MISSING@mx.google.com> Received: from [172.21.0.2] (unknown [172.18.0.240]) by postal.iol.unh.edu (Postfix) with ESMTP id E54856051830; Mon, 6 Oct 2025 02:33:41 -0400 (EDT) Subject: |SUCCESS| [GIT MASTER] b287e404643aeab5bb5db084c142789df187844e From: dpdklab@iol.unh.edu To: Test Report Cc: dpdk-test-reports@iol.unh.edu, Xueming Li , Christian Ehrhardt , Kevin Traynor , Luca Boccassi Content-Type: text/plain X-BeenThere: test-report@dpdk.org X-Mailman-Version: 2.1.29 Precedence: list List-Id: automatic DPDK test reports List-Unsubscribe: , List-Archive: List-Post: List-Help: List-Subscribe: , Errors-To: test-report-bounces@dpdk.org _Testing PASS_ Branch: tags/v24.11 b287e404643aeab5bb5db084c142789df187844e --> testing pass Upstream job id: Generic-DPDK-Compile-Meson#431211 Test environment and result as below: +------------------------------+--------------------+ | Environment | dpdk_meson_compile | +==============================+====================+ | Red Hat Enterprise Linux 9.5 | PASS | +------------------------------+--------------------+ | Ubuntu 20.04 | PASS | +------------------------------+--------------------+ | Debian GNU/Linux 12 | PASS | +------------------------------+--------------------+ | Fedora Linux 42 | PASS | +------------------------------+--------------------+ | Ubuntu 22.04 | PASS | +------------------------------+--------------------+ | Ubuntu 24.04 | PASS | +------------------------------+--------------------+ | CentOS Stream 9 | PASS | +------------------------------+--------------------+ | CentOS Stream 10 | PASS | +------------------------------+--------------------+ Red Hat Enterprise Linux 9.5 Kernel: 5.4 Compiler: gcc gcc (GCC) 11.5.0 20240719 (Red Hat 11.5.0-2) Ubuntu 20.04 Kernel: 5.15 Compiler: aarch64-linux-gnu-gcc gcc (Ubuntu 9.4.0-1ubuntu1~20.04.2) 9.4.0 Debian GNU/Linux 12 Kernel: 5.4 Compiler: gcc gcc (Debian 12.2.0-14+deb12u1) 12.2.0 Fedora Linux 42 Kernel: 5.4 Compiler: gcc gcc (GCC) 15.2.1 20250808 (Red Hat 15.2.1-1) Ubuntu 22.04 Kernel: 5.4 Compiler: gcc gcc (Ubuntu 11.4.0-1ubuntu1~22.04) 11.4.0 Ubuntu 24.04 Kernel: 5.4 Compiler: gcc gcc (Ubuntu 13.3.0-6ubuntu2~24.04) 13.3.0 CentOS Stream 9 Kernel: 5.4 Compiler: gcc gcc (GCC) 11.5.0 20240719 (Red Hat 11.5.0-11) CentOS Stream 10 Kernel: 5.4 Compiler: gcc gcc (GCC) 14.2.1 20250110 (Red Hat 14.2.1-8) To view detailed results, visit: https://lab.dpdk.org/results/dashboard/tarballs/35091/ UNH-IOL DPDK Community Lab To manage your email subscriptions, visit: https://lab.dpdk.org/results/dashboard/preferences/subscriptions/