From mboxrd@z Thu Jan 1 00:00:00 1970 Return-Path: Received: from mails.dpdk.org (mails.dpdk.org [217.70.189.124]) by inbox.dpdk.org (Postfix) with ESMTP id 4233B488C2 for ; Mon, 6 Oct 2025 08:44:22 +0200 (CEST) Received: from mails.dpdk.org (localhost [127.0.0.1]) by mails.dpdk.org (Postfix) with ESMTP id 18814402AF; Mon, 6 Oct 2025 08:44:22 +0200 (CEST) Received: from mail-io1-f100.google.com (mail-io1-f100.google.com [209.85.166.100]) by mails.dpdk.org (Postfix) with ESMTP id 947B6402AF for ; Mon, 6 Oct 2025 08:44:21 +0200 (CEST) Received: by mail-io1-f100.google.com with SMTP id ca18e2360f4ac-90926724bceso389098139f.1 for ; Sun, 05 Oct 2025 23:44:21 -0700 (PDT) DKIM-Signature: v=1; a=rsa-sha256; c=relaxed/relaxed; d=iol.unh.edu; s=unh-iol; t=1759733061; x=1760337861; darn=dpdk.org; h=cc:to:from:subject:message-id:date:from:to:cc:subject:date :message-id:reply-to; bh=Fd6TY2ACqgIFEjb2QpU2iLYyJE3GVbfUxQuYlRe9C8s=; b=dK64qyvwkZcxQInsv2RuJ47K118XPo63MbFpXDJ5/o71EReYvywy2v6julUOxD6dRm MpFbHg5wH11OgVL0f+0ZScChC+ZBlmjQLUbCvZCpLfIYLvFdq9HQEB2fsIpSowucHQXF Nj3S/C0NTBAxE+3rsrpjUF1Y9pn3bvQeZZ5ls= X-Google-DKIM-Signature: v=1; a=rsa-sha256; c=relaxed/relaxed; d=1e100.net; s=20230601; t=1759733061; x=1760337861; h=cc:to:from:subject:message-id:date:x-gm-message-state:from:to:cc :subject:date:message-id:reply-to; bh=Fd6TY2ACqgIFEjb2QpU2iLYyJE3GVbfUxQuYlRe9C8s=; b=rJp7tr4ZhKHs3pq091gDWS+P2/21iaeo3/jbYPATYe3J22MvSS1iWXzw937d7L2l4k S/dkb+Kjck0iabG7hswqeEnTQlXyYYupdUUv9RZYgvYVtqVOFzW62ACpPCoHqFTMlgJO H9cMleGgabfLoYvCPyBNHBX+NhYu7Rvj9BEcnz5SLYXOx+NdaNS9/WxIT+mrPkIJf/lI xm74Mi/rBGpLBGTSfzuER6A1Kbm2WbO+Ug7tkTSqPS7vv2RFj98iGWg6Vy4ue4N8kxaI uPUMgZW0DgvZV4BhrZbZHgEPefx8X3aib8w1AMF3a9JPa1E4L/1j0X2L5r5e5jaAOodY FKlQ== X-Gm-Message-State: AOJu0Yxhghsz7Drtpvfp0qX+lENyQpUoFVLKFtO5zJYhRpRXmPL6vpR8 2PI9fnSGQaqYkC0rjwTTUWNHoltrd/xFrF4+vBk5vtGYqud6OPYHONYjr31jOA+Op+f3ItHlAfp ANEdagK4Kdb0Pg4/08J+dYBzOyEi7xBXUWmz5EU4xJJHY X-Gm-Gg: ASbGncvQIvGMr2e4a+zuyCtAKF8kA7MiQBRiBRJVTvlOtRf3QeBaLrtGmuOVMY6KPXi HAmFjU07im/eV+KGgeTdFWZUX8Wbo2GFsuqojSVrclCbyn6GaAazWR75Y8Gnmeyb966hxd4t/lS +IIps9C7F+FmTvMAY7mHqKfitpOoZEcb1unbbdL00ZVHU5RXN+bxChO8yerlZa53XB5sQZyTUIx IiL1NYpQFb8/zb8wLaG/Rm7ZVYLG+OcJIM1qx5E+TNMpt22cvTUzerDe1nJ4jEeQ1yAiTd608Nu MERR3TzqKAyxFhVMrioE93K8JKstJyaXjkBSBBy7jiT32AmGjqj/bvd2gtn903PU2HVa08VpTni UWw== X-Google-Smtp-Source: AGHT+IHPiguG5CnbNHbrZ4WRGQxEk5LKSjB5z7L1O3dlypRExqye89iQZ+vPpUSLXl81xMfG+571S8wCCX1n X-Received: by 2002:a92:c26e:0:b0:42e:7a47:279a with SMTP id e9e14a558f8ab-42e7ad16edamr150789455ab.8.1759733060746; Sun, 05 Oct 2025 23:44:20 -0700 (PDT) Received: from postal.iol.unh.edu (postal.iol.unh.edu. [132.177.123.84]) by smtp-relay.gmail.com with ESMTPS id 8926c6da1cb9f-57b5edd2601sm800473173.48.2025.10.05.23.44.20 (version=TLS1_2 cipher=ECDHE-ECDSA-AES128-GCM-SHA256 bits=128/128); Sun, 05 Oct 2025 23:44:20 -0700 (PDT) X-Relaying-Domain: iol.unh.edu Date: Sun, 05 Oct 2025 23:44:20 -0700 (PDT) Message-ID: <68e36544.050a0220.3d6405.b57fSMTPIN_ADDED_MISSING@mx.google.com> Received: from [172.21.0.2] (unknown [172.18.0.240]) by postal.iol.unh.edu (Postfix) with ESMTP id 4657760003EA; Mon, 6 Oct 2025 02:44:20 -0400 (EDT) Subject: |SUCCESS| [GIT MASTER] 2b403dd8fb37d0ba13723e44ffc7ee2c2795f838 From: dpdklab@iol.unh.edu To: Test Report Cc: dpdk-test-reports@iol.unh.edu Content-Type: text/plain X-BeenThere: test-report@dpdk.org X-Mailman-Version: 2.1.29 Precedence: list List-Id: automatic DPDK test reports List-Unsubscribe: , List-Archive: List-Post: List-Help: List-Subscribe: , Errors-To: test-report-bounces@dpdk.org _Testing PASS_ Branch: dpdk 2b403dd8fb37d0ba13723e44ffc7ee2c2795f838 --> testing pass Upstream job id: Generic-Unit-Test-DPDK#378650 Test environment and result as below: +------------------------------+----------------+---------------------------+------------------------------+--------------+ | Environment | dpdk_unit_test | cryptodev_sw_zuc_autotest | cryptodev_sw_snow3g_autotest | lpm_autotest | +==============================+================+===========================+==============================+==============+ | Ubuntu 24.04 | PASS | SKIPPED | SKIPPED | SKIPPED | +------------------------------+----------------+---------------------------+------------------------------+--------------+ | CentOS Stream 10 | PASS | SKIPPED | SKIPPED | SKIPPED | +------------------------------+----------------+---------------------------+------------------------------+--------------+ | Ubuntu 22.04 | PASS | SKIPPED | SKIPPED | SKIPPED | +------------------------------+----------------+---------------------------+------------------------------+--------------+ | Debian GNU/Linux 12 | PASS | SKIPPED | SKIPPED | SKIPPED | +------------------------------+----------------+---------------------------+------------------------------+--------------+ | Fedora Linux 41 | PASS | SKIPPED | SKIPPED | SKIPPED | +------------------------------+----------------+---------------------------+------------------------------+--------------+ | Fedora Linux 40 | PASS | SKIPPED | SKIPPED | SKIPPED | +------------------------------+----------------+---------------------------+------------------------------+--------------+ | Fedora Linux 42 | PASS | SKIPPED | SKIPPED | SKIPPED | +------------------------------+----------------+---------------------------+------------------------------+--------------+ | CentOS Stream 9 | PASS | SKIPPED | SKIPPED | SKIPPED | +------------------------------+----------------+---------------------------+------------------------------+--------------+ | Red Hat Enterprise Linux 9.5 | PASS | SKIPPED | SKIPPED | SKIPPED | +------------------------------+----------------+---------------------------+------------------------------+--------------+ | Ubuntu 20.04 | PASS | SKIPPED | SKIPPED | PASS | +------------------------------+----------------+---------------------------+------------------------------+--------------+ | Debian 12 (arm) | SKIPPED | PASS | PASS | SKIPPED | +------------------------------+----------------+---------------------------+------------------------------+--------------+ Ubuntu 24.04 Kernel: 5.4 Compiler: gcc gcc (Ubuntu 13.3.0-6ubuntu2~24.04) 13.3.0 CentOS Stream 10 Kernel: 5.4 Compiler: gcc gcc (GCC) 14.2.1 20250110 (Red Hat 14.2.1-8) Ubuntu 22.04 Kernel: 5.15 Compiler: gcc gcc (Ubuntu 11.4.0-1ubuntu1~22.04.2) 11.4.0 Debian GNU/Linux 12 Kernel: 5.4 Compiler: gcc gcc (Debian 12.2.0-14+deb12u1) 12.2.0 Fedora Linux 41 Kernel: 5.4 Compiler: clang gcc (GCC) 14.3.1 20250523 (Red Hat 14.3.1-1) Fedora Linux 40 Kernel: 5.4 Compiler: gcc gcc (GCC) 14.2.1 20240912 (Red Hat 14.2.1-3) Fedora Linux 42 Kernel: 5.4 Compiler: gcc gcc (GCC) 15.2.1 20250808 (Red Hat 15.2.1-1) CentOS Stream 9 Kernel: 5.4 Compiler: gcc gcc (GCC) 11.5.0 20240719 (Red Hat 11.5.0-11) Red Hat Enterprise Linux 9.5 Kernel: 5.4 Compiler: gcc gcc (GCC) 11.5.0 20240719 (Red Hat 11.5.0-2) Ubuntu 20.04 Kernel: 5.4 Compiler: gcc gcc (Ubuntu 9.4.0-1ubuntu1~20.04.2) 9.4.0 Debian 12 (arm) Kernel: Depends on container host Compiler: gcc (Debian 12.2.0-14) 12.2.0 To view detailed results, visit: https://lab.dpdk.org/results/dashboard/tarballs/35112/ UNH-IOL DPDK Community Lab To manage your email subscriptions, visit: https://lab.dpdk.org/results/dashboard/preferences/subscriptions/