From mboxrd@z Thu Jan 1 00:00:00 1970 Return-Path: Received: from mails.dpdk.org (mails.dpdk.org [217.70.189.124]) by inbox.dpdk.org (Postfix) with ESMTP id 3C0BE488C2 for ; Mon, 6 Oct 2025 08:44:45 +0200 (CEST) Received: from mails.dpdk.org (localhost [127.0.0.1]) by mails.dpdk.org (Postfix) with ESMTP id 31676402AF; Mon, 6 Oct 2025 08:44:45 +0200 (CEST) Received: from mail-il1-f227.google.com (mail-il1-f227.google.com [209.85.166.227]) by mails.dpdk.org (Postfix) with ESMTP id B6BF2402AF for ; Mon, 6 Oct 2025 08:44:43 +0200 (CEST) Received: by mail-il1-f227.google.com with SMTP id e9e14a558f8ab-42486ed0706so22095065ab.0 for ; Sun, 05 Oct 2025 23:44:43 -0700 (PDT) DKIM-Signature: v=1; a=rsa-sha256; c=relaxed/relaxed; d=iol.unh.edu; s=unh-iol; t=1759733083; x=1760337883; darn=dpdk.org; h=references:in-reply-to:cc:to:from:subject:message-id:date:from:to :cc:subject:date:message-id:reply-to; bh=W6oo5HSfeEViyu4sZiMQ9pfK3h6dx9QHmvNi5G1AklM=; b=YCi436fktGOxtybLGXO+huxjBnHzhrhV1YNXWTMoxbyZbzfvsm8yFgZWSZDIn3BrCs q923paMS/xvljCTnssF/ioItNXoJK21ZMLI7YPzGsatCjwPiDD5UYXslJUjbxDKB2q7M p8gxK6OPG1I0QVDBoO9v5Va/M5bMWaSfgoutc= X-Google-DKIM-Signature: v=1; a=rsa-sha256; c=relaxed/relaxed; d=1e100.net; s=20230601; t=1759733083; x=1760337883; h=references:in-reply-to:cc:to:from:subject:message-id:date :x-gm-message-state:from:to:cc:subject:date:message-id:reply-to; bh=W6oo5HSfeEViyu4sZiMQ9pfK3h6dx9QHmvNi5G1AklM=; b=QeTmMJbG74RG61e5PC56ehIQm4TviFjzU0KqwBb6iN/NvRwKT4HE/r2KgbdTeeOBrd yUS6MwrRfLWrUfiToj0UiQzR0aRQXy3+PNeATu12LKnpm16wEUd3JwkYwSoPjO50OEua tKzl5ShRRo7wO66BosjROs4mWpj8KWb5NBYe31cdvteD8dcBVH4RjrxYfT82zY6DLOho 5QBMNkl4lx75mu3jgeJRgw5ndfqfSQK0y1FXFVg7wsUzDzJ6aJ5PkTPMviqtNJU8adTG P6S16Wj3vC0fPd5BuvRSuNAMhoNiD75wTRavosRRWQebQ4E0M6NbpSQRVaO7L/XDc2uW 8+4w== X-Gm-Message-State: AOJu0YxDI481uAhCL7U3PRlCz6c9SrfLgnyfMLZC+Ue/QNXPj03qNIl8 AlpIb+65AqAi/x3tiv1dpZB/yw+DOTgRV+QFG8q3bD9INBFw9pQ1DB5KIsUnhNwCuKftgRYUKPK xW8mTjvNbfqQld995D2Tu7iUncusT3uVVgqeYpyiLVOiB X-Gm-Gg: ASbGncuc1UbCwS3GfoQBlt26d8X0bRMh+A3Mowve7unEwUNS94Ih0pA7CMegQHUAviO EXZsBrh5B+ZLuJh3f6PmrkL+bCPBU6NZju3lahrBXaWMPP5G7wP4uMJdmv3UPerIknRdhUBKccT o5pPB1yz9Ow1wiUavulXJ/satLw5EQ7NYfX2pHW0dHVUPOCVnvAMKIGNafSW0H1gDlnvwcaJm1p aToxuH+BVSAABrKdbmzanIpbG1pH3E4BeuQWLNCPY6ebfBP5CHlx1TEHa+Pn1y+SNFmEFj71FEQ JiFnYdNbfu7oAu5fgBE6cNY689GjOr36i3b1SNTRdskwMDl81VCWjzbM7aeb6LVh9Zc7/96TT7y C4g== X-Google-Smtp-Source: AGHT+IE1aKzlTdvLVoR034Zj/90ZEoFikcpLf32TNKTMqfI3IK+U2tochgXG+Z+OPFzZll/TAl7GEUaZPkHz X-Received: by 2002:a92:cda2:0:b0:429:4c65:e8f7 with SMTP id e9e14a558f8ab-42e7ad7b4e1mr138236865ab.24.1759733083003; Sun, 05 Oct 2025 23:44:43 -0700 (PDT) Received: from postal.iol.unh.edu (postal.iol.unh.edu. [132.177.123.84]) by smtp-relay.gmail.com with ESMTPS id e9e14a558f8ab-42e7b48d597sm7507815ab.28.2025.10.05.23.44.42 (version=TLS1_2 cipher=ECDHE-ECDSA-AES128-GCM-SHA256 bits=128/128); Sun, 05 Oct 2025 23:44:42 -0700 (PDT) X-Relaying-Domain: iol.unh.edu Date: Sun, 05 Oct 2025 23:44:42 -0700 (PDT) Message-ID: <68e3655a.050a0220.1ee69f.814dSMTPIN_ADDED_MISSING@mx.google.com> Received: from [172.21.0.2] (unknown [172.18.0.240]) by postal.iol.unh.edu (Postfix) with ESMTP id 933976051830; Mon, 6 Oct 2025 02:44:42 -0400 (EDT) Subject: |SUCCESS| pw157230 [PATCH] [v2] test/debug: fix crash with mlx5 devi From: dpdklab@iol.unh.edu To: Test Report Cc: dpdk-test-reports@iol.unh.edu In-Reply-To: <20251003065101.617467-1-david.marchand@redhat.com> References: <20251003065101.617467-1-david.marchand@redhat.com> Content-Type: text/plain X-BeenThere: test-report@dpdk.org X-Mailman-Version: 2.1.29 Precedence: list List-Id: automatic DPDK test reports List-Unsubscribe: , List-Archive: List-Post: List-Help: List-Subscribe: , Errors-To: test-report-bounces@dpdk.org Test-Label: iol-compile-arm64-testing Test-Status: SUCCESS http://dpdk.org/patch/157230 _Testing PASS_ Submitter: David Marchand Date: Friday, October 03 2025 06:51:01 DPDK git baseline: Repo:dpdk Branch: master CommitID:76393b98bf67f94dc6aa23cf5016c32571899261 157230 --> testing pass Upstream job id: Generic-DPDK-Compile-Meson#431265 Test environment and result as below: +------------------------------+--------------------+ | Environment | dpdk_meson_compile | +==============================+====================+ | Ubuntu 20.04 | PASS | +------------------------------+--------------------+ | Red Hat Enterprise Linux 9.5 | PASS | +------------------------------+--------------------+ | Debian GNU/Linux 12 | PASS | +------------------------------+--------------------+ | Fedora Linux 42 | PASS | +------------------------------+--------------------+ | Ubuntu 22.04 | PASS | +------------------------------+--------------------+ | Ubuntu 24.04 | PASS | +------------------------------+--------------------+ | CentOS Stream 9 | PASS | +------------------------------+--------------------+ | CentOS Stream 10 | PASS | +------------------------------+--------------------+ Ubuntu 20.04 Kernel: 5.15 Compiler: aarch64-linux-gnu-gcc gcc (Ubuntu 9.4.0-1ubuntu1~20.04.2) 9.4.0 Red Hat Enterprise Linux 9.5 Kernel: 5.4 Compiler: gcc gcc (GCC) 11.5.0 20240719 (Red Hat 11.5.0-2) Debian GNU/Linux 12 Kernel: 5.4 Compiler: gcc gcc (Debian 12.2.0-14+deb12u1) 12.2.0 Fedora Linux 42 Kernel: 5.4 Compiler: gcc gcc (GCC) 15.2.1 20250808 (Red Hat 15.2.1-1) Ubuntu 22.04 Kernel: 5.4 Compiler: gcc gcc (Ubuntu 11.4.0-1ubuntu1~22.04) 11.4.0 Ubuntu 24.04 Kernel: 5.4 Compiler: gcc gcc (Ubuntu 13.3.0-6ubuntu2~24.04) 13.3.0 CentOS Stream 9 Kernel: 5.4 Compiler: gcc gcc (GCC) 11.5.0 20240719 (Red Hat 11.5.0-11) CentOS Stream 10 Kernel: 5.4 Compiler: gcc gcc (GCC) 14.2.1 20250110 (Red Hat 14.2.1-8) To view detailed results, visit: https://lab.dpdk.org/results/dashboard/patchsets/34204/ UNH-IOL DPDK Community Lab To manage your email subscriptions, visit: https://lab.dpdk.org/results/dashboard/preferences/subscriptions/