From mboxrd@z Thu Jan 1 00:00:00 1970 Return-Path: Received: from mails.dpdk.org (mails.dpdk.org [217.70.189.124]) by inbox.dpdk.org (Postfix) with ESMTP id AFDEB488C2 for ; Mon, 6 Oct 2025 08:59:28 +0200 (CEST) Received: from mails.dpdk.org (localhost [127.0.0.1]) by mails.dpdk.org (Postfix) with ESMTP id A990F402AF; Mon, 6 Oct 2025 08:59:28 +0200 (CEST) Received: from mail-vk1-f228.google.com (mail-vk1-f228.google.com [209.85.221.228]) by mails.dpdk.org (Postfix) with ESMTP id BAAF0402AF for ; Mon, 6 Oct 2025 08:59:27 +0200 (CEST) Received: by mail-vk1-f228.google.com with SMTP id 71dfb90a1353d-54aa6a0babeso4335834e0c.0 for ; Sun, 05 Oct 2025 23:59:27 -0700 (PDT) DKIM-Signature: v=1; a=rsa-sha256; c=relaxed/relaxed; d=iol.unh.edu; s=unh-iol; t=1759733967; x=1760338767; darn=dpdk.org; h=references:in-reply-to:cc:to:from:subject:message-id:date:from:to :cc:subject:date:message-id:reply-to; bh=3Iyntr7mMsDuT8qHCiY/iSFUmxfY1p3//5W/b8SM0o4=; b=KrTNbferD2JLH7aaZNblwpxHRLlfkmWeuEHemKpf7GScXc9cSGzALPvHPLP1Wztneo AgjCWlLlve9zEZxheckffzgDA+KWH/xI9zs+ot/hgNNnkr71P8fATFqMe94IxCk9Wm92 9+6msUXujZi4kTpo62L3eNnlizkJVBqnLeQzE= X-Google-DKIM-Signature: v=1; a=rsa-sha256; c=relaxed/relaxed; d=1e100.net; s=20230601; t=1759733967; x=1760338767; h=references:in-reply-to:cc:to:from:subject:message-id:date :x-gm-message-state:from:to:cc:subject:date:message-id:reply-to; bh=3Iyntr7mMsDuT8qHCiY/iSFUmxfY1p3//5W/b8SM0o4=; b=EklovDtO03ix7W4kHkOl4CKYe3fbAnzOg88LwDLZSC7GPPbzUv+azcmNqGlKB5/CcJ ONaKscSJwArjdDyIBCb8m2udAP57M9rXpJHBVk4eZl5xjLcTHzogg3axTr4tvkDl4wO/ RcbVcyPoTwrTKDIRbTEgT1Bd1I3ZBXDfFXqcwqkRBKzJyLaKX/4uj5LsPwcecSqX3hDs 06UC/yC5RhGzYpK3TgAGX1134lXKfESN7vOTr5XPmg5I6A99iYBxO0/NIrGCN+5vSpFh fD1o6exu52TgfZLZOScvcDqQtDjkxB9gnUf2WJjAhI5o3mNMRp4kMbyfgm+NZ6fn+IFg 7B1w== X-Gm-Message-State: AOJu0YxN6yPa0JYRrR4VxQMfDc3uMxC4WJejTsy44T+O2HfAFQWHAj/1 3p7UBu99z9gDEKTM5IClL26vSPHv/T5E8r+4IMyudWoa/mta/5J85FTDFccpFp0/JDEfn2j2Jfj lAtudZ8SBG7cUZSFTG0i6nv3Cp+y55FvjB5+kaozJfavQuiPBzQwExG3k129+ X-Gm-Gg: ASbGncvIoJpVvhoAZ4mqmDn9lvl4AEwNabKNbZ5JB1VGr2HCMm0nUkRDLiGXbJjje/h rw12TfpZCydI6GMU87NURYbxbmnPn9Fu9sFNL1/kUa/Fw4TqstHfXeQr+qHSwpLycZ852tNA93u G4PxfjmjAZjDjelGdlhR8+pSZpihIibU4jy6fsGrTdpzCdFMEkxzhIXrE0xrJ0jCZ1cSOBFPv9D 8mM7K2LqC5YTw/UYku/SDf+0ODoWk0jIBLnicWzy6C56lPQFQmhMfiPKfRWSWKAlR2ryqDCIz61 t1z2Z29CcuMQ8vIUnMeBSIpARHlyjNFI7Y8w/HiR+xDFmy9LY51NsOU= X-Google-Smtp-Source: AGHT+IFkrnU1oW8DVqSH+G7TdZ41KO2XDuIGkI/VMiHw8UuJwA/u9r8u+EbYwY4RTuTsHnEvsndtrGzmiTlk X-Received: by 2002:a05:6122:1d4e:b0:552:3366:e822 with SMTP id 71dfb90a1353d-5524d6e542dmr4846700e0c.1.1759733966983; Sun, 05 Oct 2025 23:59:26 -0700 (PDT) Received: from postal.iol.unh.edu (postal.iol.unh.edu. [2606:4100:3880:1234::84]) by smtp-relay.gmail.com with ESMTPS id 71dfb90a1353d-5523d031ba1sm1137267e0c.6.2025.10.05.23.59.26 (version=TLS1_2 cipher=ECDHE-ECDSA-AES128-GCM-SHA256 bits=128/128); Sun, 05 Oct 2025 23:59:26 -0700 (PDT) X-Relaying-Domain: iol.unh.edu Date: Sun, 05 Oct 2025 23:59:26 -0700 (PDT) Message-ID: <68e368ce.050a0220.344e01.ded9SMTPIN_ADDED_MISSING@mx.google.com> Received: from [172.21.0.3] (unknown [172.18.0.240]) by postal.iol.unh.edu (Postfix) with ESMTP id 8A6526050A61; Mon, 6 Oct 2025 02:59:26 -0400 (EDT) Subject: |SUCCESS| pw157278-157282 [PATCH] [5/5] net/cnxk: enable CPT CQ for From: dpdklab@iol.unh.edu To: Test Report Cc: dpdk-test-reports@iol.unh.edu In-Reply-To: <20251006051402.1387576-5-rkudurumalla@marvell.com> References: <20251006051402.1387576-5-rkudurumalla@marvell.com> Content-Type: text/plain X-BeenThere: test-report@dpdk.org X-Mailman-Version: 2.1.29 Precedence: list List-Id: automatic DPDK test reports List-Unsubscribe: , List-Archive: List-Post: List-Help: List-Subscribe: , Errors-To: test-report-bounces@dpdk.org Test-Label: iol-unit-amd64-testing Test-Status: SUCCESS http://dpdk.org/patch/157282 _Testing PASS_ Submitter: Rakesh Kudurumalla Date: Monday, October 06 2025 05:14:02 DPDK git baseline: Repo:dpdk-next-net-mrvl Branch: master CommitID:f3878b615e69a12087a6c5d212723478cfc79c31 157278-157282 --> testing pass Upstream job id: Generic-Unit-Test-DPDK#378765 Test environment and result as below: +-------------------------------+----------------+ | Environment | dpdk_unit_test | +===============================+================+ | CentOS Stream 9 | PASS | +-------------------------------+----------------+ | Fedora Linux 41 | PASS | +-------------------------------+----------------+ | CentOS Stream 10 | PASS | +-------------------------------+----------------+ | Debian GNU/Linux 12 | PASS | +-------------------------------+----------------+ | Fedora Linux 40 | PASS | +-------------------------------+----------------+ | Red Hat Enterprise Linux 8.10 | PASS | +-------------------------------+----------------+ | Ubuntu 20.04 | PASS | +-------------------------------+----------------+ | Fedora Linux 42 | PASS | +-------------------------------+----------------+ | Red Hat Enterprise Linux 9.5 | PASS | +-------------------------------+----------------+ | Ubuntu 22.04 | PASS | +-------------------------------+----------------+ | Ubuntu 24.04 | PASS | +-------------------------------+----------------+ | Windows Server 2022 | PASS | +-------------------------------+----------------+ CentOS Stream 9 Kernel: 5.15 Compiler: gcc gcc (GCC) 11.5.0 20240719 (Red Hat 11.5.0-11) Fedora Linux 41 Kernel: 5.15 Compiler: gcc gcc (GCC) 14.3.1 20250523 (Red Hat 14.3.1-1) CentOS Stream 10 Kernel: 5.15 Compiler: gcc gcc (GCC) 14.2.1 20250110 (Red Hat 14.2.1-8) Debian GNU/Linux 12 Kernel: 5.15 Compiler: gcc gcc (Debian 12.2.0-14+deb12u1) 12.2.0 Fedora Linux 40 Kernel: 5.15 Compiler: gcc gcc (GCC) 14.2.1 20240912 (Red Hat 14.2.1-3) Red Hat Enterprise Linux 8.10 Kernel: 5.15 Compiler: gcc gcc (GCC) 8.5.0 20210514 (Red Hat 8.5.0-22) Ubuntu 20.04 Kernel: 5.15 Compiler: gcc gcc (Ubuntu 9.4.0-1ubuntu1~20.04.2) 9.4.0 Fedora Linux 42 Kernel: 5.15 Compiler: gcc gcc (GCC) 15.2.1 20250808 (Red Hat 15.2.1-1) Red Hat Enterprise Linux 9.5 Kernel: 5.15 Compiler: gcc gcc (GCC) 11.5.0 20240719 (Red Hat 11.5.0-2) Ubuntu 22.04 Kernel: 5.15 Compiler: gcc gcc (Ubuntu 11.4.0-1ubuntu1~22.04) 11.4.0 Ubuntu 24.04 Kernel: 5.15 Compiler: gcc gcc (Ubuntu 13.3.0-6ubuntu2~24.04) 13.3.0 Windows Server 2022 Kernel: 10.0.20348.2031 Compiler: clang 15.0.7, gcc 14.1.0 (MinGW), and MSVC VS 19.39.33521 To view detailed results, visit: https://lab.dpdk.org/results/dashboard/patchsets/34217/ UNH-IOL DPDK Community Lab To manage your email subscriptions, visit: https://lab.dpdk.org/results/dashboard/preferences/subscriptions/