From mboxrd@z Thu Jan 1 00:00:00 1970 Return-Path: Received: from mails.dpdk.org (mails.dpdk.org [217.70.189.124]) by inbox.dpdk.org (Postfix) with ESMTP id 13D16488C2 for ; Mon, 6 Oct 2025 09:14:34 +0200 (CEST) Received: from mails.dpdk.org (localhost [127.0.0.1]) by mails.dpdk.org (Postfix) with ESMTP id 0DCDA402AF; Mon, 6 Oct 2025 09:14:34 +0200 (CEST) Received: from mail-qv1-f97.google.com (mail-qv1-f97.google.com [209.85.219.97]) by mails.dpdk.org (Postfix) with ESMTP id 1B275402AF for ; Mon, 6 Oct 2025 09:14:33 +0200 (CEST) Received: by mail-qv1-f97.google.com with SMTP id 6a1803df08f44-79ad9aa2d95so57411016d6.1 for ; Mon, 06 Oct 2025 00:14:33 -0700 (PDT) DKIM-Signature: v=1; a=rsa-sha256; c=relaxed/relaxed; d=iol.unh.edu; s=unh-iol; t=1759734872; x=1760339672; darn=dpdk.org; h=references:in-reply-to:cc:to:from:subject:message-id:date:from:to :cc:subject:date:message-id:reply-to; bh=yPJeGiaHdSgl66L3MdD/e78tZMTXBuam76n7NhFeP8s=; b=UDv+TNfKDamYPM9gkd3yOjpGOsJTFmKbQWKJBiXCm9n1xCY4phA/GXXP869ARMe3EX FfxJWr9ZcW9J/N+hCXewKLZXasPvU5gfWORoUlnp6EY7XgteUSP7cYmcu3MTtSy7Kfh2 1ML6JUaWkNLAvbr8JPD0kTwSqKSmn/Y33Tps8= X-Google-DKIM-Signature: v=1; a=rsa-sha256; c=relaxed/relaxed; d=1e100.net; s=20230601; t=1759734872; x=1760339672; h=references:in-reply-to:cc:to:from:subject:message-id:date :x-gm-message-state:from:to:cc:subject:date:message-id:reply-to; bh=yPJeGiaHdSgl66L3MdD/e78tZMTXBuam76n7NhFeP8s=; b=vnjxopK8zF0i2nEQmO4XBhxsUJNb6ZmBKwl8NHIFKh2DP8LYGVK/acKKSWeWyeymFr fUwpKR6xsXdMNcpTsbcHrJkd+T1m0e68NL2KDSKylA7hcKLqTXYKX1Nr+rsvM3+TLJpd 78m1sSj6ZzHB5WSTxJtcDQ7nFCv9bTJgmalbZGYJH38jQ+LxI5Ya1+7LV2LeIEpT7nwf sFqVQMdB/7QIJZDKzL6lpN6fWv13jVVdHJaWWNe1cimKTFYcEsjXKfj+N1s1fkhZDnAw JktH3fuwRkuJyT7xGpDNkfXHGy7J0abGoxZHX/zH9Eh+OoAcRe0J3f6ep9U5ejsyMUPJ fwEQ== X-Gm-Message-State: AOJu0YxMCeHfZuWoM6hSFmxtHokBeoSOzz2kzd1QpL8re3VFE4ZM2LEz gXN0BOtzUr3nEUoHNNlMYLTZWhsqOKIgIW3qhgpb6KYAWmKudQkQYrE+arkWrQ5/lssQbovdBOu UFI/+rSYNMY/4aBHR8fQAS0naQEAZNTKK9qXz/TKO/fH3 X-Gm-Gg: ASbGnctqTpjASMmJGNX/ZsYBB3EYfcL1e+krb9oeW34kOWr9qxuo20vjkpgF9nRIVyv qg3t5IUmZ3SGQXrMPuYYCHDYenapDWA2kyR6xC9uU3PXFDtIojRhDb5cY08sa8ER4UKw+jcKkzS 04C+NnghmAfwtY4Ts8U31LgoCI2uBSm/ZOLe+AQ1F+pzhiVvIhsoLuOsDG4HVsfOUEF+1oWbUhL FsOfz4Wx3aATGbGAfcFq6noOYX5cRlQW7qqg8R3vmoof6p2dvsIxm2fxul8/Vl8BtFzZMDkBMC+ oL+29mvZ48Cat2M3gac4DiU3vPkOshDrEZXU8PQ874+E5ExyOAiiNs57GuSafzwlviupiLe1paP FiA== X-Google-Smtp-Source: AGHT+IHgc2w3AP/V3dmJBywi/wXcMgWahD9y5wUXf8DojZ8G9aabNeqLuYs9nC1Ib5wcvVUKmHe2UDJ/GEUb X-Received: by 2002:ad4:5dc9:0:b0:78d:4b1a:5ac5 with SMTP id 6a1803df08f44-879dc860dc0mr137714346d6.48.1759734872340; Mon, 06 Oct 2025 00:14:32 -0700 (PDT) Received: from postal.iol.unh.edu (postal.iol.unh.edu. [132.177.123.84]) by smtp-relay.gmail.com with ESMTPS id 6a1803df08f44-878be04c74asm11093156d6.28.2025.10.06.00.14.32 (version=TLS1_2 cipher=ECDHE-ECDSA-AES128-GCM-SHA256 bits=128/128); Mon, 06 Oct 2025 00:14:32 -0700 (PDT) X-Relaying-Domain: iol.unh.edu Date: Mon, 06 Oct 2025 00:14:32 -0700 (PDT) Message-ID: <68e36c58.d40a0220.367fc2.bebdSMTPIN_ADDED_MISSING@mx.google.com> Received: from [172.21.0.3] (unknown [172.18.0.240]) by postal.iol.unh.edu (Postfix) with ESMTP id 053416050A61; Mon, 6 Oct 2025 03:14:32 -0400 (EDT) Subject: |SUCCESS| pw157260 [PATCH] ethdev: fix copy-paste error in fn parame From: dpdklab@iol.unh.edu To: Test Report Cc: dpdk-test-reports@iol.unh.edu, Stephen Hemminger In-Reply-To: <20251003110944.1594659-1-bruce.richardson@intel.com> References: <20251003110944.1594659-1-bruce.richardson@intel.com> Content-Type: text/plain X-BeenThere: test-report@dpdk.org X-Mailman-Version: 2.1.29 Precedence: list List-Id: automatic DPDK test reports List-Unsubscribe: , List-Archive: List-Post: List-Help: List-Subscribe: , Errors-To: test-report-bounces@dpdk.org Test-Label: iol-compile-amd64-testing Test-Status: SUCCESS http://dpdk.org/patch/157260 _Testing PASS_ Submitter: Bruce Richardson Date: Friday, October 03 2025 11:09:44 DPDK git baseline: Repo:dpdk-next-net Branch: master CommitID:c04bbd131b2c14b3049bf86d3ef367b34e6fdf1e 157260 --> testing pass Upstream job id: Generic-DPDK-Compile-Meson#431367 Test environment and result as below: +-------------------------------+--------------------+-------------------+-------------------------+----------------------+-------------------+------------------+ | Environment | dpdk_meson_compile | dpdk_msvc_compile | dpdk_llvm_clang_compile | dpdk_mingw64_compile | dpdk_compile_spdk | dpdk_compile_ovs | +===============================+====================+===================+=========================+======================+===================+==================+ | Ubuntu 20.04 | PASS | SKIPPED | SKIPPED | SKIPPED | SKIPPED | SKIPPED | +-------------------------------+--------------------+-------------------+-------------------------+----------------------+-------------------+------------------+ | FreeBSD 14.2 | PASS | SKIPPED | SKIPPED | SKIPPED | SKIPPED | SKIPPED | +-------------------------------+--------------------+-------------------+-------------------------+----------------------+-------------------+------------------+ | CentOS Stream 9 | PASS | SKIPPED | SKIPPED | SKIPPED | PASS | SKIPPED | +-------------------------------+--------------------+-------------------+-------------------------+----------------------+-------------------+------------------+ | CentOS Stream 10 | PASS | SKIPPED | SKIPPED | SKIPPED | SKIPPED | SKIPPED | +-------------------------------+--------------------+-------------------+-------------------------+----------------------+-------------------+------------------+ | Debian GNU/Linux 12 | PASS | SKIPPED | SKIPPED | SKIPPED | PASS | SKIPPED | +-------------------------------+--------------------+-------------------+-------------------------+----------------------+-------------------+------------------+ | Fedora Linux 42 | PASS | SKIPPED | SKIPPED | SKIPPED | PASS | PASS | +-------------------------------+--------------------+-------------------+-------------------------+----------------------+-------------------+------------------+ | openSUSE Leap 15.6 | PASS | SKIPPED | SKIPPED | SKIPPED | SKIPPED | SKIPPED | +-------------------------------+--------------------+-------------------+-------------------------+----------------------+-------------------+------------------+ | Red Hat Enterprise Linux 8.10 | PASS | SKIPPED | SKIPPED | SKIPPED | SKIPPED | SKIPPED | +-------------------------------+--------------------+-------------------+-------------------------+----------------------+-------------------+------------------+ | Red Hat Enterprise Linux 9.5 | PASS | SKIPPED | SKIPPED | SKIPPED | SKIPPED | SKIPPED | +-------------------------------+--------------------+-------------------+-------------------------+----------------------+-------------------+------------------+ | Ubuntu 22.04 | PASS | SKIPPED | SKIPPED | SKIPPED | PASS | SKIPPED | +-------------------------------+--------------------+-------------------+-------------------------+----------------------+-------------------+------------------+ | Ubuntu 24.04 | PASS | SKIPPED | SKIPPED | SKIPPED | PASS | PASS | +-------------------------------+--------------------+-------------------+-------------------------+----------------------+-------------------+------------------+ | Alpine Linux 3.22.0 | PASS | SKIPPED | SKIPPED | SKIPPED | SKIPPED | SKIPPED | +-------------------------------+--------------------+-------------------+-------------------------+----------------------+-------------------+------------------+ | Windows Server 2022 | SKIPPED | PASS | PASS | PASS | SKIPPED | SKIPPED | +-------------------------------+--------------------+-------------------+-------------------------+----------------------+-------------------+------------------+ Ubuntu 20.04 Kernel: 4.19 Compiler: gcc gcc (Ubuntu 9.4.0-1ubuntu1~20.04.2) 9.4.0 FreeBSD 14.2 Kernel: 14.2-RELEASE Compiler: clang 18.1.6 CentOS Stream 9 Kernel: 5.15 Compiler: gcc gcc (GCC) 11.5.0 20240719 (Red Hat 11.5.0-11) CentOS Stream 10 Kernel: 5.15 Compiler: gcc gcc (GCC) 14.2.1 20250110 (Red Hat 14.2.1-8) Debian GNU/Linux 12 Kernel: 5.15 Compiler: gcc gcc (Debian 12.2.0-14+deb12u1) 12.2.0 Fedora Linux 42 Kernel: 5.15 Compiler: clang gcc (GCC) 15.2.1 20250808 (Red Hat 15.2.1-1) openSUSE Leap 15.6 Kernel: 5.15 Compiler: gcc gcc (SUSE Linux) 7.5.0 Red Hat Enterprise Linux 8.10 Kernel: 5.15 Compiler: gcc gcc (GCC) 8.5.0 20210514 (Red Hat 8.5.0-22) Red Hat Enterprise Linux 9.5 Kernel: 5.15 Compiler: gcc gcc (GCC) 11.5.0 20240719 (Red Hat 11.5.0-2) Ubuntu 22.04 Kernel: 5.15 Compiler: gcc gcc (Ubuntu 11.4.0-1ubuntu1~22.04) 11.4.0 Ubuntu 24.04 Kernel: 5.15 Compiler: gcc gcc (Ubuntu 13.3.0-6ubuntu2~24.04) 13.3.0 Alpine Linux 3.22.0 Kernel: 5.15 Compiler: gcc gcc (Alpine 14.2.0) 14.2.0 Windows Server 2022 Kernel: 10.0.20348.2031 Compiler: clang 15.0.7, gcc 14.1.0 (MinGW), and MSVC VS 19.39.33521 To view detailed results, visit: https://lab.dpdk.org/results/dashboard/patchsets/34208/ UNH-IOL DPDK Community Lab To manage your email subscriptions, visit: https://lab.dpdk.org/results/dashboard/preferences/subscriptions/