From mboxrd@z Thu Jan 1 00:00:00 1970 Return-Path: Received: from mails.dpdk.org (mails.dpdk.org [217.70.189.124]) by inbox.dpdk.org (Postfix) with ESMTP id 2305C488C2 for ; Mon, 6 Oct 2025 09:14:52 +0200 (CEST) Received: from mails.dpdk.org (localhost [127.0.0.1]) by mails.dpdk.org (Postfix) with ESMTP id 1D85F402AF; Mon, 6 Oct 2025 09:14:52 +0200 (CEST) Received: from mail-qv1-f97.google.com (mail-qv1-f97.google.com [209.85.219.97]) by mails.dpdk.org (Postfix) with ESMTP id 65DB0402AF for ; Mon, 6 Oct 2025 09:14:50 +0200 (CEST) Received: by mail-qv1-f97.google.com with SMTP id 6a1803df08f44-7957e2f6ba8so46427796d6.3 for ; Mon, 06 Oct 2025 00:14:50 -0700 (PDT) DKIM-Signature: v=1; a=rsa-sha256; c=relaxed/relaxed; d=iol.unh.edu; s=unh-iol; t=1759734890; x=1760339690; darn=dpdk.org; h=references:in-reply-to:cc:to:from:subject:message-id:date:from:to :cc:subject:date:message-id:reply-to; bh=Rn4/13KGVwF1A8mNhJ+2S9tUI+/MPpJJt186+jYrpVQ=; b=Azq7HBnBZbhGqUSG0NT6k8jtdELBV37JPuzvoVolphgT9dN69A7lm73tJbXD3kh4L7 05q0c8S3bqIPkDLtibyY4y7wUcgG0OAxj161LxhVnfLLUhovccLnToa+bHi516Ig1kVg sygSxb4IatLLuNC1MyY36edYllif4ecIOHg5k= X-Google-DKIM-Signature: v=1; a=rsa-sha256; c=relaxed/relaxed; d=1e100.net; s=20230601; t=1759734890; x=1760339690; h=references:in-reply-to:cc:to:from:subject:message-id:date :x-gm-message-state:from:to:cc:subject:date:message-id:reply-to; bh=Rn4/13KGVwF1A8mNhJ+2S9tUI+/MPpJJt186+jYrpVQ=; b=eO5x9Hf9kUpNyP5WgPpRgwNdH9DQfVkf5+vaDrEdXgq7gdi1zGb01FdCqiLlXHcSgt 9QEQv097J223iBzBuTB+DdhPIZxbYv4s8HLhYdLLmggD9yDALmq8y+vV32ijnwJAKLCJ KNbgP0RY4YC+laQZbfZ0N/otXpkPpqe3xkU2Eww25dBA5ixJx0dwHc4VMOFoIAiwZomO c4u0wM9PeCsDKIaaW+9bJy+WGtcvClHoxvFQucPJ0yZVzG3AwNGTkdBbX0Aeq/QqJAyU sSbK+YRJiaKQtQq9GNgwSRtB0Q54/GDaM95Jzr0qOLa3+8SEFsHkHKURcTbocQ62HpFP m5SQ== X-Gm-Message-State: AOJu0Yw5Nua6CATHSf6Z6KVauDRhati1lovDZUzuj0sKEGkMpoGxtnrv fG9nSLGQnXFrBVE38MmVJ5G2cLkvcEomuyLAYb9fCVvsTzrCE6f+L1VS03+OqOffq7+WOj3wpZ2 lbfJOvrkfkFePEbZlNnqU3/YVjNlIf2PMojY2tnQv1bZm X-Gm-Gg: ASbGncssIls35bkGkAGyXfvqbEsA8k+yBNP2wtv2HRm09ajN9iYVITB2onES3vmqW6+ JSyTPdEcEGRrZDVkEjRl+douaUiXlY76anCqp47ZNvQlEGo28tUTCLFB0TCuX90PCw65I/I3Mpn WStdITHIJMixfoPKgKL65SRn/6C2BbwEUilfx7dIHOSJvsyBe8BEg47VYv2Otq4ZyYd6A2OT/zi by46O/5mrGer+QDi+uoysffJWCoD6F+Qxsi2SN4y4CQIfSl260pcJUAA2bugoQIgwWqF46Iy1vV 8+bTGggfHxujerTQUGHXhVaYTg8P/N+Jn1FFpbfYX99QaRqOZ8X0aZJf4zIZBOHtts2kQNrKh/j BFg== X-Google-Smtp-Source: AGHT+IHVafAihX/pPO15yoQ751GRJcfyR6bKzgf+2IQXoRkufMdU4KFuMLaqBopp98u59SWiks+P9bO0x7K5 X-Received: by 2002:ad4:5c43:0:b0:7fa:72e1:1cee with SMTP id 6a1803df08f44-879dc776718mr150228016d6.13.1759734889826; Mon, 06 Oct 2025 00:14:49 -0700 (PDT) Received: from postal.iol.unh.edu (postal.iol.unh.edu. [132.177.123.84]) by smtp-relay.gmail.com with ESMTPS id 6a1803df08f44-878bda73666sm10648806d6.21.2025.10.06.00.14.49 (version=TLS1_2 cipher=ECDHE-ECDSA-AES128-GCM-SHA256 bits=128/128); Mon, 06 Oct 2025 00:14:49 -0700 (PDT) X-Relaying-Domain: iol.unh.edu Date: Mon, 06 Oct 2025 00:14:49 -0700 (PDT) Message-ID: <68e36c69.050a0220.26a28b.a13bSMTPIN_ADDED_MISSING@mx.google.com> Received: from [172.21.0.3] (unknown [172.18.0.240]) by postal.iol.unh.edu (Postfix) with ESMTP id 90A766050A61; Mon, 6 Oct 2025 03:14:49 -0400 (EDT) Subject: |SUCCESS| pw157260 [PATCH] ethdev: fix copy-paste error in fn parame From: dpdklab@iol.unh.edu To: Test Report Cc: dpdk-test-reports@iol.unh.edu, Stephen Hemminger In-Reply-To: <20251003110944.1594659-1-bruce.richardson@intel.com> References: <20251003110944.1594659-1-bruce.richardson@intel.com> Content-Type: text/plain X-BeenThere: test-report@dpdk.org X-Mailman-Version: 2.1.29 Precedence: list List-Id: automatic DPDK test reports List-Unsubscribe: , List-Archive: List-Post: List-Help: List-Subscribe: , Errors-To: test-report-bounces@dpdk.org Test-Label: iol-compile-amd64-testing Test-Status: SUCCESS http://dpdk.org/patch/157260 _Testing PASS_ Submitter: Bruce Richardson Date: Friday, October 03 2025 11:09:44 DPDK git baseline: Repo:dpdk-next-net Branch: master CommitID:c04bbd131b2c14b3049bf86d3ef367b34e6fdf1e 157260 --> testing pass Upstream job id: Generic-DPDK-Compile-Meson#431380 Test environment and result as below: +-------------------------------+--------------------+-------------------+-------------------------+----------------------+-------------------+------------------+ | Environment | dpdk_meson_compile | dpdk_msvc_compile | dpdk_llvm_clang_compile | dpdk_mingw64_compile | dpdk_compile_spdk | dpdk_compile_ovs | +===============================+====================+===================+=========================+======================+===================+==================+ | Ubuntu 20.04 | PASS | SKIPPED | SKIPPED | SKIPPED | SKIPPED | SKIPPED | +-------------------------------+--------------------+-------------------+-------------------------+----------------------+-------------------+------------------+ | FreeBSD 14.2 | PASS | SKIPPED | SKIPPED | SKIPPED | SKIPPED | SKIPPED | +-------------------------------+--------------------+-------------------+-------------------------+----------------------+-------------------+------------------+ | CentOS Stream 9 | PASS | SKIPPED | SKIPPED | SKIPPED | PASS | SKIPPED | +-------------------------------+--------------------+-------------------+-------------------------+----------------------+-------------------+------------------+ | CentOS Stream 10 | PASS | SKIPPED | SKIPPED | SKIPPED | SKIPPED | SKIPPED | +-------------------------------+--------------------+-------------------+-------------------------+----------------------+-------------------+------------------+ | Debian GNU/Linux 12 | PASS | SKIPPED | SKIPPED | SKIPPED | PASS | SKIPPED | +-------------------------------+--------------------+-------------------+-------------------------+----------------------+-------------------+------------------+ | Fedora Linux 42 | PASS | SKIPPED | SKIPPED | SKIPPED | PASS | PASS | +-------------------------------+--------------------+-------------------+-------------------------+----------------------+-------------------+------------------+ | openSUSE Leap 15.6 | PASS | SKIPPED | SKIPPED | SKIPPED | SKIPPED | SKIPPED | +-------------------------------+--------------------+-------------------+-------------------------+----------------------+-------------------+------------------+ | Red Hat Enterprise Linux 8.10 | PASS | SKIPPED | SKIPPED | SKIPPED | SKIPPED | SKIPPED | +-------------------------------+--------------------+-------------------+-------------------------+----------------------+-------------------+------------------+ | Red Hat Enterprise Linux 9.5 | PASS | SKIPPED | SKIPPED | SKIPPED | SKIPPED | SKIPPED | +-------------------------------+--------------------+-------------------+-------------------------+----------------------+-------------------+------------------+ | Ubuntu 22.04 | PASS | SKIPPED | SKIPPED | SKIPPED | PASS | SKIPPED | +-------------------------------+--------------------+-------------------+-------------------------+----------------------+-------------------+------------------+ | Ubuntu 24.04 | PASS | SKIPPED | SKIPPED | SKIPPED | PASS | PASS | +-------------------------------+--------------------+-------------------+-------------------------+----------------------+-------------------+------------------+ | Alpine Linux 3.22.0 | PASS | SKIPPED | SKIPPED | SKIPPED | SKIPPED | SKIPPED | +-------------------------------+--------------------+-------------------+-------------------------+----------------------+-------------------+------------------+ | Windows Server 2022 | SKIPPED | PASS | PASS | PASS | SKIPPED | SKIPPED | +-------------------------------+--------------------+-------------------+-------------------------+----------------------+-------------------+------------------+ Ubuntu 20.04 Kernel: 4.19 Compiler: gcc gcc (Ubuntu 9.4.0-1ubuntu1~20.04.2) 9.4.0 FreeBSD 14.2 Kernel: 14.2-RELEASE Compiler: clang 18.1.6 CentOS Stream 9 Kernel: 5.15 Compiler: gcc gcc (GCC) 11.5.0 20240719 (Red Hat 11.5.0-11) CentOS Stream 10 Kernel: 5.15 Compiler: gcc gcc (GCC) 14.2.1 20250110 (Red Hat 14.2.1-8) Debian GNU/Linux 12 Kernel: 5.15 Compiler: gcc gcc (Debian 12.2.0-14+deb12u1) 12.2.0 Fedora Linux 42 Kernel: 5.15 Compiler: clang gcc (GCC) 15.2.1 20250808 (Red Hat 15.2.1-1) openSUSE Leap 15.6 Kernel: 5.15 Compiler: gcc gcc (SUSE Linux) 7.5.0 Red Hat Enterprise Linux 8.10 Kernel: 5.15 Compiler: gcc gcc (GCC) 8.5.0 20210514 (Red Hat 8.5.0-22) Red Hat Enterprise Linux 9.5 Kernel: 5.15 Compiler: gcc gcc (GCC) 11.5.0 20240719 (Red Hat 11.5.0-2) Ubuntu 22.04 Kernel: 5.15 Compiler: gcc gcc (Ubuntu 11.4.0-1ubuntu1~22.04) 11.4.0 Ubuntu 24.04 Kernel: 5.15 Compiler: gcc gcc (Ubuntu 13.3.0-6ubuntu2~24.04) 13.3.0 Alpine Linux 3.22.0 Kernel: 5.15 Compiler: gcc gcc (Alpine 14.2.0) 14.2.0 Windows Server 2022 Kernel: 10.0.20348.2031 Compiler: clang 15.0.7, gcc 14.1.0 (MinGW), and MSVC VS 19.39.33521 To view detailed results, visit: https://lab.dpdk.org/results/dashboard/patchsets/34208/ UNH-IOL DPDK Community Lab To manage your email subscriptions, visit: https://lab.dpdk.org/results/dashboard/preferences/subscriptions/