From mboxrd@z Thu Jan 1 00:00:00 1970 Return-Path: Received: from mails.dpdk.org (mails.dpdk.org [217.70.189.124]) by inbox.dpdk.org (Postfix) with ESMTP id 35400488C2 for ; Mon, 6 Oct 2025 09:24:01 +0200 (CEST) Received: from mails.dpdk.org (localhost [127.0.0.1]) by mails.dpdk.org (Postfix) with ESMTP id EFCDF402AF; Mon, 6 Oct 2025 09:24:00 +0200 (CEST) Received: from mail-vk1-f227.google.com (mail-vk1-f227.google.com [209.85.221.227]) by mails.dpdk.org (Postfix) with ESMTP id 9086C402AF for ; Mon, 6 Oct 2025 09:23:59 +0200 (CEST) Received: by mail-vk1-f227.google.com with SMTP id 71dfb90a1353d-54a8f6a2d80so1630205e0c.3 for ; Mon, 06 Oct 2025 00:23:59 -0700 (PDT) DKIM-Signature: v=1; a=rsa-sha256; c=relaxed/relaxed; d=iol.unh.edu; s=unh-iol; t=1759735439; x=1760340239; darn=dpdk.org; h=references:in-reply-to:cc:to:from:subject:message-id:date:from:to :cc:subject:date:message-id:reply-to; bh=JSU9BYqNKw8tYM4vLHYCYCqsYPz9/FfXetyfiDFjAOc=; b=fOmY//TKt4Ao4UCL2kLoSLOpJcqNQpRgiHtUoZMoYHXyWWah0mrF74n4QJVZvkyEKx 5wtHRR+JWygal3KZ7S7wFCpgYwj1Yqa4nrVypOpp7uOK/TB8TPUWW6NvCsoObciMOusm pR92ar89TbaAZW4X890FyB8Sx58vcA2cgQrz8= X-Google-DKIM-Signature: v=1; a=rsa-sha256; c=relaxed/relaxed; d=1e100.net; s=20230601; t=1759735439; x=1760340239; h=references:in-reply-to:cc:to:from:subject:message-id:date :x-gm-message-state:from:to:cc:subject:date:message-id:reply-to; bh=JSU9BYqNKw8tYM4vLHYCYCqsYPz9/FfXetyfiDFjAOc=; b=KWtYlTgkp4jHlO30eppl7aUXiDs7fGDwPFlO7l9Repf9vlBqMbMjIhzee1E7noMUQ+ S4Du2R75OP+VXserMJ+8F4TJjZ204Fb4lX5bhD3CcpcOV/vgFCfzDnHJw+5DAf6gmbNs wt6uSA2GkYLcuKX0IxXYX5ItHlWj8S9Y3NVEPU7paCBoyUyRyBjyRyLoctpcE3qtd6Nd 9zN8wRs5Yet3rm8/LLHMWyOjqqLHEVZl0EC+Gmc95YrnAfTZ2zLQUBBvmEKiHI3pmIIY rXuJn8W4vh7+dYAT97vy+M++iRC0ELNKKGrO4FweaLhK464REsYWq20y7/2xAgbmo8t5 Lp5Q== X-Gm-Message-State: AOJu0YzW4iR73w2Mzc0R/r7/PP4eYrZeVvwbDpMSlL/GLeYt5TaKzddd 0V/v8TwWy2vzXIC5Ghy/Hs6ASZ8PLTfXm3Lz8n9pNqKGfTTC7f0b/r6Mv4qoj68B/PeTCqSGb4N xoU90s4aIVeSLXmpfteDn8HqgfyEMtllEqYay+xMbsD6X X-Gm-Gg: ASbGncvJMfYUiwM4OkNtsaUnEldV4peai6RlItbwzVrtVegr2IGt50yZKsKSwr3h2TV hG43T13iTT5bnJKIoFKhLI+oNjb3c2l+M1IKcebRQy00AOHJTs4tNbxgrF5rG/2TjjJcZc5qDfU e4AT1Z0C/xNtnuhDpUHEmaVcd0NxWV4B2RlDwhvyRp+Csf1DAJpTp3IaPuBPx5lMbwhccUn7qHJ sgx5qGERXxKrBxKleb/4Gotn6AEZjYrdyJanNViDdJX1o2LBKNXjRylbhmXoWYRqmxiLDCreEfA ucW8mLbj3ZUYXA8iAwqGkhHHy+f3PAkdbqxPRSYWJw0H36OKeR01L+NSGls9leBeHDGpEviOAIP Zzg== X-Google-Smtp-Source: AGHT+IGFFQR8H4Fvh69Dj6d5fDHse+zx1I9NUAX6anKROTrOGLARNY4XRQShw1+v0OHUT6pMRlDNzTzp7kg2 X-Received: by 2002:a05:6122:3186:b0:54a:dcde:fa5b with SMTP id 71dfb90a1353d-5524eac856emr3407884e0c.12.1759735438864; Mon, 06 Oct 2025 00:23:58 -0700 (PDT) Received: from postal.iol.unh.edu (postal.iol.unh.edu. [132.177.123.84]) by smtp-relay.gmail.com with ESMTPS id 71dfb90a1353d-5523cdb9f69sm1267423e0c.0.2025.10.06.00.23.58 (version=TLS1_2 cipher=ECDHE-ECDSA-AES128-GCM-SHA256 bits=128/128); Mon, 06 Oct 2025 00:23:58 -0700 (PDT) X-Relaying-Domain: iol.unh.edu Date: Mon, 06 Oct 2025 00:23:58 -0700 (PDT) Message-ID: <68e36e8e.050a0220.3143b2.490dSMTPIN_ADDED_MISSING@mx.google.com> Received: from [172.21.0.4] (unknown [172.18.0.240]) by postal.iol.unh.edu (Postfix) with ESMTP id 4BCF860003EA; Mon, 6 Oct 2025 03:23:58 -0400 (EDT) Subject: |SUCCESS| pw157253-157257 [PATCH] [v3,7/7] ethdev: deprecate queue s From: dpdklab@iol.unh.edu To: Test Report Cc: dpdk-test-reports@iol.unh.edu In-Reply-To: <20251003110201.1541183-8-bruce.richardson@intel.com> References: <20251003110201.1541183-8-bruce.richardson@intel.com> Content-Type: text/plain X-BeenThere: test-report@dpdk.org X-Mailman-Version: 2.1.29 Precedence: list List-Id: automatic DPDK test reports List-Unsubscribe: , List-Archive: List-Post: List-Help: List-Subscribe: , Errors-To: test-report-bounces@dpdk.org Test-Label: iol-compile-amd64-testing Test-Status: SUCCESS http://dpdk.org/patch/157257 _Testing PASS_ Submitter: Bruce Richardson Date: Friday, October 03 2025 11:02:01 DPDK git baseline: Repo:dpdk Branch: master CommitID:76393b98bf67f94dc6aa23cf5016c32571899261 157253-157257 --> testing pass Upstream job id: Generic-DPDK-Compile-Meson#431397 Test environment and result as below: +-------------------------------+--------------------+-------------------+-------------------------+----------------------+-------------------+------------------+ | Environment | dpdk_meson_compile | dpdk_msvc_compile | dpdk_llvm_clang_compile | dpdk_mingw64_compile | dpdk_compile_spdk | dpdk_compile_ovs | +===============================+====================+===================+=========================+======================+===================+==================+ | Ubuntu 20.04 | PASS | SKIPPED | SKIPPED | SKIPPED | SKIPPED | SKIPPED | +-------------------------------+--------------------+-------------------+-------------------------+----------------------+-------------------+------------------+ | FreeBSD 14.2 | PASS | SKIPPED | SKIPPED | SKIPPED | SKIPPED | SKIPPED | +-------------------------------+--------------------+-------------------+-------------------------+----------------------+-------------------+------------------+ | Red Hat Enterprise Linux 9.5 | PASS | SKIPPED | SKIPPED | SKIPPED | SKIPPED | SKIPPED | +-------------------------------+--------------------+-------------------+-------------------------+----------------------+-------------------+------------------+ | CentOS Stream 9 | PASS | SKIPPED | SKIPPED | SKIPPED | PASS | SKIPPED | +-------------------------------+--------------------+-------------------+-------------------------+----------------------+-------------------+------------------+ | CentOS Stream 10 | PASS | SKIPPED | SKIPPED | SKIPPED | SKIPPED | SKIPPED | +-------------------------------+--------------------+-------------------+-------------------------+----------------------+-------------------+------------------+ | Debian GNU/Linux 12 | PASS | SKIPPED | SKIPPED | SKIPPED | PASS | SKIPPED | +-------------------------------+--------------------+-------------------+-------------------------+----------------------+-------------------+------------------+ | Fedora Linux 42 | PASS | SKIPPED | SKIPPED | SKIPPED | PASS | PASS | +-------------------------------+--------------------+-------------------+-------------------------+----------------------+-------------------+------------------+ | openSUSE Leap 15.6 | PASS | SKIPPED | SKIPPED | SKIPPED | SKIPPED | SKIPPED | +-------------------------------+--------------------+-------------------+-------------------------+----------------------+-------------------+------------------+ | Red Hat Enterprise Linux 8.10 | PASS | SKIPPED | SKIPPED | SKIPPED | SKIPPED | SKIPPED | +-------------------------------+--------------------+-------------------+-------------------------+----------------------+-------------------+------------------+ | Ubuntu 22.04 | PASS | SKIPPED | SKIPPED | SKIPPED | PASS | SKIPPED | +-------------------------------+--------------------+-------------------+-------------------------+----------------------+-------------------+------------------+ | Ubuntu 24.04 | PASS | SKIPPED | SKIPPED | SKIPPED | PASS | PASS | +-------------------------------+--------------------+-------------------+-------------------------+----------------------+-------------------+------------------+ | Alpine Linux 3.22.0 | PASS | SKIPPED | SKIPPED | SKIPPED | SKIPPED | SKIPPED | +-------------------------------+--------------------+-------------------+-------------------------+----------------------+-------------------+------------------+ | Windows Server 2022 | SKIPPED | PASS | PASS | PASS | SKIPPED | SKIPPED | +-------------------------------+--------------------+-------------------+-------------------------+----------------------+-------------------+------------------+ Ubuntu 20.04 Kernel: 4.19 Compiler: gcc gcc (Ubuntu 9.4.0-1ubuntu1~20.04.2) 9.4.0 FreeBSD 14.2 Kernel: 14.2-RELEASE Compiler: clang 18.1.6 Red Hat Enterprise Linux 9.5 Kernel: 5.15 Compiler: gcc gcc (GCC) 11.5.0 20240719 (Red Hat 11.5.0-2) CentOS Stream 9 Kernel: 5.15 Compiler: gcc gcc (GCC) 11.5.0 20240719 (Red Hat 11.5.0-11) CentOS Stream 10 Kernel: 5.15 Compiler: gcc gcc (GCC) 14.2.1 20250110 (Red Hat 14.2.1-8) Debian GNU/Linux 12 Kernel: 5.15 Compiler: gcc gcc (Debian 12.2.0-14+deb12u1) 12.2.0 Fedora Linux 42 Kernel: 5.15 Compiler: clang gcc (GCC) 15.2.1 20250808 (Red Hat 15.2.1-1) openSUSE Leap 15.6 Kernel: 5.15 Compiler: gcc gcc (SUSE Linux) 7.5.0 Red Hat Enterprise Linux 8.10 Kernel: 5.15 Compiler: gcc gcc (GCC) 8.5.0 20210514 (Red Hat 8.5.0-22) Ubuntu 22.04 Kernel: 5.15 Compiler: gcc gcc (Ubuntu 11.4.0-1ubuntu1~22.04) 11.4.0 Ubuntu 24.04 Kernel: 5.15 Compiler: gcc gcc (Ubuntu 13.3.0-6ubuntu2~24.04) 13.3.0 Alpine Linux 3.22.0 Kernel: 5.15 Compiler: gcc gcc (Alpine 14.2.0) 14.2.0 Windows Server 2022 Kernel: 10.0.20348.2031 Compiler: clang 15.0.7, gcc 14.1.0 (MinGW), and MSVC VS 19.39.33521 To view detailed results, visit: https://lab.dpdk.org/results/dashboard/patchsets/34209/ UNH-IOL DPDK Community Lab To manage your email subscriptions, visit: https://lab.dpdk.org/results/dashboard/preferences/subscriptions/