From mboxrd@z Thu Jan 1 00:00:00 1970 Return-Path: Received: from mails.dpdk.org (mails.dpdk.org [217.70.189.124]) by inbox.dpdk.org (Postfix) with ESMTP id 73C21488C2 for ; Mon, 6 Oct 2025 09:27:58 +0200 (CEST) Received: from mails.dpdk.org (localhost [127.0.0.1]) by mails.dpdk.org (Postfix) with ESMTP id 523FC402AF; Mon, 6 Oct 2025 09:27:58 +0200 (CEST) Received: from mail-yw1-f228.google.com (mail-yw1-f228.google.com [209.85.128.228]) by mails.dpdk.org (Postfix) with ESMTP id F1FDE402AF for ; Mon, 6 Oct 2025 09:27:56 +0200 (CEST) Received: by mail-yw1-f228.google.com with SMTP id 00721157ae682-71d601859f5so50221547b3.0 for ; Mon, 06 Oct 2025 00:27:56 -0700 (PDT) DKIM-Signature: v=1; a=rsa-sha256; c=relaxed/relaxed; d=iol.unh.edu; s=unh-iol; t=1759735676; x=1760340476; darn=dpdk.org; h=references:in-reply-to:cc:to:from:subject:message-id:date:from:to :cc:subject:date:message-id:reply-to; bh=JjuapCCnWN3LN0MXvfug7J9kTC+udfDi7z5SBbh2NhU=; b=NTv9FWEJbsOV4c5FPBJOmM01lYzAAQmvQZHKrzoU+z2Yp6VBOvWHJYTTKEyLJSmSul XluxSOijeIE5LQ915fT/reDu7q3uYo+z4OeUbF3vXd3Nq+XMK5YlJFq+rEsfMhwovs0b Xc4k+azRvFNjl6AL5GsmbgJCRHh5B8hWDBYDk= X-Google-DKIM-Signature: v=1; a=rsa-sha256; c=relaxed/relaxed; d=1e100.net; s=20230601; t=1759735676; x=1760340476; h=references:in-reply-to:cc:to:from:subject:message-id:date :x-gm-message-state:from:to:cc:subject:date:message-id:reply-to; bh=JjuapCCnWN3LN0MXvfug7J9kTC+udfDi7z5SBbh2NhU=; b=PQt/Vl9ieOrRB7BTtOOwiO4xflFZk/udMB8/jEYT8f0BFHp2e4dRSctnu8jsF5t87v 2InGP5Y+3VNqzB+IuB8CSVHgGMh5vWlmvNVnyc398cqZdp8HkSga5MF4z1uUgMwoG+Dk SkVsPvXzgioYdu+R5EkwBL+Vy+dPYLriBrm0NkY7LPURLX9jnzd7bwd38/5XbT1/wygV e/kh8dzYIkrSZkNBRi/gg8kpojNzH7eV35QLFBr4Q0hAtn++FUmzDmOnT5uZsHyocDqg HtBMD5kL/i2wIYLYQB/mVWJxTh0JFpuntrVFz9W7/Mh2FIm02dfZDt8bixa2lT8YpIAn zbSg== X-Gm-Message-State: AOJu0YwrEdJsd04kLhkvioGh7UTuRNL6+nvzg5buXvh3tOujEXMOpigq tKw3hJGzPt0ApErog+RrdNkVLTykrG+7kuPnTi3KOZNT0P844/7Gnlda8ZegLataTmsKcAb8wQd 9fdoT+wcNJAFd4bo9xxksJhShQMss+7YnOr7sLOKef7GR X-Gm-Gg: ASbGncvYQQoUSQMrgw14nkBu0XPkj1sW+h+YoiV3AL9dKqRjpDwPI3CppmMZOBN9Hgt jDvyxE+zM9p0zCW2VnQscp0+RuAnr8jlaQQG5SK+93krhkRqKUwTiLd6ShNRE4N+TTNNVbvwyDc Se6XPniDpBaW+woKCtazSysizoJEgOe3mG4GoMEYA2E6sYD1+eR7Vd5N2hhG7FZx+lBkV5MjT39 Fal4XVo1fBFetX1zcubjVChkcFV8PpUHE/I+0sofOE7teubR6axNnMYxzNCfKtAWQNV2L0AYqpo eCdZdzGdnomJKRnGzl+PjuofEggKBeKSlT9E4YWYon3vdVU/Mpd8Thb1Vay0Jll12W1fIRHlOeG 33A== X-Google-Smtp-Source: AGHT+IG+RlmpyfC8yqqOUPPpw8AFPfwrecuQaZwJ6z5XQEKf+2VpGfgr46Fv/EU8xzDNeCUM1R7KYezLullD X-Received: by 2002:a05:690c:2502:b0:77f:93fa:9a97 with SMTP id 00721157ae682-77f94705d02mr149566317b3.53.1759735676335; Mon, 06 Oct 2025 00:27:56 -0700 (PDT) Received: from postal.iol.unh.edu (postal.iol.unh.edu. [132.177.123.84]) by smtp-relay.gmail.com with ESMTPS id 00721157ae682-77f81c07ff1sm6861067b3.9.2025.10.06.00.27.56 (version=TLS1_2 cipher=ECDHE-ECDSA-AES128-GCM-SHA256 bits=128/128); Mon, 06 Oct 2025 00:27:56 -0700 (PDT) X-Relaying-Domain: iol.unh.edu Date: Mon, 06 Oct 2025 00:27:56 -0700 (PDT) Message-ID: <68e36f7c.050a0220.11fa40.64bfSMTPIN_ADDED_MISSING@mx.google.com> Received: from [172.21.0.2] (unknown [172.18.0.240]) by postal.iol.unh.edu (Postfix) with ESMTP id B0F2E6051830; Mon, 6 Oct 2025 03:27:55 -0400 (EDT) Subject: |SUCCESS| pw157261-157263 [PATCH] [v5,3/3] net/ice: add PFC statisti From: dpdklab@iol.unh.edu To: Test Report Cc: dpdk-test-reports@iol.unh.edu, Bruce Richardson In-Reply-To: <20251003124037.342760-4-vladimir.medvedkin@intel.com> References: <20251003124037.342760-4-vladimir.medvedkin@intel.com> Content-Type: text/plain X-BeenThere: test-report@dpdk.org X-Mailman-Version: 2.1.29 Precedence: list List-Id: automatic DPDK test reports List-Unsubscribe: , List-Archive: List-Post: List-Help: List-Subscribe: , Errors-To: test-report-bounces@dpdk.org Test-Label: iol-compile-amd64-testing Test-Status: SUCCESS http://dpdk.org/patch/157263 _Testing PASS_ Submitter: Vladimir Medvedkin Date: Friday, October 03 2025 12:40:37 DPDK git baseline: Repo:dpdk-next-net-intel Branch: master CommitID:e7d8cc7ef4df3552575525697079d3c957cfcdaf 157261-157263 --> testing pass Upstream job id: Generic-DPDK-Compile-Meson#431432 Test environment and result as below: +-------------------------------+-------------------+--------------------+-------------------------+----------------------+-------------------+------------------+ | Environment | dpdk_msvc_compile | dpdk_meson_compile | dpdk_llvm_clang_compile | dpdk_mingw64_compile | dpdk_compile_spdk | dpdk_compile_ovs | +===============================+===================+====================+=========================+======================+===================+==================+ | Windows Server 2022 | PASS | SKIPPED | PASS | PASS | SKIPPED | SKIPPED | +-------------------------------+-------------------+--------------------+-------------------------+----------------------+-------------------+------------------+ | FreeBSD 14.2 | SKIPPED | PASS | SKIPPED | SKIPPED | SKIPPED | SKIPPED | +-------------------------------+-------------------+--------------------+-------------------------+----------------------+-------------------+------------------+ | Ubuntu 20.04 | SKIPPED | PASS | SKIPPED | SKIPPED | SKIPPED | SKIPPED | +-------------------------------+-------------------+--------------------+-------------------------+----------------------+-------------------+------------------+ | openSUSE Leap 15.6 | SKIPPED | PASS | SKIPPED | SKIPPED | SKIPPED | SKIPPED | +-------------------------------+-------------------+--------------------+-------------------------+----------------------+-------------------+------------------+ | CentOS Stream 9 | SKIPPED | PASS | SKIPPED | SKIPPED | PASS | SKIPPED | +-------------------------------+-------------------+--------------------+-------------------------+----------------------+-------------------+------------------+ | CentOS Stream 10 | SKIPPED | PASS | SKIPPED | SKIPPED | SKIPPED | SKIPPED | +-------------------------------+-------------------+--------------------+-------------------------+----------------------+-------------------+------------------+ | Debian GNU/Linux 12 | SKIPPED | PASS | SKIPPED | SKIPPED | PASS | SKIPPED | +-------------------------------+-------------------+--------------------+-------------------------+----------------------+-------------------+------------------+ | Fedora Linux 42 | SKIPPED | PASS | SKIPPED | SKIPPED | PASS | PASS | +-------------------------------+-------------------+--------------------+-------------------------+----------------------+-------------------+------------------+ | Red Hat Enterprise Linux 8.10 | SKIPPED | PASS | SKIPPED | SKIPPED | SKIPPED | SKIPPED | +-------------------------------+-------------------+--------------------+-------------------------+----------------------+-------------------+------------------+ | Red Hat Enterprise Linux 9.5 | SKIPPED | PASS | SKIPPED | SKIPPED | SKIPPED | SKIPPED | +-------------------------------+-------------------+--------------------+-------------------------+----------------------+-------------------+------------------+ | Ubuntu 22.04 | SKIPPED | PASS | SKIPPED | SKIPPED | PASS | SKIPPED | +-------------------------------+-------------------+--------------------+-------------------------+----------------------+-------------------+------------------+ | Ubuntu 24.04 | SKIPPED | PASS | SKIPPED | SKIPPED | PASS | PASS | +-------------------------------+-------------------+--------------------+-------------------------+----------------------+-------------------+------------------+ | Alpine Linux 3.22.0 | SKIPPED | PASS | SKIPPED | SKIPPED | SKIPPED | SKIPPED | +-------------------------------+-------------------+--------------------+-------------------------+----------------------+-------------------+------------------+ Windows Server 2022 Kernel: 10.0.20348.2031 Compiler: clang 15.0.7, gcc 14.1.0 (MinGW), and MSVC VS 19.39.33521 FreeBSD 14.2 Kernel: 14.2-RELEASE Compiler: clang 18.1.6 Ubuntu 20.04 Kernel: 4.19 Compiler: gcc gcc (Ubuntu 9.4.0-1ubuntu1~20.04.2) 9.4.0 openSUSE Leap 15.6 Kernel: 5.15 Compiler: gcc gcc (SUSE Linux) 7.5.0 CentOS Stream 9 Kernel: 5.15 Compiler: gcc gcc (GCC) 11.5.0 20240719 (Red Hat 11.5.0-11) CentOS Stream 10 Kernel: 5.15 Compiler: gcc gcc (GCC) 14.2.1 20250110 (Red Hat 14.2.1-8) Debian GNU/Linux 12 Kernel: 5.15 Compiler: gcc gcc (Debian 12.2.0-14+deb12u1) 12.2.0 Fedora Linux 42 Kernel: 5.15 Compiler: clang gcc (GCC) 15.2.1 20250808 (Red Hat 15.2.1-1) Red Hat Enterprise Linux 8.10 Kernel: 5.15 Compiler: gcc gcc (GCC) 8.5.0 20210514 (Red Hat 8.5.0-22) Red Hat Enterprise Linux 9.5 Kernel: 5.15 Compiler: gcc gcc (GCC) 11.5.0 20240719 (Red Hat 11.5.0-2) Ubuntu 22.04 Kernel: 5.15 Compiler: gcc gcc (Ubuntu 11.4.0-1ubuntu1~22.04) 11.4.0 Ubuntu 24.04 Kernel: 5.15 Compiler: gcc gcc (Ubuntu 13.3.0-6ubuntu2~24.04) 13.3.0 Alpine Linux 3.22.0 Kernel: 5.15 Compiler: gcc gcc (Alpine 14.2.0) 14.2.0 To view detailed results, visit: https://lab.dpdk.org/results/dashboard/patchsets/34210/ UNH-IOL DPDK Community Lab To manage your email subscriptions, visit: https://lab.dpdk.org/results/dashboard/preferences/subscriptions/