From mboxrd@z Thu Jan 1 00:00:00 1970 Return-Path: Received: from mails.dpdk.org (mails.dpdk.org [217.70.189.124]) by inbox.dpdk.org (Postfix) with ESMTP id 4C1B0488C2 for ; Mon, 6 Oct 2025 09:45:04 +0200 (CEST) Received: from mails.dpdk.org (localhost [127.0.0.1]) by mails.dpdk.org (Postfix) with ESMTP id 2A918402AF; Mon, 6 Oct 2025 09:45:04 +0200 (CEST) Received: from mail-qv1-f99.google.com (mail-qv1-f99.google.com [209.85.219.99]) by mails.dpdk.org (Postfix) with ESMTP id BBF76402AF for ; Mon, 6 Oct 2025 09:45:02 +0200 (CEST) Received: by mail-qv1-f99.google.com with SMTP id 6a1803df08f44-70ba7aa131fso49930246d6.2 for ; Mon, 06 Oct 2025 00:45:02 -0700 (PDT) DKIM-Signature: v=1; a=rsa-sha256; c=relaxed/relaxed; d=iol.unh.edu; s=unh-iol; t=1759736702; x=1760341502; darn=dpdk.org; h=references:in-reply-to:cc:to:from:subject:message-id:date:from:to :cc:subject:date:message-id:reply-to; bh=PGUFay9LuL7i3q/S04hJvRwgaI9qgEMmmDdhkoM/QrQ=; b=TpL2OqaFQOhvN9ZlOeTsQfsXVWwaS+ZhEpC0YJiuxfYE2D7O/uU/3lGhBu9JPhw6zE 3csCuin34xsPsPaWC994ymRCHEXzgybFb3orPoRRPmh9SA4wuQgJUSCt/TaX2Y+NrMMF 2M0FMtYGGvw+QccnGIKhX5wPhF6NC6O9IgVwY= X-Google-DKIM-Signature: v=1; a=rsa-sha256; c=relaxed/relaxed; d=1e100.net; s=20230601; t=1759736702; x=1760341502; h=references:in-reply-to:cc:to:from:subject:message-id:date :x-gm-message-state:from:to:cc:subject:date:message-id:reply-to; bh=PGUFay9LuL7i3q/S04hJvRwgaI9qgEMmmDdhkoM/QrQ=; b=u0/4AexYaZOsh3OdYrgoh+Nql6XNfAXlqQiwSIZbM36dBS4B7X0weq4TFG+8/VPtqE 0OzkvD8iwQaiAkyfAjiYqC8rXGyyK7rKVV1yqe6TNoODyPwob7fHka2XgzrnDvku+SCs 9AN7ZZtZaVG4X/SSumZ0A0SBK0zANq4JHOveo9Bxa/l1j8GJkMJYQBu8j3A7axcxVV78 4y/g+EWI3z+3Wr8Kg3l9F1EvFy+z3Pjmzg8slGp4zWfjLI1h8iC3Dr+EnvcqNCRUpNnc 41EwRMx8t12QUJ4D7s/xWeMx16smPmdZK35iVxXcJYEP7MpcrRTI6G4EMmsloSdK6gZM dqiw== X-Gm-Message-State: AOJu0Yzt3+xYbgUgEhb3mQnMmvTQ1G4GnFjO+hV6YIGoho2tZ0dvJQAo Mm3yRacDQtp9RXnxIOs06BHXfaQ+K9HK8rT2/u8XfLhPTyvYrEo9P9XCwI941I+1DgNMGBPhhAp YHhf7estxviWH65QutQ+zEDfYuN7ztZB0z08Hbi74SP8yHUK/msbBglr724f6 X-Gm-Gg: ASbGncs0RBm/2OaM1VpyVxcvUV0+FxavYee0uX7EEKT+j9mlNzQNBFWH55zwryBbb/l tFngi0UeA5PfXHhCbs0FBLuwBSCzHwapcDJYaXwFkKC604mFDWmWV/sP/HQ0RJQXg9iwixjOEHB OSjrR03h+sdJ9zBgOU5EVodt8RoKYEsJQnAV+eSDwCKdACqnHWP6axFHl3v4PTrtgxLDlXQDu+x Ws47mqoDNZp4LHCf2UHmlqaBvPT1/X9hxRqQBRIaLr+8Zt9ZYCCkhh37o8ImNj91DXo+t/SgIah AFgBrwjme4fYYZFUScaKCgV8HS2MVBH3Z5joIBu5gYlp/SS1ZEfi/gA= X-Google-Smtp-Source: AGHT+IFCrKmfvcCYMneUqniaDLWcG5SYly2m/ybxjb6D76VtCe6wHkkSLi9jVgoUKEVkFDoAyhi8xRC1q1Hp X-Received: by 2002:a05:6214:2465:b0:820:a83:eb04 with SMTP id 6a1803df08f44-879dc799aa2mr109327206d6.20.1759736702067; Mon, 06 Oct 2025 00:45:02 -0700 (PDT) Received: from postal.iol.unh.edu (postal.iol.unh.edu. [2606:4100:3880:1234::84]) by smtp-relay.gmail.com with ESMTPS id 6a1803df08f44-878bac6bcc5sm10196346d6.5.2025.10.06.00.45.02 (version=TLS1_2 cipher=ECDHE-ECDSA-AES128-GCM-SHA256 bits=128/128); Mon, 06 Oct 2025 00:45:02 -0700 (PDT) X-Relaying-Domain: iol.unh.edu Date: Mon, 06 Oct 2025 00:45:02 -0700 (PDT) Message-ID: <68e3737e.050a0220.2ffb26.6c51SMTPIN_ADDED_MISSING@mx.google.com> Received: from [172.21.0.2] (unknown [172.18.0.240]) by postal.iol.unh.edu (Postfix) with ESMTP id A70186051830; Mon, 6 Oct 2025 03:45:01 -0400 (EDT) Subject: |SUCCESS| pw157266-157267 [PATCH] [v2,3/3] app/compress-perf: suppor From: dpdklab@iol.unh.edu To: Test Report Cc: dpdk-test-reports@iol.unh.edu, Akhil Goyal In-Reply-To: <20251003165132.3201643-3-svaze@qti.qualcomm.com> References: <20251003165132.3201643-3-svaze@qti.qualcomm.com> Content-Type: text/plain X-BeenThere: test-report@dpdk.org X-Mailman-Version: 2.1.29 Precedence: list List-Id: automatic DPDK test reports List-Unsubscribe: , List-Archive: List-Post: List-Help: List-Subscribe: , Errors-To: test-report-bounces@dpdk.org Test-Label: iol-compile-amd64-testing Test-Status: SUCCESS http://dpdk.org/patch/157267 _Testing PASS_ Submitter: Sameer Vaze Date: Friday, October 03 2025 16:51:32 DPDK git baseline: Repo:dpdk-next-crypto Branch: master CommitID:caa17cb4b057a31ee04067459fe543f7d7ae1079 157266-157267 --> testing pass Upstream job id: Generic-DPDK-Compile-Meson#431444 Test environment and result as below: +-------------------------------+--------------------+-------------------------+-------------------+----------------------+-------------------+------------------+ | Environment | dpdk_meson_compile | dpdk_llvm_clang_compile | dpdk_msvc_compile | dpdk_mingw64_compile | dpdk_compile_spdk | dpdk_compile_ovs | +===============================+====================+=========================+===================+======================+===================+==================+ | Ubuntu 20.04 | PASS | SKIPPED | SKIPPED | SKIPPED | SKIPPED | SKIPPED | +-------------------------------+--------------------+-------------------------+-------------------+----------------------+-------------------+------------------+ | FreeBSD 14.2 | PASS | SKIPPED | SKIPPED | SKIPPED | SKIPPED | SKIPPED | +-------------------------------+--------------------+-------------------------+-------------------+----------------------+-------------------+------------------+ | CentOS Stream 9 | PASS | SKIPPED | SKIPPED | SKIPPED | PASS | SKIPPED | +-------------------------------+--------------------+-------------------------+-------------------+----------------------+-------------------+------------------+ | CentOS Stream 10 | PASS | SKIPPED | SKIPPED | SKIPPED | SKIPPED | SKIPPED | +-------------------------------+--------------------+-------------------------+-------------------+----------------------+-------------------+------------------+ | Debian GNU/Linux 12 | PASS | SKIPPED | SKIPPED | SKIPPED | PASS | SKIPPED | +-------------------------------+--------------------+-------------------------+-------------------+----------------------+-------------------+------------------+ | Fedora Linux 42 | PASS | SKIPPED | SKIPPED | SKIPPED | PASS | PASS | +-------------------------------+--------------------+-------------------------+-------------------+----------------------+-------------------+------------------+ | openSUSE Leap 15.6 | PASS | SKIPPED | SKIPPED | SKIPPED | SKIPPED | SKIPPED | +-------------------------------+--------------------+-------------------------+-------------------+----------------------+-------------------+------------------+ | Red Hat Enterprise Linux 8.10 | PASS | SKIPPED | SKIPPED | SKIPPED | SKIPPED | SKIPPED | +-------------------------------+--------------------+-------------------------+-------------------+----------------------+-------------------+------------------+ | Red Hat Enterprise Linux 9.5 | PASS | SKIPPED | SKIPPED | SKIPPED | SKIPPED | SKIPPED | +-------------------------------+--------------------+-------------------------+-------------------+----------------------+-------------------+------------------+ | Ubuntu 22.04 | PASS | SKIPPED | SKIPPED | SKIPPED | PASS | SKIPPED | +-------------------------------+--------------------+-------------------------+-------------------+----------------------+-------------------+------------------+ | Windows Server 2022 | SKIPPED | PASS | PASS | PASS | SKIPPED | SKIPPED | +-------------------------------+--------------------+-------------------------+-------------------+----------------------+-------------------+------------------+ Ubuntu 20.04 Kernel: 4.19 Compiler: gcc gcc (Ubuntu 9.4.0-1ubuntu1~20.04.2) 9.4.0 FreeBSD 14.2 Kernel: 14.2-RELEASE Compiler: clang 18.1.6 CentOS Stream 9 Kernel: 5.15 Compiler: gcc gcc (GCC) 11.5.0 20240719 (Red Hat 11.5.0-11) CentOS Stream 10 Kernel: 5.15 Compiler: gcc gcc (GCC) 14.2.1 20250110 (Red Hat 14.2.1-8) Debian GNU/Linux 12 Kernel: 5.15 Compiler: gcc gcc (Debian 12.2.0-14+deb12u1) 12.2.0 Fedora Linux 42 Kernel: 5.15 Compiler: clang gcc (GCC) 15.2.1 20250808 (Red Hat 15.2.1-1) openSUSE Leap 15.6 Kernel: 5.15 Compiler: gcc gcc (SUSE Linux) 7.5.0 Red Hat Enterprise Linux 8.10 Kernel: 5.15 Compiler: gcc gcc (GCC) 8.5.0 20210514 (Red Hat 8.5.0-22) Red Hat Enterprise Linux 9.5 Kernel: 5.15 Compiler: gcc gcc (GCC) 11.5.0 20240719 (Red Hat 11.5.0-2) Ubuntu 22.04 Kernel: 5.15 Compiler: gcc gcc (Ubuntu 11.4.0-1ubuntu1~22.04) 11.4.0 Windows Server 2022 Kernel: 10.0.20348.2031 Compiler: clang 15.0.7, gcc 14.1.0 (MinGW), and MSVC VS 19.39.33521 To view detailed results, visit: https://lab.dpdk.org/results/dashboard/patchsets/34212/ UNH-IOL DPDK Community Lab To manage your email subscriptions, visit: https://lab.dpdk.org/results/dashboard/preferences/subscriptions/