From mboxrd@z Thu Jan 1 00:00:00 1970 Return-Path: Received: from mails.dpdk.org (mails.dpdk.org [217.70.189.124]) by inbox.dpdk.org (Postfix) with ESMTP id 3D886488C5 for ; Mon, 6 Oct 2025 11:01:09 +0200 (CEST) Received: from mails.dpdk.org (localhost [127.0.0.1]) by mails.dpdk.org (Postfix) with ESMTP id 286C8400EF; Mon, 6 Oct 2025 11:01:09 +0200 (CEST) Received: from mail-il1-f227.google.com (mail-il1-f227.google.com [209.85.166.227]) by mails.dpdk.org (Postfix) with ESMTP id 79D09400EF for ; Mon, 6 Oct 2025 11:01:07 +0200 (CEST) Received: by mail-il1-f227.google.com with SMTP id e9e14a558f8ab-42d8bf52325so24406675ab.3 for ; Mon, 06 Oct 2025 02:01:07 -0700 (PDT) DKIM-Signature: v=1; a=rsa-sha256; c=relaxed/relaxed; d=iol.unh.edu; s=unh-iol; t=1759741267; x=1760346067; darn=dpdk.org; h=references:in-reply-to:cc:to:from:subject:message-id:date:from:to :cc:subject:date:message-id:reply-to; bh=kl0Z+br9nTL+OOl83HhyVIvtL1QEIjMblgGSxI9hQyA=; b=XuPHBrj8kXiOUQ5GTC/ROIQSxf/4AWR92JH+2lxRvs/EmETSXA6U1kBbeAJeNjlhB0 bLXiZYhJ0UZPH2AncYc8aDt3ClXJRV7dUDBiGRwTmvr+pzYYCbR5jLAGDTB29Cu5SfCo 4QyHrGPp8c/7/lGNQz9elB6Pg7EFtFKvZbfAI= X-Google-DKIM-Signature: v=1; a=rsa-sha256; c=relaxed/relaxed; d=1e100.net; s=20230601; t=1759741267; x=1760346067; h=references:in-reply-to:cc:to:from:subject:message-id:date :x-gm-message-state:from:to:cc:subject:date:message-id:reply-to; bh=kl0Z+br9nTL+OOl83HhyVIvtL1QEIjMblgGSxI9hQyA=; b=hY5Ypy3DcPzhDjyXcq0eS5s7PHqCZpJRg2b/hIbPHse5FHNgwakm9UeC9UH1ZVZvE0 Ox5Yoi3SXBvmUJMZ+XfRusmiGMjv9PAsHa7cR0u+kEYCPD78qyqjjsCnove/fIzEjdQB NQ7wWjMJQFBDWKSyYwc4kWnSCpgCof1nInYARXVHvtaGmLLgBO1b2j7yVOhwkIjMoCb/ wEUfuo8D91CUnQQKMhV5drHR3Kp92mPu04TPgLcoarh5XVQbPwzlscd0a/gn8N0IDy7z 9th4j90LxPbjSSrkDsouqKEIMHYkmaxT8kvojIfxRK6UM1lnrp/6bwpszzPcTZSfbC6X YKkw== X-Gm-Message-State: AOJu0Yy7f3LhPn0arsgu51uzP6+FNaD/ePeMV1SQPzPbw/tPdvMqdcJD DltbdCTEmmbnev3pmdto8YXKzSQ9HtOG5FoPghcYDOheAEiZg1TSMZoQZ5yAM86D2GbYppugme7 fxAeAtn/3y1bqR3QxXYBkKfP9X1eoSarWTmBBXlBg3s2g X-Gm-Gg: ASbGncv+e/Dr/ypjQhQu11UfFsepjJ/qxmWXHfhjppsXTDFEwNVGrAsonaREGZ04EfT rudFACLpEyUYzOyiblkyFNEjQW3hCU3e1YyZlrmpTgxE4mtP6T3sKT1ZExRo/po2zNssrbZP9Ei 1CZcijtUB/JitX0kkium9sJGUstI3JruYXOT9VXSF1IKfjhRRgDHrQR0Bi9qD999T5MqYCkCn3k tK5JJaIW8Zcw1PZBN7zEhdEFHgeIcJq667xK1yQUyB9ScQAfKtPbrBFNjb3JmfR/F4hrufnA1Ud YDGwIme1ZKQVAle63p3ElQ+5lPRbeLkKfh94Mg7Ea9iG1IFeDf9R+0DHyhc7jbjSSYzopfDqXCO DrQ== X-Google-Smtp-Source: AGHT+IGsoQd81AJRAwgtEQLOQpmFchbL0dn8tm94GmpK3v5ZxnOYnX4550f0IWvNgFOTsLJA7GC/PnZGcDbs X-Received: by 2002:a05:6e02:1a6d:b0:42e:6e45:e0a3 with SMTP id e9e14a558f8ab-42e7acd296dmr154455665ab.2.1759741266378; Mon, 06 Oct 2025 02:01:06 -0700 (PDT) Received: from postal.iol.unh.edu (postal.iol.unh.edu. [132.177.123.84]) by smtp-relay.gmail.com with ESMTPS id e9e14a558f8ab-42f4779f61asm6405985ab.31.2025.10.06.02.01.06 (version=TLS1_2 cipher=ECDHE-ECDSA-AES128-GCM-SHA256 bits=128/128); Mon, 06 Oct 2025 02:01:06 -0700 (PDT) X-Relaying-Domain: iol.unh.edu Date: Mon, 06 Oct 2025 02:01:06 -0700 (PDT) Message-ID: <68e38552.050a0220.140f94.0c66SMTPIN_ADDED_MISSING@mx.google.com> Received: from [172.21.0.3] (unknown [172.18.0.240]) by postal.iol.unh.edu (Postfix) with ESMTP id E919F6051830; Mon, 6 Oct 2025 05:01:05 -0400 (EDT) Subject: |SUCCESS| pw157283-157293 [PATCH] [11/11] net/enetfec: add software From: dpdklab@iol.unh.edu To: Test Report Cc: dpdk-test-reports@iol.unh.edu, Stephen Hemminger In-Reply-To: <20251006080410.1433284-12-hemant.agrawal@nxp.com> References: <20251006080410.1433284-12-hemant.agrawal@nxp.com> Content-Type: text/plain X-BeenThere: test-report@dpdk.org X-Mailman-Version: 2.1.29 Precedence: list List-Id: automatic DPDK test reports List-Unsubscribe: , List-Archive: List-Post: List-Help: List-Subscribe: , Errors-To: test-report-bounces@dpdk.org Test-Label: iol-compile-amd64-testing Test-Status: SUCCESS http://dpdk.org/patch/157293 _Testing PASS_ Submitter: Hemant Agrawal Date: Monday, October 06 2025 08:04:10 DPDK git baseline: Repo:dpdk-next-net Branch: master CommitID:c04bbd131b2c14b3049bf86d3ef367b34e6fdf1e 157283-157293 --> testing pass Upstream job id: Windows-Compile-DPDK-Native#31440 Test environment and result as below: +---------------------+--------------------+-------------------------+-------------------+----------------------+ | Environment | dpdk_meson_compile | dpdk_llvm_clang_compile | dpdk_msvc_compile | dpdk_mingw64_compile | +=====================+====================+=========================+===================+======================+ | Ubuntu 20.04 | PASS | SKIPPED | SKIPPED | SKIPPED | +---------------------+--------------------+-------------------------+-------------------+----------------------+ | FreeBSD 14.2 | PASS | SKIPPED | SKIPPED | SKIPPED | +---------------------+--------------------+-------------------------+-------------------+----------------------+ | Windows Server 2022 | SKIPPED | PASS | PASS | PASS | +---------------------+--------------------+-------------------------+-------------------+----------------------+ Ubuntu 20.04 Kernel: 4.19 Compiler: gcc gcc (Ubuntu 9.4.0-1ubuntu1~20.04.2) 9.4.0 FreeBSD 14.2 Kernel: 14.2-RELEASE Compiler: clang 18.1.6 Windows Server 2022 Kernel: 10.0.20348.2031 Compiler: clang 15.0.7, gcc 14.1.0 (MinGW), and MSVC VS 19.39.33521 To view detailed results, visit: https://lab.dpdk.org/results/dashboard/patchsets/34218/ UNH-IOL DPDK Community Lab To manage your email subscriptions, visit: https://lab.dpdk.org/results/dashboard/preferences/subscriptions/