From mboxrd@z Thu Jan 1 00:00:00 1970 Return-Path: Received: from mails.dpdk.org (mails.dpdk.org [217.70.189.124]) by inbox.dpdk.org (Postfix) with ESMTP id BD774488C5 for ; Mon, 6 Oct 2025 11:16:37 +0200 (CEST) Received: from mails.dpdk.org (localhost [127.0.0.1]) by mails.dpdk.org (Postfix) with ESMTP id A55D1402B1; Mon, 6 Oct 2025 11:16:37 +0200 (CEST) Received: from mail-io1-f99.google.com (mail-io1-f99.google.com [209.85.166.99]) by mails.dpdk.org (Postfix) with ESMTP id 775E0402B1 for ; Mon, 6 Oct 2025 11:16:35 +0200 (CEST) Received: by mail-io1-f99.google.com with SMTP id ca18e2360f4ac-88703c873d5so159926339f.3 for ; Mon, 06 Oct 2025 02:16:35 -0700 (PDT) DKIM-Signature: v=1; a=rsa-sha256; c=relaxed/relaxed; d=iol.unh.edu; s=unh-iol; t=1759742195; x=1760346995; darn=dpdk.org; h=references:in-reply-to:cc:to:from:subject:message-id:date:from:to :cc:subject:date:message-id:reply-to; bh=8qWb86ZW+CuyFPyMc8XivoNjJfu81D7epmXruubK++0=; b=JI+rKzavb+rxnkwuTej+CYskgAo30D6QQwPMhcl3MsfxxMm7JRJKGRAVf5PLjhn+Ob e9nyWWJTpAWqvT+61eEOWvaapHo/6wOk6zA4c9SfKoV0Km7gI3BHuXzX7R0+q1ARwCQx zjl5Fr8KtJqHPMRicF0gxOnsRdg38TDblJBSE= X-Google-DKIM-Signature: v=1; a=rsa-sha256; c=relaxed/relaxed; d=1e100.net; s=20230601; t=1759742195; x=1760346995; h=references:in-reply-to:cc:to:from:subject:message-id:date :x-gm-message-state:from:to:cc:subject:date:message-id:reply-to; bh=8qWb86ZW+CuyFPyMc8XivoNjJfu81D7epmXruubK++0=; b=uCin8sKGwinAay2G6GlrGVFpmHBTkEu1ELyq1oPMc4rKgg3TK+8OpSsbczrUNOKx7U rgb+JUhjdn3+JdC0Rgcw6OQcfzhLY80sFR0UMWm90SeQJx61vtK+P0+l0O6wgipxr7oE LCOl3NdO3tj/lccrB8MJE3ORHwG/AI4G29soG1tcyv3ujYbrV/cTaEsMjzAdt0Ibw7co atcFmUlvbqHrIFkA0zkwDd1lX4L4IwCvAX6WiqcqSHa/lWpwa87nCl5HHNu0qHKtifxL R3Z1CdrlTkATOz/IiWHmG/JI+ugUiF9A5yKEb4XBbRzu8iSPNbYwuL1fZ5p/tpw0tnqE enNQ== X-Gm-Message-State: AOJu0YyisGdGUI3QVZNhk3PxzuOX95+CecgsBwMFsTMd+ZXrQCkPhztt zwZcG150sMZpzhyViSPHLBUo9mO2TqvcYuaOr+J+eusb9X+tvRQiioTbfWcxQer0KmtnxwheGcw 1dOeZi0Gz37rmZwyl3R9PzTciTjuEkCFMBscomrd2QMUL X-Gm-Gg: ASbGncvDfV/xDYIqInXIYqxHfd+VGkT5EiGdv9OGJgGaBZ67x7vp/MUvKouYf+E/Muu 17G0DACgy1DjSt6cD1PNBhTf3VfMt8KEKl8oHB403egXwj38Md9HySMnHGe66ZW4UZ1im+psxZd k1l8y9evMHqumNh+S82tWHioFzfyUFTzC9T5PmzvgJy6omi8B/HzIQnTobPmU0iv6EhJ7LLOH+J 05/OdTddKJAesaBNUkGHFy26LbqOSFQltAaeoSsq2SMrNQpVnRZGfUg8eIgNGzI59EB64kX7IVa g2cDg7GTNS/M4REz1KziA895IsN92aRPrl2Nr8g+UmpHAgfnfDaLvP5JIS3PLzjPacrhCUWeiY7 ICw== X-Google-Smtp-Source: AGHT+IGpZj6AxrvhsAaJYNOPvLoHLYY57HmoneaJpuNYReSAJ1QSFOhuJ7q7WClx7coTg8Ozj/ASXjzQNdCG X-Received: by 2002:a05:6e02:1d94:b0:426:dc47:c8cc with SMTP id e9e14a558f8ab-42e7ad9a74fmr158553855ab.23.1759742194724; Mon, 06 Oct 2025 02:16:34 -0700 (PDT) Received: from postal.iol.unh.edu (postal.iol.unh.edu. [132.177.123.84]) by smtp-relay.gmail.com with ESMTPS id e9e14a558f8ab-42d8b21148fsm9678085ab.16.2025.10.06.02.16.34 (version=TLS1_2 cipher=ECDHE-ECDSA-AES128-GCM-SHA256 bits=128/128); Mon, 06 Oct 2025 02:16:34 -0700 (PDT) X-Relaying-Domain: iol.unh.edu Date: Mon, 06 Oct 2025 02:16:34 -0700 (PDT) Message-ID: <68e388f2.050a0220.2f2cc3.5a67SMTPIN_ADDED_MISSING@mx.google.com> Received: from [172.21.0.2] (unknown [172.18.0.240]) by postal.iol.unh.edu (Postfix) with ESMTP id 5D1506051830; Mon, 6 Oct 2025 05:16:34 -0400 (EDT) Subject: |SUCCESS| pw157283-157293 [PATCH] [11/11] net/enetfec: add software From: dpdklab@iol.unh.edu To: Test Report Cc: dpdk-test-reports@iol.unh.edu, Stephen Hemminger In-Reply-To: <20251006080410.1433284-12-hemant.agrawal@nxp.com> References: <20251006080410.1433284-12-hemant.agrawal@nxp.com> Content-Type: text/plain X-BeenThere: test-report@dpdk.org X-Mailman-Version: 2.1.29 Precedence: list List-Id: automatic DPDK test reports List-Unsubscribe: , List-Archive: List-Post: List-Help: List-Subscribe: , Errors-To: test-report-bounces@dpdk.org Test-Label: iol-unit-amd64-testing Test-Status: SUCCESS http://dpdk.org/patch/157293 _Testing PASS_ Submitter: Hemant Agrawal Date: Monday, October 06 2025 08:04:10 DPDK git baseline: Repo:dpdk-next-net Branch: master CommitID:c04bbd131b2c14b3049bf86d3ef367b34e6fdf1e 157283-157293 --> testing pass Upstream job id: Generic-Unit-Test-DPDK#378798 Test environment and result as below: +-------------------------------+----------------+ | Environment | dpdk_unit_test | +===============================+================+ | CentOS Stream 9 | PASS | +-------------------------------+----------------+ | Debian GNU/Linux 12 | PASS | +-------------------------------+----------------+ | CentOS Stream 10 | PASS | +-------------------------------+----------------+ | Fedora Linux 41 | PASS | +-------------------------------+----------------+ | Fedora Linux 40 | PASS | +-------------------------------+----------------+ | Fedora Linux 42 | PASS | +-------------------------------+----------------+ | Red Hat Enterprise Linux 9.5 | PASS | +-------------------------------+----------------+ | Red Hat Enterprise Linux 8.10 | PASS | +-------------------------------+----------------+ | Ubuntu 20.04 | PASS | +-------------------------------+----------------+ | Windows Server 2022 | PASS | +-------------------------------+----------------+ | Ubuntu 24.04 | PASS | +-------------------------------+----------------+ | Ubuntu 22.04 | PASS | +-------------------------------+----------------+ CentOS Stream 9 Kernel: 5.15 Compiler: gcc gcc (GCC) 11.5.0 20240719 (Red Hat 11.5.0-11) Debian GNU/Linux 12 Kernel: 5.15 Compiler: gcc gcc (Debian 12.2.0-14+deb12u1) 12.2.0 CentOS Stream 10 Kernel: 5.15 Compiler: gcc gcc (GCC) 14.2.1 20250110 (Red Hat 14.2.1-8) Fedora Linux 41 Kernel: 5.15 Compiler: clang gcc (GCC) 14.3.1 20250523 (Red Hat 14.3.1-1) Fedora Linux 40 Kernel: 5.15 Compiler: clang gcc (GCC) 14.2.1 20240912 (Red Hat 14.2.1-3) Fedora Linux 42 Kernel: 5.15 Compiler: gcc gcc (GCC) 15.2.1 20250808 (Red Hat 15.2.1-1) Red Hat Enterprise Linux 9.5 Kernel: 5.15 Compiler: gcc gcc (GCC) 11.5.0 20240719 (Red Hat 11.5.0-2) Red Hat Enterprise Linux 8.10 Kernel: 5.15 Compiler: gcc gcc (GCC) 8.5.0 20210514 (Red Hat 8.5.0-22) Ubuntu 20.04 Kernel: 5.15 Compiler: gcc gcc (Ubuntu 9.4.0-1ubuntu1~20.04.2) 9.4.0 Windows Server 2022 Kernel: 10.0.20348.2031 Compiler: clang 15.0.7, gcc 14.1.0 (MinGW), and MSVC VS 19.39.33521 Ubuntu 24.04 Kernel: 5.15 Compiler: gcc gcc (Ubuntu 13.3.0-6ubuntu2~24.04) 13.3.0 Ubuntu 22.04 Kernel: 5.15 Compiler: gcc gcc (Ubuntu 11.4.0-1ubuntu1~22.04) 11.4.0 To view detailed results, visit: https://lab.dpdk.org/results/dashboard/patchsets/34218/ UNH-IOL DPDK Community Lab To manage your email subscriptions, visit: https://lab.dpdk.org/results/dashboard/preferences/subscriptions/