From mboxrd@z Thu Jan 1 00:00:00 1970 Return-Path: Received: from mails.dpdk.org (mails.dpdk.org [217.70.189.124]) by inbox.dpdk.org (Postfix) with ESMTP id 01595488C5 for ; Mon, 6 Oct 2025 11:28:40 +0200 (CEST) Received: from mails.dpdk.org (localhost [127.0.0.1]) by mails.dpdk.org (Postfix) with ESMTP id C8897402B1; Mon, 6 Oct 2025 11:28:40 +0200 (CEST) Received: from mail-pf1-f225.google.com (mail-pf1-f225.google.com [209.85.210.225]) by mails.dpdk.org (Postfix) with ESMTP id D22AD402B1 for ; Mon, 6 Oct 2025 11:28:38 +0200 (CEST) Received: by mail-pf1-f225.google.com with SMTP id d2e1a72fcca58-78af3fe5b17so3569808b3a.2 for ; Mon, 06 Oct 2025 02:28:38 -0700 (PDT) DKIM-Signature: v=1; a=rsa-sha256; c=relaxed/relaxed; d=iol.unh.edu; s=unh-iol; t=1759742918; x=1760347718; darn=dpdk.org; h=cc:to:from:subject:message-id:date:from:to:cc:subject:date :message-id:reply-to; bh=eZVDymauU1bRMb1aFAhoMmh3gPh9TzokLKyI/FHz/G8=; b=IEDfI/xwg76VNh66uqeUtHNwTh5IHBJlvNzv3VN4b5R11vBJh/WmtPDl14omi2srVv Py4pJqNztJhvUy2PEE5Bh0xvysO/hlSiIFkGZBlUzzGGrCtWLNkgTy0yBMlQI8POOYF0 /fK4HMFg8s3OeetWZuIi6z5XIxnHjOTGHSrsA= X-Google-DKIM-Signature: v=1; a=rsa-sha256; c=relaxed/relaxed; d=1e100.net; s=20230601; t=1759742918; x=1760347718; h=cc:to:from:subject:message-id:date:x-gm-message-state:from:to:cc :subject:date:message-id:reply-to; bh=eZVDymauU1bRMb1aFAhoMmh3gPh9TzokLKyI/FHz/G8=; b=RaZ/DDM2D+5Zq27Z+EgYUQU+nAjijpiDKRmRf7Y1wZJn33RCQEUI0Ael//aY18gXR7 vo/6rpeZtACNTg1+2up3qANIXKfbijMCpYz+8r12ikWRe8tvzukiGZ3wOLlGuL3sQYpp TJ45mRcrbvdMgxJwea2ZZ+2ZJUpJBP2BGsuN2zts+7EhaduToM+u9UEn22IATgDvTm+j SPkGWTe3u/am9gIi1qrcKCSec5p039WGxFIPL13aKtEIpvz0iERj+BmiWETOOi6GyGPs 7KB9eFCuwhT9gN74ByHdLqS2TrpbHEsVs9+quwy/ojssYaGLMbkyGZCKu+/HC9kD2Xq8 tkmg== X-Gm-Message-State: AOJu0YwM2ZBsN44DLXJ/6PBdone6aAy+ihkNb2i6s3ILJHG3JJEvqrQq hx7N7fSpdfTeWF04J/tM5hNSmjjbnIo1lggopNkwgt5k+6uIIDGAWB+FpBwFF0hqGaXreE0QVoZ PXJYMPWMqjHluyn+ed8qPJgxqCwgBUKb0QQ1bo9FO0+3U7Z2uNbZ6 X-Gm-Gg: ASbGncsJPxiHuOtiryzU4XQBZwfsBgYwkjb3mKA3VAaL9f0Y3KlMCuUkJXNR5nWCYVj 834Nobt9/cZ+/ZmEOgWdcbIULnPiucvPGFIDz08M52WD3a1n38UA16p0rlhFX4+eKEhs42CJUNq IveOD85BwL4dz3/KOX7ZeC5fzFE0hHxKoEccPzx1ePODGymFyvwHJ2k9HRkBDd0dJhpQB3k4XYR +K+79ZMDoZmFa65qlgtNa2zsJshcQB3/LpckYv/9Cm8BWv5mU8y6OwSXU69k+jzXvlUZqEkq8hI o6obNCERnF3jO+EnkEnJzExDtd3moF/R4eji4bqJmCx5ow3BLABmbhE= X-Google-Smtp-Source: AGHT+IE5YrLjePRPH8cjFwfF91lciQdZKxXjceogDq9QpGJiJsMATKRADO0teo5gjHcnSC657lxffhqkXjqF X-Received: by 2002:a05:6a20:d527:b0:32b:70a1:7c84 with SMTP id adf61e73a8af0-32b70a17d56mr12748131637.28.1759742917885; Mon, 06 Oct 2025 02:28:37 -0700 (PDT) Received: from postal.iol.unh.edu (postal.iol.unh.edu. [2606:4100:3880:1234::84]) by smtp-relay.gmail.com with ESMTPS id 41be03b00d2f7-b6302c4b0b7sm158008a12.1.2025.10.06.02.28.37 (version=TLS1_2 cipher=ECDHE-ECDSA-AES128-GCM-SHA256 bits=128/128); Mon, 06 Oct 2025 02:28:37 -0700 (PDT) X-Relaying-Domain: iol.unh.edu Date: Mon, 06 Oct 2025 02:28:37 -0700 (PDT) Message-ID: <68e38bc5.050a0220.21a5d3.92c0SMTPIN_ADDED_MISSING@mx.google.com> Received: from [172.21.0.2] (unknown [172.18.0.240]) by postal.iol.unh.edu (Postfix) with ESMTP id 1DC2C60003E8; Mon, 6 Oct 2025 05:28:37 -0400 (EDT) Subject: |SUCCESS| [GIT MASTER] b287e404643aeab5bb5db084c142789df187844e From: dpdklab@iol.unh.edu To: Test Report Cc: dpdk-test-reports@iol.unh.edu, Xueming Li , Christian Ehrhardt , Kevin Traynor , Luca Boccassi Content-Type: text/plain X-BeenThere: test-report@dpdk.org X-Mailman-Version: 2.1.29 Precedence: list List-Id: automatic DPDK test reports List-Unsubscribe: , List-Archive: List-Post: List-Help: List-Subscribe: , Errors-To: test-report-bounces@dpdk.org _Testing PASS_ Branch: tags/v24.11 b287e404643aeab5bb5db084c142789df187844e --> testing pass Upstream job id: Generic-Unit-Test-DPDK#378697 Test environment and result as below: +------------------------------+----------------+---------------------------+------------------------------+--------------+ | Environment | dpdk_unit_test | cryptodev_sw_zuc_autotest | cryptodev_sw_snow3g_autotest | lpm_autotest | +==============================+================+===========================+==============================+==============+ | Debian GNU/Linux 12 | PASS | SKIPPED | SKIPPED | SKIPPED | +------------------------------+----------------+---------------------------+------------------------------+--------------+ | CentOS Stream 10 | PASS | SKIPPED | SKIPPED | SKIPPED | +------------------------------+----------------+---------------------------+------------------------------+--------------+ | CentOS Stream 9 | PASS | SKIPPED | SKIPPED | SKIPPED | +------------------------------+----------------+---------------------------+------------------------------+--------------+ | Fedora Linux 41 | PASS | SKIPPED | SKIPPED | SKIPPED | +------------------------------+----------------+---------------------------+------------------------------+--------------+ | Fedora Linux 40 | PASS | SKIPPED | SKIPPED | SKIPPED | +------------------------------+----------------+---------------------------+------------------------------+--------------+ | Fedora Linux 42 | PASS | SKIPPED | SKIPPED | SKIPPED | +------------------------------+----------------+---------------------------+------------------------------+--------------+ | Ubuntu 22.04 | PASS | SKIPPED | SKIPPED | SKIPPED | +------------------------------+----------------+---------------------------+------------------------------+--------------+ | Ubuntu 20.04 | PASS | SKIPPED | SKIPPED | PASS | +------------------------------+----------------+---------------------------+------------------------------+--------------+ | Ubuntu 24.04 | PASS | SKIPPED | SKIPPED | SKIPPED | +------------------------------+----------------+---------------------------+------------------------------+--------------+ | Red Hat Enterprise Linux 9.5 | PASS | SKIPPED | SKIPPED | SKIPPED | +------------------------------+----------------+---------------------------+------------------------------+--------------+ | Debian 12 (arm) | SKIPPED | PASS | PASS | SKIPPED | +------------------------------+----------------+---------------------------+------------------------------+--------------+ Debian GNU/Linux 12 Kernel: 5.4 Compiler: gcc gcc (Debian 12.2.0-14+deb12u1) 12.2.0 CentOS Stream 10 Kernel: 5.4 Compiler: gcc gcc (GCC) 14.2.1 20250110 (Red Hat 14.2.1-8) CentOS Stream 9 Kernel: 5.4 Compiler: gcc gcc (GCC) 11.5.0 20240719 (Red Hat 11.5.0-11) Fedora Linux 41 Kernel: 5.4 Compiler: gcc gcc (GCC) 14.3.1 20250523 (Red Hat 14.3.1-1) Fedora Linux 40 Kernel: 5.4 Compiler: gcc gcc (GCC) 14.2.1 20240912 (Red Hat 14.2.1-3) Fedora Linux 42 Kernel: 5.4 Compiler: gcc gcc (GCC) 15.2.1 20250808 (Red Hat 15.2.1-1) Ubuntu 22.04 Kernel: 5.4 Compiler: gcc gcc (Ubuntu 11.4.0-1ubuntu1~22.04) 11.4.0 Ubuntu 20.04 Kernel: 5.4 Compiler: gcc gcc (Ubuntu 9.4.0-1ubuntu1~20.04.2) 9.4.0 Ubuntu 24.04 Kernel: 5.4 Compiler: gcc gcc (Ubuntu 13.3.0-6ubuntu2~24.04) 13.3.0 Red Hat Enterprise Linux 9.5 Kernel: 5.4 Compiler: gcc gcc (GCC) 11.5.0 20240719 (Red Hat 11.5.0-2) Debian 12 (arm) Kernel: Depends on container host Compiler: gcc (Debian 12.2.0-14) 12.2.0 To view detailed results, visit: https://lab.dpdk.org/results/dashboard/tarballs/35115/ UNH-IOL DPDK Community Lab To manage your email subscriptions, visit: https://lab.dpdk.org/results/dashboard/preferences/subscriptions/