From mboxrd@z Thu Jan 1 00:00:00 1970 Return-Path: Received: from mails.dpdk.org (mails.dpdk.org [217.70.189.124]) by inbox.dpdk.org (Postfix) with ESMTP id E4149488C5 for ; Mon, 6 Oct 2025 13:02:30 +0200 (CEST) Received: from mails.dpdk.org (localhost [127.0.0.1]) by mails.dpdk.org (Postfix) with ESMTP id BD217402B1; Mon, 6 Oct 2025 13:02:30 +0200 (CEST) Received: from mail-pl1-f225.google.com (mail-pl1-f225.google.com [209.85.214.225]) by mails.dpdk.org (Postfix) with ESMTP id 36BD8402B1 for ; Mon, 6 Oct 2025 13:02:30 +0200 (CEST) Received: by mail-pl1-f225.google.com with SMTP id d9443c01a7336-269639879c3so44215295ad.2 for ; Mon, 06 Oct 2025 04:02:30 -0700 (PDT) DKIM-Signature: v=1; a=rsa-sha256; c=relaxed/relaxed; d=iol.unh.edu; s=unh-iol; t=1759748549; x=1760353349; darn=dpdk.org; h=references:in-reply-to:cc:to:from:subject:message-id:date:from:to :cc:subject:date:message-id:reply-to; bh=3l9Kyd0ZyUPtuN0A3K1uoP09UHOHjcAtkYJskwwf9Ts=; b=PJc4uJwjSqQURZZ3vSxNsOrxPYH/Hs8qZEbp0bzDxwtZPLa6/eRi0lNKskwBcctTE4 mwgucL2MvriQBs95bB3DIlc3D7dvF3i8KLLvqO8g4TFLFe1sZG2T4Wv5dHs7uL3WdsCR ulxvUolryt3wT+RSNZVkaLSBxWsaLnaoDJaCY= X-Google-DKIM-Signature: v=1; a=rsa-sha256; c=relaxed/relaxed; d=1e100.net; s=20230601; t=1759748549; x=1760353349; h=references:in-reply-to:cc:to:from:subject:message-id:date :x-gm-message-state:from:to:cc:subject:date:message-id:reply-to; bh=3l9Kyd0ZyUPtuN0A3K1uoP09UHOHjcAtkYJskwwf9Ts=; b=ISaEm/8Q0KZiRreVq/ra845I8vkrij1XKwF5FAL9h1siL0OyJRDlKps3147MCrFBRS VOg+ZiTPpcc7g9MwrpJBhGr9MfzK3VgKCTr3EI54oS2BT+NtWbLGFYUeM0HZ08T9buxv h175CpWg8yC6nf5iCKfO6BOUmISnbeLK3DrH699POJJ2NbQXNcjUzJ3PBRcCRZUbIRw0 o6he/fdIE276zsU+hEGx6CBcmbOVe+BiYEnKd/fIlmXEIeYNDSPS7hnDYxS1h5/r+ynM Xxi3cUt/saoszj0agfKIYhLi5VQAPBu6fWxysUdSupbhli5HfX0IrLbbmh4MApXrMEkm HE+A== X-Gm-Message-State: AOJu0Yw/oTDypRIy6/GaTCO80AA8+nQcrAhlVRJY2wWJlB7gBYarbWnB YlzzOU1QfFECgB+UHqHtlQB6xr/yEIF4MZwjpXiQOfmgvkSHu1Rmol1l+/xknQmJUNege6Yb6mO 71HT2jkFiSoDIjWjBmVBMN7zYjDYgQRsFxIuJ4KqJh3AzLQ6Y/84YsMdJ/K4r X-Gm-Gg: ASbGncuNGo+w1R28ksdshlyXMppbT6j/lRFtDrsvtwn7Y2IDchnP++nIikuhJbycKM5 vO0M80YnS2FCkpmJGHKap2J/AIESYHJcxlveszjXkM9sNobcVVBbgAO8UlVLzTWq0FDRQDEdMyH U76cVzoDGaGX7PiTDugoM/npNt0gAanq72/h+VY6I5RwuUDPVcxrWEgwLkS0xBZk57rkj0fazd0 aka90fGO3ZZ9V1UfUuGoYR6YW9aoj+41r0pri/lhUmgO33G5w7sF2uViaiBvGrkCVUuHrkV6LWN jSvPEw5C4hs56By0IgtT7uXwWPRv0jxAwx7J8A030GT0vikWIzKlJtw= X-Google-Smtp-Source: AGHT+IFhS58vmZ2AyHxBYYVWHCFgA6WCWiaAsZhToAayisGDwDPConpO2O8Bvz00mMt7N8tJIU3EFQG6rVo1 X-Received: by 2002:a17:902:d481:b0:274:746c:b09 with SMTP id d9443c01a7336-28e9a6e4d88mr159319505ad.55.1759748549107; Mon, 06 Oct 2025 04:02:29 -0700 (PDT) Received: from postal.iol.unh.edu (postal.iol.unh.edu. [2606:4100:3880:1234::84]) by smtp-relay.gmail.com with ESMTPS id d9443c01a7336-28e8d180abfsm10281185ad.45.2025.10.06.04.02.29 (version=TLS1_2 cipher=ECDHE-ECDSA-AES128-GCM-SHA256 bits=128/128); Mon, 06 Oct 2025 04:02:29 -0700 (PDT) X-Relaying-Domain: iol.unh.edu Date: Mon, 06 Oct 2025 04:02:29 -0700 (PDT) Message-ID: <68e3a1c5.170a0220.2edee9.0423SMTPIN_ADDED_MISSING@mx.google.com> Received: from [172.21.0.3] (unknown [172.18.0.240]) by postal.iol.unh.edu (Postfix) with ESMTP id 57D286051830; Mon, 6 Oct 2025 07:02:28 -0400 (EDT) Subject: |SUCCESS| pw157295 [PATCH] [v5] net/intel: add IDPF PCI class ID sup From: dpdklab@iol.unh.edu To: Test Report Cc: dpdk-test-reports@iol.unh.edu, Bruce Richardson In-Reply-To: <20251001153035.2613183-1-venkatesh.vemula@intel.com> References: <20251001153035.2613183-1-venkatesh.vemula@intel.com> Content-Type: text/plain X-BeenThere: test-report@dpdk.org X-Mailman-Version: 2.1.29 Precedence: list List-Id: automatic DPDK test reports List-Unsubscribe: , List-Archive: List-Post: List-Help: List-Subscribe: , Errors-To: test-report-bounces@dpdk.org Test-Label: iol-compile-amd64-testing Test-Status: SUCCESS http://dpdk.org/patch/157295 _Testing PASS_ Submitter: Vemula Venkatesh Date: Wednesday, October 01 2025 15:30:35 DPDK git baseline: Repo:dpdk-next-net-intel Branch: master CommitID:e7d8cc7ef4df3552575525697079d3c957cfcdaf 157295 --> testing pass Upstream job id: Windows-Compile-DPDK-Native#31442 Test environment and result as below: +---------------------+-------------------------+-------------------+--------------------+----------------------+ | Environment | dpdk_llvm_clang_compile | dpdk_msvc_compile | dpdk_meson_compile | dpdk_mingw64_compile | +=====================+=========================+===================+====================+======================+ | Windows Server 2022 | PASS | PASS | SKIPPED | PASS | +---------------------+-------------------------+-------------------+--------------------+----------------------+ | FreeBSD 14.2 | SKIPPED | SKIPPED | PASS | SKIPPED | +---------------------+-------------------------+-------------------+--------------------+----------------------+ | Ubuntu 20.04 | SKIPPED | SKIPPED | PASS | SKIPPED | +---------------------+-------------------------+-------------------+--------------------+----------------------+ Windows Server 2022 Kernel: 10.0.20348.2031 Compiler: clang 15.0.7, gcc 14.1.0 (MinGW), and MSVC VS 19.39.33521 FreeBSD 14.2 Kernel: 14.2-RELEASE Compiler: clang 18.1.6 Ubuntu 20.04 Kernel: 4.19 Compiler: gcc gcc (Ubuntu 9.4.0-1ubuntu1~20.04.2) 9.4.0 To view detailed results, visit: https://lab.dpdk.org/results/dashboard/patchsets/34220/ UNH-IOL DPDK Community Lab To manage your email subscriptions, visit: https://lab.dpdk.org/results/dashboard/preferences/subscriptions/