From mboxrd@z Thu Jan 1 00:00:00 1970 Return-Path: Received: from mails.dpdk.org (mails.dpdk.org [217.70.189.124]) by inbox.dpdk.org (Postfix) with ESMTP id 55F4D488C5 for ; Mon, 6 Oct 2025 13:07:31 +0200 (CEST) Received: from mails.dpdk.org (localhost [127.0.0.1]) by mails.dpdk.org (Postfix) with ESMTP id 4EC5F402B1; Mon, 6 Oct 2025 13:07:31 +0200 (CEST) Received: from mail-vk1-f226.google.com (mail-vk1-f226.google.com [209.85.221.226]) by mails.dpdk.org (Postfix) with ESMTP id C2CA1402B1 for ; Mon, 6 Oct 2025 13:07:30 +0200 (CEST) Received: by mail-vk1-f226.google.com with SMTP id 71dfb90a1353d-54aa6a0babeso4497474e0c.0 for ; Mon, 06 Oct 2025 04:07:30 -0700 (PDT) DKIM-Signature: v=1; a=rsa-sha256; c=relaxed/relaxed; d=iol.unh.edu; s=unh-iol; t=1759748850; x=1760353650; darn=dpdk.org; h=references:in-reply-to:cc:to:from:subject:message-id:date:from:to :cc:subject:date:message-id:reply-to; bh=XVRbYRZclE8AaNG+ZECK7RT0tcfO/qpDWz89lxyRjyQ=; b=XpNsvH76atx6/XKTxsFcUFhEh9lGEv9lLvbN2IDMyNGY+kt65wW4JGxeCCQ7uFl9XS 88dfM8LCTIUdBn01l5a25vG/q6YK8Lqpzb7lsyiIcIRxIZWbzqGwZ1HdUwhNN23ZNBzm oKcka697uVNhUdYXX3mBaH/FUyB2nmcx/OlOw= X-Google-DKIM-Signature: v=1; a=rsa-sha256; c=relaxed/relaxed; d=1e100.net; s=20230601; t=1759748850; x=1760353650; h=references:in-reply-to:cc:to:from:subject:message-id:date :x-gm-message-state:from:to:cc:subject:date:message-id:reply-to; bh=XVRbYRZclE8AaNG+ZECK7RT0tcfO/qpDWz89lxyRjyQ=; b=mvRj68jzenk+522XpPZopUtDHJE4mRn8TOlhv4ne7TTBYXTHpIOBW2KeHK8o2+2nyM dzFH8FtEOs6BRge6cnyPKiKCMB+Jp5ewfGE3RzP8KxVRUzdqHnsfufiRqMHjsJPJnLfz YqRxAa7g7/GjnU/ZkZyLYcwMAne8FU9RFazewMtv0oBVbOoE/htyEflk0pKw3Oh90mcb efEnUV0FLn7e2h6HeqcfJE7Wg8qega2A1cNFvSPEf2+FTrMQWOqZCcY8iem/jFVG6AmH x1LfI3wHSEEe23Dy5Ot63IAbzSF8HAMQ4Rq6OHM3lhSYmq+CqxgKfMxiTTpc2cd+RbJn KGyg== X-Gm-Message-State: AOJu0YzSIS9rorRNgXNBPm4ENya+K+iQFHb9lp726kvOylhp/BR/08/l eQAH+FT8e+mRVFJfP2Nt4ufqLsR8VSkvPHuXYCfX8WtRV0Kux0j099gdCJASXxuqgFqjGxnKJGF GpHhwbatzdPbFC3hlhNM2cSrGXTjXzZQRebkI+IdL9y/S X-Gm-Gg: ASbGnctUIUb98loW/6goGVWogHIipr9cX+JyBb5IQdcP9V7O3IxCQfs1YPOtbFnCLhX YZeNdX10SQqTMc7JWueb/oQEpfR14CA7T9/fxMse8A7f6pgG0H92yuEP1h9Ye47czKMSNr2Bga9 zD8Ove6sPUa7+MK1tVDAGngGkzi/p+m4UIrVygrxaLDPfaBw7DMiOzDv8lYUbWB9WyCjWw52q4L QvylrjWBbop4BxG3EoiN/SpwnpAJ21R7iSiOqv7+uSw0lzi3Lzv9jKIQwgb2/weqOA4PQN4Kps6 cW+kXhnuC/yw+hPa36P8l3fH1Z7kbFtjuETnODXzxctQSCRihVXbiFQ9E+5fHx72uPQqw2ol4YG 2uQ== X-Google-Smtp-Source: AGHT+IGHWv1kieVI29TQ+DSC0l16iLm1oSRc/1aJp5OQEqrJ33hG0qseTMXnCAN91OrgNWnMrZeHSG1HT8H8 X-Received: by 2002:a05:6122:e017:10b0:54a:76f6:99e6 with SMTP id 71dfb90a1353d-5523c01a219mr4761089e0c.2.1759748850156; Mon, 06 Oct 2025 04:07:30 -0700 (PDT) Received: from postal.iol.unh.edu (postal.iol.unh.edu. [132.177.123.84]) by smtp-relay.gmail.com with ESMTPS id 71dfb90a1353d-5523cffacc7sm1314768e0c.3.2025.10.06.04.07.30 (version=TLS1_2 cipher=ECDHE-ECDSA-AES128-GCM-SHA256 bits=128/128); Mon, 06 Oct 2025 04:07:30 -0700 (PDT) X-Relaying-Domain: iol.unh.edu Date: Mon, 06 Oct 2025 04:07:30 -0700 (PDT) Message-ID: <68e3a2f2.050a0220.181a02.8195SMTPIN_ADDED_MISSING@mx.google.com> Received: from [172.21.0.3] (unknown [172.18.0.240]) by postal.iol.unh.edu (Postfix) with ESMTP id CAF216051830; Mon, 6 Oct 2025 07:07:29 -0400 (EDT) Subject: |SUCCESS| pw157295 [PATCH] [v5] net/intel: add IDPF PCI class ID sup From: dpdklab@iol.unh.edu To: Test Report Cc: dpdk-test-reports@iol.unh.edu, Bruce Richardson In-Reply-To: <20251001153035.2613183-1-venkatesh.vemula@intel.com> References: <20251001153035.2613183-1-venkatesh.vemula@intel.com> Content-Type: text/plain X-BeenThere: test-report@dpdk.org X-Mailman-Version: 2.1.29 Precedence: list List-Id: automatic DPDK test reports List-Unsubscribe: , List-Archive: List-Post: List-Help: List-Subscribe: , Errors-To: test-report-bounces@dpdk.org Test-Label: iol-unit-amd64-testing Test-Status: SUCCESS http://dpdk.org/patch/157295 _Testing PASS_ Submitter: Vemula Venkatesh Date: Wednesday, October 01 2025 15:30:35 DPDK git baseline: Repo:dpdk-next-net-intel Branch: master CommitID:e7d8cc7ef4df3552575525697079d3c957cfcdaf 157295 --> testing pass Upstream job id: Generic-VM-Unit-Test-DPDK#31611 Test environment and result as below: +-------------------------------+----------------+ | Environment | dpdk_unit_test | +===============================+================+ | Fedora Linux 40 | PASS | +-------------------------------+----------------+ | Fedora Linux 41 | PASS | +-------------------------------+----------------+ | Fedora Linux 42 | PASS | +-------------------------------+----------------+ | CentOS Stream 10 | PASS | +-------------------------------+----------------+ | Red Hat Enterprise Linux 9.5 | PASS | +-------------------------------+----------------+ | CentOS Stream 9 | PASS | +-------------------------------+----------------+ | Red Hat Enterprise Linux 8.10 | PASS | +-------------------------------+----------------+ | Debian GNU/Linux 12 | PASS | +-------------------------------+----------------+ | Ubuntu 24.04 | PASS | +-------------------------------+----------------+ | Windows Server 2022 | PASS | +-------------------------------+----------------+ | Ubuntu 22.04 | PASS | +-------------------------------+----------------+ | Ubuntu 20.04 | PASS | +-------------------------------+----------------+ Fedora Linux 40 Kernel: 5.15 Compiler: gcc gcc (GCC) 14.2.1 20240912 (Red Hat 14.2.1-3) Fedora Linux 41 Kernel: 5.15 Compiler: clang gcc (GCC) 14.3.1 20250523 (Red Hat 14.3.1-1) Fedora Linux 42 Kernel: 5.15 Compiler: gcc gcc (GCC) 15.2.1 20250808 (Red Hat 15.2.1-1) CentOS Stream 10 Kernel: 5.15 Compiler: gcc gcc (GCC) 14.2.1 20250110 (Red Hat 14.2.1-8) Red Hat Enterprise Linux 9.5 Kernel: 5.15 Compiler: gcc gcc (GCC) 11.5.0 20240719 (Red Hat 11.5.0-2) CentOS Stream 9 Kernel: 5.15 Compiler: gcc gcc (GCC) 11.5.0 20240719 (Red Hat 11.5.0-11) Red Hat Enterprise Linux 8.10 Kernel: 5.15 Compiler: gcc gcc (GCC) 8.5.0 20210514 (Red Hat 8.5.0-22) Debian GNU/Linux 12 Kernel: 5.15 Compiler: gcc gcc (Debian 12.2.0-14+deb12u1) 12.2.0 Ubuntu 24.04 Kernel: 5.15 Compiler: gcc gcc (Ubuntu 13.3.0-6ubuntu2~24.04) 13.3.0 Windows Server 2022 Kernel: 10.0.20348.2031 Compiler: clang 15.0.7, gcc 14.1.0 (MinGW), and MSVC VS 19.39.33521 Ubuntu 22.04 Kernel: 5.15 Compiler: gcc gcc (Ubuntu 11.4.0-1ubuntu1~22.04) 11.4.0 Ubuntu 20.04 Kernel: 5.15 Compiler: gcc gcc (Ubuntu 9.4.0-1ubuntu1~20.04.2) 9.4.0 To view detailed results, visit: https://lab.dpdk.org/results/dashboard/patchsets/34220/ UNH-IOL DPDK Community Lab To manage your email subscriptions, visit: https://lab.dpdk.org/results/dashboard/preferences/subscriptions/