From mboxrd@z Thu Jan 1 00:00:00 1970 Return-Path: Received: from mails.dpdk.org (mails.dpdk.org [217.70.189.124]) by inbox.dpdk.org (Postfix) with ESMTP id 60222488C5 for ; Mon, 6 Oct 2025 13:23:54 +0200 (CEST) Received: from mails.dpdk.org (localhost [127.0.0.1]) by mails.dpdk.org (Postfix) with ESMTP id 51383402B1; Mon, 6 Oct 2025 13:23:54 +0200 (CEST) Received: from mail-pf1-f226.google.com (mail-pf1-f226.google.com [209.85.210.226]) by mails.dpdk.org (Postfix) with ESMTP id 23D92402B1 for ; Mon, 6 Oct 2025 13:23:52 +0200 (CEST) Received: by mail-pf1-f226.google.com with SMTP id d2e1a72fcca58-782a77b5ec7so3926539b3a.1 for ; Mon, 06 Oct 2025 04:23:52 -0700 (PDT) DKIM-Signature: v=1; a=rsa-sha256; c=relaxed/relaxed; d=iol.unh.edu; s=unh-iol; t=1759749831; x=1760354631; darn=dpdk.org; h=references:in-reply-to:cc:to:from:subject:message-id:date:from:to :cc:subject:date:message-id:reply-to; bh=nk92un4TXQi33mCnmRolT34Sl9Lq4Ah9lmBrIBY295E=; b=Kg0OqLZnLxO9PHdahgM6HUE4I+QDsTNsPprFaVB5m5sVAHHYSR1SQ82dOQlT7bPPs5 a7gnsbw9xuL8jMcGA6dPUYvpLZ3iWcsuMJeNjDunUFwc5/B01rfm7L1If8l4iHqGa4SU lThy/ZlExW7O1kw2i22flgYkcWFvpt0ilQ40Q= X-Google-DKIM-Signature: v=1; a=rsa-sha256; c=relaxed/relaxed; d=1e100.net; s=20230601; t=1759749831; x=1760354631; h=references:in-reply-to:cc:to:from:subject:message-id:date :x-gm-message-state:from:to:cc:subject:date:message-id:reply-to; bh=nk92un4TXQi33mCnmRolT34Sl9Lq4Ah9lmBrIBY295E=; b=j/z94+L+a+YFRJy6/EmuRC5YfyMfag/1Xb8pWHSPZYp/kGnUeqalZfuqpTJukHwA8X W+MG7DT5U9c2cMiFnsYPh/j2CmdsuL/TpsT+z5/0w8MS43fpq/ZlkRqjbh/hJPxfiUGk EX+tpZ/locQG917K9X6jxJIyCXThF6mT8DsshJfJBpitp27vYOMtlDa882Uty7tD6Ea/ 8N/UEi40e2fFmCPi6moM/dPZEnIsI4aPOC/1HgyceJe0nvh6SxEFOB2KcUE0fNHmofnw TvVOkvZl9i3DklRxNqCWFbKJFO2SLra5FBjkmemYLVHyElkygDs1NOl/+ZvKzVwC7Zwt sFkA== X-Gm-Message-State: AOJu0YwGMdnNS5/VUH1MeD494o6d2OHzwJshX9CdHMI+AcQloDrlaTzQ JH7KoY9m0tMDX3JlHA4umZ6in3o4S8H/xUj7Wi4Uy/JF7J/bmk/W+wcIVZXXYqz8MOog6wBe+ra xn9lyUYMnJqZD1zTLxP8S81X4UNm439/hI1UzBqjLViYk X-Gm-Gg: ASbGncu84DyY4DBzngNX6WPuGyGVB72ffZodh+pAL6ujJ1Drdh+dlrYNiLZlzZXUSz8 uoEGAEkn1Hf9LZW6EVbACk3bkGgRKfBcz76Ih7Z8bObKLSKEN+peu9cWmz9/v6ZvX7zADzrKUUe DmLKxDVZktG7xOaltTatNoOWuris6lTmXvoH7nYYid77ANX4DMq4PA6KdO4/iGy3lbdI+4v77Q6 lvTBPl8IQoVWTzdhzB3NBH8y33MXMCaE58YpsLFCa71gnWwKjhqdHPS3Sa2+3DtWqY72Lj+LtKX FNfL7IrLxMH5y66cyjkzyD8UaNDI6/tH85X6AJPFoulFSW2N+LOLOkvbRQL74gDlL5vX3CXJDcs 0XA== X-Google-Smtp-Source: AGHT+IFIzSq9BHo2sfJgMDIO6VoCsKBHgIelQZKNxCClsR4QYFpHqxyaPQKjXyJvhbiVc1yrh1pzBNbgmhhS X-Received: by 2002:a17:903:41c9:b0:27e:de8a:8654 with SMTP id d9443c01a7336-28e9a674da9mr159057395ad.57.1759749830990; Mon, 06 Oct 2025 04:23:50 -0700 (PDT) Received: from postal.iol.unh.edu (postal.iol.unh.edu. [132.177.123.84]) by smtp-relay.gmail.com with ESMTPS id d9443c01a7336-28e8d19b4a0sm10044225ad.51.2025.10.06.04.23.50 (version=TLS1_2 cipher=ECDHE-ECDSA-AES128-GCM-SHA256 bits=128/128); Mon, 06 Oct 2025 04:23:50 -0700 (PDT) X-Relaying-Domain: iol.unh.edu Date: Mon, 06 Oct 2025 04:23:50 -0700 (PDT) Message-ID: <68e3a6c6.170a0220.6acb7.7982SMTPIN_ADDED_MISSING@mx.google.com> Received: from [172.21.0.2] (unknown [172.18.0.240]) by postal.iol.unh.edu (Postfix) with ESMTP id 490B36051830; Mon, 6 Oct 2025 07:23:50 -0400 (EDT) Subject: |SUCCESS| pw157296 [PATCH] examples/l3fwd-power: fix telemetry comma From: dpdklab@iol.unh.edu To: Test Report Cc: dpdk-test-reports@iol.unh.edu In-Reply-To: <20251006101058.191495-1-sivaprasad.tummala@amd.com> References: <20251006101058.191495-1-sivaprasad.tummala@amd.com> Content-Type: text/plain X-BeenThere: test-report@dpdk.org X-Mailman-Version: 2.1.29 Precedence: list List-Id: automatic DPDK test reports List-Unsubscribe: , List-Archive: List-Post: List-Help: List-Subscribe: , Errors-To: test-report-bounces@dpdk.org Test-Label: iol-compile-amd64-testing Test-Status: SUCCESS http://dpdk.org/patch/157296 _Testing PASS_ Submitter: Sivaprasad Tummala Date: Monday, October 06 2025 10:10:58 DPDK git baseline: Repo:dpdk Branch: master CommitID:2b403dd8fb37d0ba13723e44ffc7ee2c2795f838 157296 --> testing pass Upstream job id: Windows-Compile-DPDK-Native#31443 Test environment and result as below: +---------------------+--------------------+-------------------+-------------------------+ | Environment | dpdk_meson_compile | dpdk_msvc_compile | dpdk_llvm_clang_compile | +=====================+====================+===================+=========================+ | FreeBSD 14.2 | PASS | SKIPPED | SKIPPED | +---------------------+--------------------+-------------------+-------------------------+ | Ubuntu 20.04 | PASS | SKIPPED | SKIPPED | +---------------------+--------------------+-------------------+-------------------------+ | Windows Server 2022 | SKIPPED | PASS | PASS | +---------------------+--------------------+-------------------+-------------------------+ FreeBSD 14.2 Kernel: 14.2-RELEASE Compiler: clang 18.1.6 Ubuntu 20.04 Kernel: 4.19 Compiler: gcc gcc (Ubuntu 9.4.0-1ubuntu1~20.04.2) 9.4.0 Windows Server 2022 Kernel: 10.0.20348.2031 Compiler: clang 15.0.7, gcc 14.1.0 (MinGW), and MSVC VS 19.39.33521 To view detailed results, visit: https://lab.dpdk.org/results/dashboard/patchsets/34221/ UNH-IOL DPDK Community Lab To manage your email subscriptions, visit: https://lab.dpdk.org/results/dashboard/preferences/subscriptions/