From: dpdklab@iol.unh.edu
To: Test Report <test-report@dpdk.org>
Cc: dpdk-test-reports@iol.unh.edu
Subject: |SUCCESS| pw157296 [PATCH] examples/l3fwd-power: fix telemetry comma
Date: Mon, 06 Oct 2025 04:32:50 -0700 (PDT) [thread overview]
Message-ID: <68e3a8e2.050a0220.2c4d5e.01b6SMTPIN_ADDED_MISSING@mx.google.com> (raw)
In-Reply-To: <20251006101058.191495-1-sivaprasad.tummala@amd.com>
Test-Label: iol-compile-amd64-testing
Test-Status: SUCCESS
http://dpdk.org/patch/157296
_Testing PASS_
Submitter: Sivaprasad Tummala <Sivaprasad.Tummala@amd.com>
Date: Monday, October 06 2025 10:10:58
DPDK git baseline: Repo:dpdk
Branch: master
CommitID:2b403dd8fb37d0ba13723e44ffc7ee2c2795f838
157296 --> testing pass
Upstream job id: Windows-Compile-DPDK-Native#31444
Test environment and result as below:
+---------------------+--------------------+-------------------+-------------------------+----------------------+
| Environment | dpdk_meson_compile | dpdk_msvc_compile | dpdk_llvm_clang_compile | dpdk_mingw64_compile |
+=====================+====================+===================+=========================+======================+
| FreeBSD 14.2 | PASS | SKIPPED | SKIPPED | SKIPPED |
+---------------------+--------------------+-------------------+-------------------------+----------------------+
| Ubuntu 20.04 | PASS | SKIPPED | SKIPPED | SKIPPED |
+---------------------+--------------------+-------------------+-------------------------+----------------------+
| Windows Server 2022 | SKIPPED | PASS | PASS | PASS |
+---------------------+--------------------+-------------------+-------------------------+----------------------+
FreeBSD 14.2
Kernel: 14.2-RELEASE
Compiler: clang 18.1.6
Ubuntu 20.04
Kernel: 4.19
Compiler: gcc gcc (Ubuntu 9.4.0-1ubuntu1~20.04.2) 9.4.0
Windows Server 2022
Kernel: 10.0.20348.2031
Compiler: clang 15.0.7, gcc 14.1.0 (MinGW), and MSVC VS 19.39.33521
To view detailed results, visit:
https://lab.dpdk.org/results/dashboard/patchsets/34221/
UNH-IOL DPDK Community Lab
To manage your email subscriptions, visit:
https://lab.dpdk.org/results/dashboard/preferences/subscriptions/
next prev parent reply other threads:[~2025-10-06 11:32 UTC|newest]
Thread overview: 21+ messages / expand[flat|nested] mbox.gz Atom feed top
[not found] <20251006101058.191495-1-sivaprasad.tummala@amd.com>
2025-10-06 9:46 ` |SUCCESS| pw157296 [PATCH] examples/l3fwd-power: fix telemetry command registration qemudev
2025-10-06 9:51 ` qemudev
2025-10-06 10:12 ` checkpatch
2025-10-06 10:41 ` |PENDING| pw157296 [PATCH] examples/l3fwd-power: fix telemetry comma dpdklab
2025-10-06 10:45 ` |SUCCESS| " dpdklab
2025-10-06 10:46 ` dpdklab
2025-10-06 10:50 ` dpdklab
2025-10-06 10:55 ` dpdklab
2025-10-06 11:03 ` |PENDING| " dpdklab
2025-10-06 11:11 ` dpdklab
2025-10-06 11:14 ` |SUCCESS| " dpdklab
2025-10-06 11:22 ` dpdklab
2025-10-06 11:23 ` dpdklab
2025-10-06 11:23 ` dpdklab
2025-10-06 11:26 ` |SUCCESS| pw157296 [PATCH] examples/l3fwd-power: fix telemetry command registration 0-day Robot
2025-10-06 11:27 ` 0-day Robot
2025-10-06 11:32 ` dpdklab [this message]
2025-10-06 11:38 ` |SUCCESS| pw157296 [PATCH] examples/l3fwd-power: fix telemetry comma dpdklab
2025-10-06 11:44 ` dpdklab
2025-10-06 11:56 ` dpdklab
2025-10-06 12:03 ` dpdklab
Reply instructions:
You may reply publicly to this message via plain-text email
using any one of the following methods:
* Save the following mbox file, import it into your mail client,
and reply-to-all from there: mbox
Avoid top-posting and favor interleaved quoting:
https://en.wikipedia.org/wiki/Posting_style#Interleaved_style
* Reply using the --to, --cc, and --in-reply-to
switches of git-send-email(1):
git send-email \
--in-reply-to=68e3a8e2.050a0220.2c4d5e.01b6SMTPIN_ADDED_MISSING@mx.google.com \
--to=dpdklab@iol.unh.edu \
--cc=dpdk-test-reports@iol.unh.edu \
--cc=test-report@dpdk.org \
/path/to/YOUR_REPLY
https://kernel.org/pub/software/scm/git/docs/git-send-email.html
* If your mail client supports setting the In-Reply-To header
via mailto: links, try the mailto: link
Be sure your reply has a Subject: header at the top and a blank line
before the message body.
This is a public inbox, see mirroring instructions
for how to clone and mirror all data and code used for this inbox;
as well as URLs for NNTP newsgroup(s).