From mboxrd@z Thu Jan 1 00:00:00 1970 Return-Path: Received: from mails.dpdk.org (mails.dpdk.org [217.70.189.124]) by inbox.dpdk.org (Postfix) with ESMTP id 6F60B488C5 for ; Mon, 6 Oct 2025 13:32:53 +0200 (CEST) Received: from mails.dpdk.org (localhost [127.0.0.1]) by mails.dpdk.org (Postfix) with ESMTP id 52C65402B1; Mon, 6 Oct 2025 13:32:53 +0200 (CEST) Received: from mail-pf1-f227.google.com (mail-pf1-f227.google.com [209.85.210.227]) by mails.dpdk.org (Postfix) with ESMTP id AA311402B1 for ; Mon, 6 Oct 2025 13:32:51 +0200 (CEST) Received: by mail-pf1-f227.google.com with SMTP id d2e1a72fcca58-77f5d497692so5376343b3a.1 for ; Mon, 06 Oct 2025 04:32:51 -0700 (PDT) DKIM-Signature: v=1; a=rsa-sha256; c=relaxed/relaxed; d=iol.unh.edu; s=unh-iol; t=1759750371; x=1760355171; darn=dpdk.org; h=references:in-reply-to:cc:to:from:subject:message-id:date:from:to :cc:subject:date:message-id:reply-to; bh=mv7zbeABQ4SyYpjBPhYtZVs8vt76AKhjTG04xZaqLCc=; b=PJ7zUBk0oOd6EK+RKaEjfvUU86uE5BG+d+7daWEkdw7JenZNOOIv7WdtXho+cQ6mpa neo44260GpqcDgvXqVkqEJUY7fV3Fa/EiYarN5ksH/kIVYnrzC05zefaA6loEx85h5OP 9KG2Z6bmScV+u4J3JYukRUYfYDWmY/VbYvvLA= X-Google-DKIM-Signature: v=1; a=rsa-sha256; c=relaxed/relaxed; d=1e100.net; s=20230601; t=1759750371; x=1760355171; h=references:in-reply-to:cc:to:from:subject:message-id:date :x-gm-message-state:from:to:cc:subject:date:message-id:reply-to; bh=mv7zbeABQ4SyYpjBPhYtZVs8vt76AKhjTG04xZaqLCc=; b=Vk59cj2CezgSj0tLVqLiped7cQAtWx4wmmpqgtr7yRy+5/HI+ETi6cvS4oVlazbGr3 H/5eAIbOGpy49f2TvgnCFBvT5a5/imcy5q31LHtGY4S7w5nuJG3FTcAF+x9Q0YAdcdWa 0efOJUTkvGL0qZKcEy9McTL9RcWOxbL6mjIbRlPphmAW1+g3AwittyWfihkK8W+2osWo kf5FTGCTh6VQfA1R5zaRXy0MXDEJwPRSNS+iB5fgANhe+AvK0joG+bl4lrU0Sh2lE5IC spw0ww9JYyEt3aM8z+7cKU7jshw0MuxMVo/LjiL24kOeqF8kkyAOgihobHlXtc37Mqaq 8u7Q== X-Gm-Message-State: AOJu0YzXlMtsIpwiuAEID8nWP0BRdUVgauSMiR5ZJh+PeQVkBSV0a4TV Tn8bjK/MXrWRg1Yhsgl7YeQwBeIPw6rqZ5RCG8R1e22RNXnKNSbccctb2bdzp4ieFMVA+ERsMuL TczZR6ezB81xobSxEWXkslZaEGGQSlLO6Fa2tK52YHAnN X-Gm-Gg: ASbGncv3fvMbZB7k0tzoB3SkfCRdwOkKmN78f7XCzWluy/LB3hnwCd8BGwLB17y2P8J XycEslFwDpu6zGQjyIAwH0AxU3oqdtBhaalbulKeO1dOyKPcM4X7mxTJyoVj8xMqPhjWEGqswhi 7JmKqRWMGtIzx6sLYxSHl4QgPA4kZbkhzTo/xi2beNZm0X5VdeFRJeeZ98yzGOA0l4MV447as6p k1ZQZLpLtY0sPhIeMAReAZhYRiICpSWaClaEnqwuisCaQ/5JX92NKTcTKT0YQVt8JpfNkmVPXyF TwL1lPN4EmEkfUVAx8S/j7vZaf3BNEj/vr/DWvq2wizIM69Q06sEFzJ7jK5ckr53dz2HWyr/RSq OWg== X-Google-Smtp-Source: AGHT+IGjbm0eLS/rTpKKsWnYA5kI/ZrJDn3OaNC2NnY/R624ofUjKKSYzbSbXp1gWoEXWu4xVla7s6e19ub6 X-Received: by 2002:a05:6a21:6d86:b0:2f9:48ac:c8ed with SMTP id adf61e73a8af0-32b61dfb944mr15816616637.1.1759750370759; Mon, 06 Oct 2025 04:32:50 -0700 (PDT) Received: from postal.iol.unh.edu (postal.iol.unh.edu. [132.177.123.84]) by smtp-relay.gmail.com with ESMTPS id d2e1a72fcca58-78b01fa6c63sm867903b3a.5.2025.10.06.04.32.50 (version=TLS1_2 cipher=ECDHE-ECDSA-AES128-GCM-SHA256 bits=128/128); Mon, 06 Oct 2025 04:32:50 -0700 (PDT) X-Relaying-Domain: iol.unh.edu Date: Mon, 06 Oct 2025 04:32:50 -0700 (PDT) Message-ID: <68e3a8e2.050a0220.2c4d5e.01b6SMTPIN_ADDED_MISSING@mx.google.com> Received: from [172.21.0.2] (unknown [172.18.0.240]) by postal.iol.unh.edu (Postfix) with ESMTP id 811D560003E8; Mon, 6 Oct 2025 07:32:49 -0400 (EDT) Subject: |SUCCESS| pw157296 [PATCH] examples/l3fwd-power: fix telemetry comma From: dpdklab@iol.unh.edu To: Test Report Cc: dpdk-test-reports@iol.unh.edu In-Reply-To: <20251006101058.191495-1-sivaprasad.tummala@amd.com> References: <20251006101058.191495-1-sivaprasad.tummala@amd.com> Content-Type: text/plain X-BeenThere: test-report@dpdk.org X-Mailman-Version: 2.1.29 Precedence: list List-Id: automatic DPDK test reports List-Unsubscribe: , List-Archive: List-Post: List-Help: List-Subscribe: , Errors-To: test-report-bounces@dpdk.org Test-Label: iol-compile-amd64-testing Test-Status: SUCCESS http://dpdk.org/patch/157296 _Testing PASS_ Submitter: Sivaprasad Tummala Date: Monday, October 06 2025 10:10:58 DPDK git baseline: Repo:dpdk Branch: master CommitID:2b403dd8fb37d0ba13723e44ffc7ee2c2795f838 157296 --> testing pass Upstream job id: Windows-Compile-DPDK-Native#31444 Test environment and result as below: +---------------------+--------------------+-------------------+-------------------------+----------------------+ | Environment | dpdk_meson_compile | dpdk_msvc_compile | dpdk_llvm_clang_compile | dpdk_mingw64_compile | +=====================+====================+===================+=========================+======================+ | FreeBSD 14.2 | PASS | SKIPPED | SKIPPED | SKIPPED | +---------------------+--------------------+-------------------+-------------------------+----------------------+ | Ubuntu 20.04 | PASS | SKIPPED | SKIPPED | SKIPPED | +---------------------+--------------------+-------------------+-------------------------+----------------------+ | Windows Server 2022 | SKIPPED | PASS | PASS | PASS | +---------------------+--------------------+-------------------+-------------------------+----------------------+ FreeBSD 14.2 Kernel: 14.2-RELEASE Compiler: clang 18.1.6 Ubuntu 20.04 Kernel: 4.19 Compiler: gcc gcc (Ubuntu 9.4.0-1ubuntu1~20.04.2) 9.4.0 Windows Server 2022 Kernel: 10.0.20348.2031 Compiler: clang 15.0.7, gcc 14.1.0 (MinGW), and MSVC VS 19.39.33521 To view detailed results, visit: https://lab.dpdk.org/results/dashboard/patchsets/34221/ UNH-IOL DPDK Community Lab To manage your email subscriptions, visit: https://lab.dpdk.org/results/dashboard/preferences/subscriptions/