From mboxrd@z Thu Jan 1 00:00:00 1970 Return-Path: Received: from mails.dpdk.org (mails.dpdk.org [217.70.189.124]) by inbox.dpdk.org (Postfix) with ESMTP id 2A4EC488C5 for ; Mon, 6 Oct 2025 13:39:00 +0200 (CEST) Received: from mails.dpdk.org (localhost [127.0.0.1]) by mails.dpdk.org (Postfix) with ESMTP id 24209402B1; Mon, 6 Oct 2025 13:39:00 +0200 (CEST) Received: from mail-pf1-f226.google.com (mail-pf1-f226.google.com [209.85.210.226]) by mails.dpdk.org (Postfix) with ESMTP id 4B2C6402B1 for ; Mon, 6 Oct 2025 13:38:59 +0200 (CEST) Received: by mail-pf1-f226.google.com with SMTP id d2e1a72fcca58-781206cce18so3983326b3a.0 for ; Mon, 06 Oct 2025 04:38:59 -0700 (PDT) DKIM-Signature: v=1; a=rsa-sha256; c=relaxed/relaxed; d=iol.unh.edu; s=unh-iol; t=1759750738; x=1760355538; darn=dpdk.org; h=references:in-reply-to:cc:to:from:subject:message-id:date:from:to :cc:subject:date:message-id:reply-to; bh=JTZztt/Dk4iVZ5GMG9dJ66rmxJBFCxY58NlOBDdL7p4=; b=LGU5+fiUtPrc+RahUhQHizTDVZuO1OBs0FeP8JdvbEjhmyH0Apk+VQC1RfFeKT6sd5 uJOg+uY/CpNUJIP3ZWOmCpOmsXdaQZ4TTP0lTnNWVzt9ltIkYRXC3x2KmGGXLoYFZsSz lYeIpBVJZJuBBLPBfc0CPLewAIRB+gD8ZycDs= X-Google-DKIM-Signature: v=1; a=rsa-sha256; c=relaxed/relaxed; d=1e100.net; s=20230601; t=1759750738; x=1760355538; h=references:in-reply-to:cc:to:from:subject:message-id:date :x-gm-message-state:from:to:cc:subject:date:message-id:reply-to; bh=JTZztt/Dk4iVZ5GMG9dJ66rmxJBFCxY58NlOBDdL7p4=; b=Kx5cOfOuvOrK9kQzR4SKCSUvH3RgOQFZ6JNhKRqg45JJQq03pIQ5bXnTn9Nwn1K1ol UGux27KOmYruIEOksnKomGkOOSwrS8aps0ylNTUFO9+SOGWaoQvU3ajmq5wOeuydjPOy VqF+UxEiFfB4c3+ecZqRucTJWwlwKQ93H9esiRSBEMseEcswK3TbUNV6ZLis9i07lsfy PVue7QuILAKTa3LeWoQxCQ3gmEKNWMegZfjeCWjSB9R1UzuQTCa2UgdccU/wmkjC0xA4 DVPky3zwPCGpQRuz9DUToiKIfsDSC3UxuS0Ibg90S7s0NuQI4O9tOsTPMm1n7Slmz4Gx k/xg== X-Gm-Message-State: AOJu0YyJlVdZiIuiZuzUMuysyW8mdkdgmfnVmkpQS3LUdh4STkk5ZpRw YYMrvEe3gwwg4q1auvirwOvzheKCl/wm9iT+B/nZMbXulA3Q7mMOO6B2dDArGizx04SviBIEZBR DhbVa6ZLcxbfDjRaVVja+tJsfg0kJ8RaGIsI4c0jeMnzn X-Gm-Gg: ASbGncu4SAKfUMMGcvx5KVergEfGPCNiOHpOE77YdVgZTxrWJlID/+ZmDLgnPZqDQCC ZhJC1odIMz6PknDMnKfNWUN07KFC3h/zBso1SYMglW1bVNMdYSe1jUn2ZA2LIjAL6kEdFsFMR+f nNphNSHZe3pzoq8PpX1XATYJVucirVCmxb6pDqAN2i6WNA8uAbuv+LVAqmlyrC24Lrecx0Gw/Cw eyUookbjjTOp3tDuWv2ap38arWmOIXkj9j6YGdOmuCVT3iQ83oAlW6ffluf4eITRL2gKLdNGPXi D0RV71uUOfhmV0FnUtue7pVgY5twehTt0JksUh4Ehd//QtszCZbkc5EL8iaAjT0zTc37DwqbGR4 EXQ== X-Google-Smtp-Source: AGHT+IFS84SadwZsuBI2FjXLxWdadDVG4SSxCWWqbJZMnlFNjil38TF5JYFKve+SaTHUocaW028bg/lyFcGw X-Received: by 2002:a05:6300:14d:b0:2c4:5793:3419 with SMTP id adf61e73a8af0-32a2718c362mr18333012637.27.1759750738447; Mon, 06 Oct 2025 04:38:58 -0700 (PDT) Received: from postal.iol.unh.edu (postal.iol.unh.edu. [132.177.123.84]) by smtp-relay.gmail.com with ESMTPS id 41be03b00d2f7-b6099baf43esm754816a12.16.2025.10.06.04.38.58 (version=TLS1_2 cipher=ECDHE-ECDSA-AES128-GCM-SHA256 bits=128/128); Mon, 06 Oct 2025 04:38:58 -0700 (PDT) X-Relaying-Domain: iol.unh.edu Date: Mon, 06 Oct 2025 04:38:58 -0700 (PDT) Message-ID: <68e3aa52.050a0220.34d423.963aSMTPIN_ADDED_MISSING@mx.google.com> Received: from [172.21.0.2] (unknown [172.18.0.240]) by postal.iol.unh.edu (Postfix) with ESMTP id B45676051830; Mon, 6 Oct 2025 07:38:57 -0400 (EDT) Subject: |SUCCESS| pw157296 [PATCH] examples/l3fwd-power: fix telemetry comma From: dpdklab@iol.unh.edu To: Test Report Cc: dpdk-test-reports@iol.unh.edu In-Reply-To: <20251006101058.191495-1-sivaprasad.tummala@amd.com> References: <20251006101058.191495-1-sivaprasad.tummala@amd.com> Content-Type: text/plain X-BeenThere: test-report@dpdk.org X-Mailman-Version: 2.1.29 Precedence: list List-Id: automatic DPDK test reports List-Unsubscribe: , List-Archive: List-Post: List-Help: List-Subscribe: , Errors-To: test-report-bounces@dpdk.org Test-Label: iol-unit-amd64-testing Test-Status: SUCCESS http://dpdk.org/patch/157296 _Testing PASS_ Submitter: Sivaprasad Tummala Date: Monday, October 06 2025 10:10:58 DPDK git baseline: Repo:dpdk Branch: master CommitID:2b403dd8fb37d0ba13723e44ffc7ee2c2795f838 157296 --> testing pass Upstream job id: Generic-VM-Unit-Test-DPDK#31613 Test environment and result as below: +-------------------------------+----------------+ | Environment | dpdk_unit_test | +===============================+================+ | CentOS Stream 10 | PASS | +-------------------------------+----------------+ | CentOS Stream 9 | PASS | +-------------------------------+----------------+ | Debian GNU/Linux 12 | PASS | +-------------------------------+----------------+ | Fedora Linux 40 | PASS | +-------------------------------+----------------+ | Fedora Linux 42 | PASS | +-------------------------------+----------------+ | Fedora Linux 41 | PASS | +-------------------------------+----------------+ | Red Hat Enterprise Linux 9.5 | PASS | +-------------------------------+----------------+ | Red Hat Enterprise Linux 8.10 | PASS | +-------------------------------+----------------+ | Ubuntu 20.04 | PASS | +-------------------------------+----------------+ | Ubuntu 22.04 | PASS | +-------------------------------+----------------+ | Ubuntu 24.04 | PASS | +-------------------------------+----------------+ | Windows Server 2022 | PASS | +-------------------------------+----------------+ CentOS Stream 10 Kernel: 5.15 Compiler: gcc gcc (GCC) 14.2.1 20250110 (Red Hat 14.2.1-8) CentOS Stream 9 Kernel: 5.15 Compiler: gcc gcc (GCC) 11.5.0 20240719 (Red Hat 11.5.0-11) Debian GNU/Linux 12 Kernel: 5.15 Compiler: gcc gcc (Debian 12.2.0-14+deb12u1) 12.2.0 Fedora Linux 40 Kernel: 5.15 Compiler: gcc gcc (GCC) 14.2.1 20240912 (Red Hat 14.2.1-3) Fedora Linux 42 Kernel: 5.15 Compiler: gcc gcc (GCC) 15.2.1 20250808 (Red Hat 15.2.1-1) Fedora Linux 41 Kernel: 5.15 Compiler: gcc gcc (GCC) 14.3.1 20250523 (Red Hat 14.3.1-1) Red Hat Enterprise Linux 9.5 Kernel: 5.15 Compiler: gcc gcc (GCC) 11.5.0 20240719 (Red Hat 11.5.0-2) Red Hat Enterprise Linux 8.10 Kernel: 5.15 Compiler: gcc gcc (GCC) 8.5.0 20210514 (Red Hat 8.5.0-22) Ubuntu 20.04 Kernel: 5.15 Compiler: gcc gcc (Ubuntu 9.4.0-1ubuntu1~20.04.2) 9.4.0 Ubuntu 22.04 Kernel: 5.15 Compiler: gcc gcc (Ubuntu 11.4.0-1ubuntu1~22.04) 11.4.0 Ubuntu 24.04 Kernel: 5.15 Compiler: gcc gcc (Ubuntu 13.3.0-6ubuntu2~24.04) 13.3.0 Windows Server 2022 Kernel: 10.0.20348.2031 Compiler: clang 15.0.7, gcc 14.1.0 (MinGW), and MSVC VS 19.39.33521 To view detailed results, visit: https://lab.dpdk.org/results/dashboard/patchsets/34221/ UNH-IOL DPDK Community Lab To manage your email subscriptions, visit: https://lab.dpdk.org/results/dashboard/preferences/subscriptions/