From: dpdklab@iol.unh.edu
To: Test Report <test-report@dpdk.org>
Cc: dpdk-test-reports@iol.unh.edu,
Bruce Richardson <bruce.richardson@intel.com>
Subject: |SUCCESS| pw157297 [PATCH] net/intel/e1000: reduce the optimization
Date: Mon, 06 Oct 2025 06:46:00 -0700 (PDT) [thread overview]
Message-ID: <68e3c818.630a0220.2811f7.5ab4SMTPIN_ADDED_MISSING@mx.google.com> (raw)
In-Reply-To: <20251006124506.388456-1-thierry.herbelot@6wind.com>
Test-Label: iol-compile-amd64-testing
Test-Status: SUCCESS
http://dpdk.org/patch/157297
_Testing PASS_
Submitter: Thierry Herbelot <thierry.herbelot@6wind.com>
Date: Monday, October 06 2025 12:45:06
DPDK git baseline: Repo:dpdk-next-net-intel
Branch: master
CommitID:e7d8cc7ef4df3552575525697079d3c957cfcdaf
157297 --> testing pass
Upstream job id: Windows-Compile-DPDK-Native#31446
Test environment and result as below:
+---------------------+--------------------+-------------------------+-------------------+----------------------+
| Environment | dpdk_meson_compile | dpdk_llvm_clang_compile | dpdk_msvc_compile | dpdk_mingw64_compile |
+=====================+====================+=========================+===================+======================+
| Ubuntu 20.04 | PASS | SKIPPED | SKIPPED | SKIPPED |
+---------------------+--------------------+-------------------------+-------------------+----------------------+
| FreeBSD 14.2 | PASS | SKIPPED | SKIPPED | SKIPPED |
+---------------------+--------------------+-------------------------+-------------------+----------------------+
| Windows Server 2022 | SKIPPED | PASS | PASS | PASS |
+---------------------+--------------------+-------------------------+-------------------+----------------------+
Ubuntu 20.04
Kernel: 4.19
Compiler: gcc gcc (Ubuntu 9.4.0-1ubuntu1~20.04.2) 9.4.0
FreeBSD 14.2
Kernel: 14.2-RELEASE
Compiler: clang 18.1.6
Windows Server 2022
Kernel: 10.0.20348.2031
Compiler: clang 15.0.7, gcc 14.1.0 (MinGW), and MSVC VS 19.39.33521
To view detailed results, visit:
https://lab.dpdk.org/results/dashboard/patchsets/34222/
UNH-IOL DPDK Community Lab
To manage your email subscriptions, visit:
https://lab.dpdk.org/results/dashboard/preferences/subscriptions/
next prev parent reply other threads:[~2025-10-06 13:46 UTC|newest]
Thread overview: 21+ messages / expand[flat|nested] mbox.gz Atom feed top
[not found] <20251006124506.388456-1-thierry.herbelot@6wind.com>
2025-10-06 12:11 ` |SUCCESS| pw157297 [PATCH] net/intel/e1000: reduce the optimization level for gcc > 11 qemudev
2025-10-06 12:16 ` qemudev
2025-10-06 12:46 ` |WARNING| " checkpatch
2025-10-06 13:09 ` |PENDING| pw157297 [PATCH] net/intel/e1000: reduce the optimization dpdklab
2025-10-06 13:11 ` dpdklab
2025-10-06 13:13 ` |SUCCESS| " dpdklab
2025-10-06 13:17 ` dpdklab
2025-10-06 13:21 ` |PENDING| " dpdklab
2025-10-06 13:31 ` |SUCCESS| " dpdklab
2025-10-06 13:31 ` |PENDING| " dpdklab
2025-10-06 13:38 ` |SUCCESS| " dpdklab
2025-10-06 13:46 ` dpdklab [this message]
2025-10-06 13:46 ` |SUCCESS| pw157297 [PATCH] net/intel/e1000: reduce the optimization level for gcc > 11 0-day Robot
2025-10-06 13:47 ` 0-day Robot
2025-10-06 13:52 ` |SUCCESS| pw157297 [PATCH] net/intel/e1000: reduce the optimization dpdklab
2025-10-06 13:58 ` dpdklab
2025-10-06 13:58 ` dpdklab
2025-10-06 14:02 ` dpdklab
2025-10-06 14:18 ` dpdklab
2025-10-06 14:37 ` dpdklab
2025-10-06 15:14 ` dpdklab
Reply instructions:
You may reply publicly to this message via plain-text email
using any one of the following methods:
* Save the following mbox file, import it into your mail client,
and reply-to-all from there: mbox
Avoid top-posting and favor interleaved quoting:
https://en.wikipedia.org/wiki/Posting_style#Interleaved_style
* Reply using the --to, --cc, and --in-reply-to
switches of git-send-email(1):
git send-email \
--in-reply-to=68e3c818.630a0220.2811f7.5ab4SMTPIN_ADDED_MISSING@mx.google.com \
--to=dpdklab@iol.unh.edu \
--cc=bruce.richardson@intel.com \
--cc=dpdk-test-reports@iol.unh.edu \
--cc=test-report@dpdk.org \
/path/to/YOUR_REPLY
https://kernel.org/pub/software/scm/git/docs/git-send-email.html
* If your mail client supports setting the In-Reply-To header
via mailto: links, try the mailto: link
Be sure your reply has a Subject: header at the top and a blank line
before the message body.
This is a public inbox, see mirroring instructions
for how to clone and mirror all data and code used for this inbox;
as well as URLs for NNTP newsgroup(s).