From mboxrd@z Thu Jan 1 00:00:00 1970 Return-Path: Received: from mails.dpdk.org (mails.dpdk.org [217.70.189.124]) by inbox.dpdk.org (Postfix) with ESMTP id 27CD5488C6 for ; Mon, 6 Oct 2025 15:46:03 +0200 (CEST) Received: from mails.dpdk.org (localhost [127.0.0.1]) by mails.dpdk.org (Postfix) with ESMTP id 003FC402B1; Mon, 6 Oct 2025 15:46:03 +0200 (CEST) Received: from mail-pf1-f226.google.com (mail-pf1-f226.google.com [209.85.210.226]) by mails.dpdk.org (Postfix) with ESMTP id 1BD7D402B1 for ; Mon, 6 Oct 2025 15:46:01 +0200 (CEST) Received: by mail-pf1-f226.google.com with SMTP id d2e1a72fcca58-76e2ea933b7so3942997b3a.1 for ; Mon, 06 Oct 2025 06:46:01 -0700 (PDT) DKIM-Signature: v=1; a=rsa-sha256; c=relaxed/relaxed; d=iol.unh.edu; s=unh-iol; t=1759758360; x=1760363160; darn=dpdk.org; h=references:in-reply-to:cc:to:from:subject:message-id:date:from:to :cc:subject:date:message-id:reply-to; bh=0nlhd9/VXDLTSnVtD3FDIC8vITiaOZxUQK2gQ2U791k=; b=QxdeegJhbRI/rQxTAogdxs/W4+mCWun7KzNBRrLS2I4VN/T41qzBEHWclYXILFZhV0 Q5HRP83zBL6bCJW/URYbi8cJh4ZgqQg3wxas9CM7S7RPyxGG91OY6LzGseLBMM0V+9cC oRtzrEkbiwCUyxYVrIhvoW6uhAP1hMjbAzZgA= X-Google-DKIM-Signature: v=1; a=rsa-sha256; c=relaxed/relaxed; d=1e100.net; s=20230601; t=1759758360; x=1760363160; h=references:in-reply-to:cc:to:from:subject:message-id:date :x-gm-message-state:from:to:cc:subject:date:message-id:reply-to; bh=0nlhd9/VXDLTSnVtD3FDIC8vITiaOZxUQK2gQ2U791k=; b=o7Ri0zk4yKxzz9zRZKcgTVLOPfghs0VHhDsLSnFgPMnftTflRDlzRgDyiTAd0mteFX 1gTpQnPCJnqykwQrruEGmZUQ61S3qgrGkSHS1xO20fTsAbvm42hEUgFRTnDJ2kFHykC/ yHlGNKev0kdcnJpv1pCpgRK2uU2botan4sYiKd1G4mnBD1sK6Ee1vhDRprWEkR4qrzi0 FNtqlOmjlRr8UMuqWROAihO/lfdMkE3PHR9EGvMMgozOlbTcORiYO9cL3Z5C+3LUzOv7 437Ck8cbuw8o/RpG0DXnK3I6AJooLhc6lNaA8Wixt5ziiLhPF9gV79VWe5gst6aAr3HP Hvhg== X-Gm-Message-State: AOJu0YyVPGP57L1UoEHwVpW6E0UhEWGzNokZWyXQQpD2mQGTHXg5k6Lb 311cfADxyi1hwZFu00LeeROuq1dH6TRpIOU+iv8xAnQ49pswiEgkoOwC8z1WvyFN99G5/ax2uyJ J6b+8OFiXDodm1QWPW0rMpd0kKfTckRSUdUsWRVpc+ci7 X-Gm-Gg: ASbGncvj1Tz79iPFfms+QK2kabvzVp0vSJuNCSeh7ojSY5jwDApb/F8AK9mw3/PopkP XqhbBEGMm+BLIpuZY1W3twuxXoXRDHfGfKREhwF93M1pYCsPNQnxFH0IiT1vr8xFl4BA1NYQySM BSphfk2P6ytWPFPoDL8UeGN2PgbF4pDQRSBTGDCaG2NMsW4bM4bBFlxGa9VGSK0Cj5sGpGBBukO CjRz9glb8ahkh2cfEmGig1VmB0JHAcz8MevJC/MdkjWgZXFbjLztEIZ6tOyUqGm7eGNndrV6WN8 vJSRqORNfOYQUw3cpOo+yQzrFs9GH70LcT2XKR6NYS8T1/LnTCr2fDCHY2iWF8/sA0ib0n3HJGr Dcg== X-Google-Smtp-Source: AGHT+IFULWNVPztflpMs8HIGYGR6slGonzQ41ecvA0yc13dg5YcECAykcjhi/A/pdIf5VS2xrauS+Euoj1wT X-Received: by 2002:a05:6a20:e713:b0:2af:65aa:4efa with SMTP id adf61e73a8af0-32a1f7273admr22159717637.8.1759758360157; Mon, 06 Oct 2025 06:46:00 -0700 (PDT) Received: from postal.iol.unh.edu (postal.iol.unh.edu. [132.177.123.84]) by smtp-relay.gmail.com with ESMTPS id 41be03b00d2f7-b60999ca324sm703067a12.5.2025.10.06.06.46.00 (version=TLS1_2 cipher=ECDHE-ECDSA-AES128-GCM-SHA256 bits=128/128); Mon, 06 Oct 2025 06:46:00 -0700 (PDT) X-Relaying-Domain: iol.unh.edu Date: Mon, 06 Oct 2025 06:46:00 -0700 (PDT) Message-ID: <68e3c818.630a0220.2811f7.5ab4SMTPIN_ADDED_MISSING@mx.google.com> Received: from [172.21.0.2] (unknown [172.18.0.240]) by postal.iol.unh.edu (Postfix) with ESMTP id 67B576051830; Mon, 6 Oct 2025 09:45:59 -0400 (EDT) Subject: |SUCCESS| pw157297 [PATCH] net/intel/e1000: reduce the optimization From: dpdklab@iol.unh.edu To: Test Report Cc: dpdk-test-reports@iol.unh.edu, Bruce Richardson In-Reply-To: <20251006124506.388456-1-thierry.herbelot@6wind.com> References: <20251006124506.388456-1-thierry.herbelot@6wind.com> Content-Type: text/plain X-BeenThere: test-report@dpdk.org X-Mailman-Version: 2.1.29 Precedence: list List-Id: automatic DPDK test reports List-Unsubscribe: , List-Archive: List-Post: List-Help: List-Subscribe: , Errors-To: test-report-bounces@dpdk.org Test-Label: iol-compile-amd64-testing Test-Status: SUCCESS http://dpdk.org/patch/157297 _Testing PASS_ Submitter: Thierry Herbelot Date: Monday, October 06 2025 12:45:06 DPDK git baseline: Repo:dpdk-next-net-intel Branch: master CommitID:e7d8cc7ef4df3552575525697079d3c957cfcdaf 157297 --> testing pass Upstream job id: Windows-Compile-DPDK-Native#31446 Test environment and result as below: +---------------------+--------------------+-------------------------+-------------------+----------------------+ | Environment | dpdk_meson_compile | dpdk_llvm_clang_compile | dpdk_msvc_compile | dpdk_mingw64_compile | +=====================+====================+=========================+===================+======================+ | Ubuntu 20.04 | PASS | SKIPPED | SKIPPED | SKIPPED | +---------------------+--------------------+-------------------------+-------------------+----------------------+ | FreeBSD 14.2 | PASS | SKIPPED | SKIPPED | SKIPPED | +---------------------+--------------------+-------------------------+-------------------+----------------------+ | Windows Server 2022 | SKIPPED | PASS | PASS | PASS | +---------------------+--------------------+-------------------------+-------------------+----------------------+ Ubuntu 20.04 Kernel: 4.19 Compiler: gcc gcc (Ubuntu 9.4.0-1ubuntu1~20.04.2) 9.4.0 FreeBSD 14.2 Kernel: 14.2-RELEASE Compiler: clang 18.1.6 Windows Server 2022 Kernel: 10.0.20348.2031 Compiler: clang 15.0.7, gcc 14.1.0 (MinGW), and MSVC VS 19.39.33521 To view detailed results, visit: https://lab.dpdk.org/results/dashboard/patchsets/34222/ UNH-IOL DPDK Community Lab To manage your email subscriptions, visit: https://lab.dpdk.org/results/dashboard/preferences/subscriptions/