From mboxrd@z Thu Jan 1 00:00:00 1970 Return-Path: Received: from mails.dpdk.org (mails.dpdk.org [217.70.189.124]) by inbox.dpdk.org (Postfix) with ESMTP id 684C8488C6 for ; Mon, 6 Oct 2025 15:58:57 +0200 (CEST) Received: from mails.dpdk.org (localhost [127.0.0.1]) by mails.dpdk.org (Postfix) with ESMTP id 6402F40616; Mon, 6 Oct 2025 15:58:57 +0200 (CEST) Received: from mail-qk1-f225.google.com (mail-qk1-f225.google.com [209.85.222.225]) by mails.dpdk.org (Postfix) with ESMTP id CB4BE402B1 for ; Mon, 6 Oct 2025 15:58:55 +0200 (CEST) Received: by mail-qk1-f225.google.com with SMTP id af79cd13be357-86278558d6fso381104585a.1 for ; Mon, 06 Oct 2025 06:58:55 -0700 (PDT) DKIM-Signature: v=1; a=rsa-sha256; c=relaxed/relaxed; d=iol.unh.edu; s=unh-iol; t=1759759135; x=1760363935; darn=dpdk.org; h=references:in-reply-to:cc:to:from:subject:message-id:date:from:to :cc:subject:date:message-id:reply-to; bh=EsB4aZnci8uxb0krzb1z9zT6Vy1xOteI5vWnMvhIIao=; b=XDacGhoZTkP4UCYWdmbnnjMpcmVtzssMPQLQ0Ncry5ufs145/l4Vg5ANBAzEqiZtjm bLltA+VvBF/dJKfA7Sf/PRxjWdX2R33IrI4VSXov3znQdXOATp6dTfNLTWQTIgESHQBU 4nX+57kNqgEQiXid8HtEO4P2yzc0St9A2GVDU= X-Google-DKIM-Signature: v=1; a=rsa-sha256; c=relaxed/relaxed; d=1e100.net; s=20230601; t=1759759135; x=1760363935; h=references:in-reply-to:cc:to:from:subject:message-id:date :x-gm-message-state:from:to:cc:subject:date:message-id:reply-to; bh=EsB4aZnci8uxb0krzb1z9zT6Vy1xOteI5vWnMvhIIao=; b=lkL03FO97FjFW4DIALutlHmRsk19JsKherVaNQanZXXTNMq+o+gM88LYapo9BRnriz RaXWGN3zdz/omtX54YFJyrsZ5xHPS1AI0s3QD7WhtLTN5gz/4vaj2NERUM7FIRMHKzEp mF8J5PysHMqv6/iQXcFIdjgqqZ7WAee60vjSGtsd2nfYsb09wNB6+whDfwvBO0FeO/dN n3XDY1T1pbK4K9qfKZCksvDGEVfB8A6xeBtjSAU+qA1i2roTwC71kqffO5hQsWfQEQ0V xlEOTAZwvbB2EmUjmbrIrck3fLH4gRLJlrQ4gERES8H1j4bkLG91LN4qSmSZaZzbJSYs xk4g== X-Gm-Message-State: AOJu0Ywx4JPZcUz1YzUJ6b8GAAY0nHgTXJq+BbwC0nHR8HUC13E6W4Za tjB/A6djJ1mRpyDRsfyxZaPMSmo0r9jFU9iGuXLB/oLv7A3U/Htma8kID9NtLnXD9xWsbYbruJV +IdvWE9x4QH8dgtMKiWKQ/HTFg2FcboLzL/xZOnGlbjQK X-Gm-Gg: ASbGncslBuVxrlLe7LrpHZz4neJE+0rg8TvJiXdUtjaEtco1EFBNd/SiQLBTOg4jf8A UVvuyBWJsvml7p58UqckhIMJCB/SgUS6E4WBKz12LEr7Ml74yYN8zsYYHX/589+03aMyUvtNlJm Ez2g+e3qiYG+qWAQ8KdS5OKa8b/x+Tza/I3aFsvaYPeqSg8lle3w6AS7AkvcsapZ2Es2qhLqbU1 ul8389DBc6qn5NwuBQ1lmidlXMbF81WyQ8PoRiEK2eLLtYViHiiMelw/e7Onje7UU3x+E2m75U5 4xterbcmPTlzygdA94gxCuALxuIUjGKDb9G/WGOHKIkvndhEzLAve/2LUAY6PRfMom75KZIjzR7 5pw== X-Google-Smtp-Source: AGHT+IG+0xi7O6FDFuqhTttKsL6f/1qFi6iuF4GVlCDYDf8V3/gwl8PFKPSfWeuQBn6yr5ttWfMIrmKr9Zmp X-Received: by 2002:a05:622a:5588:b0:4d8:372b:e164 with SMTP id d75a77b69052e-4e576ada130mr166065661cf.54.1759759134987; Mon, 06 Oct 2025 06:58:54 -0700 (PDT) Received: from postal.iol.unh.edu (postal.iol.unh.edu. [132.177.123.84]) by smtp-relay.gmail.com with ESMTPS id d75a77b69052e-4e55a64bf3csm4483071cf.6.2025.10.06.06.58.54 (version=TLS1_2 cipher=ECDHE-ECDSA-AES128-GCM-SHA256 bits=128/128); Mon, 06 Oct 2025 06:58:54 -0700 (PDT) X-Relaying-Domain: iol.unh.edu Date: Mon, 06 Oct 2025 06:58:54 -0700 (PDT) Message-ID: <68e3cb1e.050a0220.bad36.7703SMTPIN_ADDED_MISSING@mx.google.com> Received: from [172.21.0.2] (unknown [172.18.0.240]) by postal.iol.unh.edu (Postfix) with ESMTP id ECE926051830; Mon, 6 Oct 2025 09:58:53 -0400 (EDT) Subject: |SUCCESS| pw157297 [PATCH] net/intel/e1000: reduce the optimization From: dpdklab@iol.unh.edu To: Test Report Cc: dpdk-test-reports@iol.unh.edu, Bruce Richardson In-Reply-To: <20251006124506.388456-1-thierry.herbelot@6wind.com> References: <20251006124506.388456-1-thierry.herbelot@6wind.com> Content-Type: text/plain X-BeenThere: test-report@dpdk.org X-Mailman-Version: 2.1.29 Precedence: list List-Id: automatic DPDK test reports List-Unsubscribe: , List-Archive: List-Post: List-Help: List-Subscribe: , Errors-To: test-report-bounces@dpdk.org Test-Label: iol-unit-amd64-testing Test-Status: SUCCESS http://dpdk.org/patch/157297 _Testing PASS_ Submitter: Thierry Herbelot Date: Monday, October 06 2025 12:45:06 DPDK git baseline: Repo:dpdk-next-net-intel Branch: master CommitID:e7d8cc7ef4df3552575525697079d3c957cfcdaf 157297 --> testing pass Upstream job id: Generic-Unit-Test-DPDK#378877 Test environment and result as below: +-------------------------------+----------------+ | Environment | dpdk_unit_test | +===============================+================+ | Fedora Linux 41 | PASS | +-------------------------------+----------------+ | Debian GNU/Linux 12 | PASS | +-------------------------------+----------------+ | Fedora Linux 40 | PASS | +-------------------------------+----------------+ | CentOS Stream 10 | PASS | +-------------------------------+----------------+ | CentOS Stream 9 | PASS | +-------------------------------+----------------+ | Fedora Linux 42 | PASS | +-------------------------------+----------------+ | Red Hat Enterprise Linux 8.10 | PASS | +-------------------------------+----------------+ | Red Hat Enterprise Linux 9.5 | PASS | +-------------------------------+----------------+ | Windows Server 2022 | PASS | +-------------------------------+----------------+ | Ubuntu 20.04 | PASS | +-------------------------------+----------------+ | Ubuntu 22.04 | PASS | +-------------------------------+----------------+ | Ubuntu 24.04 | PASS | +-------------------------------+----------------+ Fedora Linux 41 Kernel: 5.15 Compiler: clang gcc (GCC) 14.3.1 20250523 (Red Hat 14.3.1-1) Debian GNU/Linux 12 Kernel: 5.15 Compiler: gcc gcc (Debian 12.2.0-14+deb12u1) 12.2.0 Fedora Linux 40 Kernel: 5.15 Compiler: clang gcc (GCC) 14.2.1 20240912 (Red Hat 14.2.1-3) CentOS Stream 10 Kernel: 5.15 Compiler: gcc gcc (GCC) 14.2.1 20250110 (Red Hat 14.2.1-8) CentOS Stream 9 Kernel: 5.15 Compiler: gcc gcc (GCC) 11.5.0 20240719 (Red Hat 11.5.0-11) Fedora Linux 42 Kernel: 5.15 Compiler: gcc gcc (GCC) 15.2.1 20250808 (Red Hat 15.2.1-1) Red Hat Enterprise Linux 8.10 Kernel: 5.15 Compiler: gcc gcc (GCC) 8.5.0 20210514 (Red Hat 8.5.0-22) Red Hat Enterprise Linux 9.5 Kernel: 5.15 Compiler: gcc gcc (GCC) 11.5.0 20240719 (Red Hat 11.5.0-2) Windows Server 2022 Kernel: 10.0.20348.2031 Compiler: clang 15.0.7, gcc 14.1.0 (MinGW), and MSVC VS 19.39.33521 Ubuntu 20.04 Kernel: 5.15 Compiler: gcc gcc (Ubuntu 9.4.0-1ubuntu1~20.04.2) 9.4.0 Ubuntu 22.04 Kernel: 5.15 Compiler: gcc gcc (Ubuntu 11.4.0-1ubuntu1~22.04) 11.4.0 Ubuntu 24.04 Kernel: 5.15 Compiler: gcc gcc (Ubuntu 13.3.0-6ubuntu2~24.04) 13.3.0 To view detailed results, visit: https://lab.dpdk.org/results/dashboard/patchsets/34222/ UNH-IOL DPDK Community Lab To manage your email subscriptions, visit: https://lab.dpdk.org/results/dashboard/preferences/subscriptions/