From mboxrd@z Thu Jan 1 00:00:00 1970 Return-Path: Received: from mails.dpdk.org (mails.dpdk.org [217.70.189.124]) by inbox.dpdk.org (Postfix) with ESMTP id 61A13488C8 for ; Mon, 6 Oct 2025 16:10:56 +0200 (CEST) Received: from mails.dpdk.org (localhost [127.0.0.1]) by mails.dpdk.org (Postfix) with ESMTP id 44763402E2; Mon, 6 Oct 2025 16:10:56 +0200 (CEST) Received: from mail-pg1-f228.google.com (mail-pg1-f228.google.com [209.85.215.228]) by mails.dpdk.org (Postfix) with ESMTP id 0E075402E2 for ; Mon, 6 Oct 2025 16:10:55 +0200 (CEST) Received: by mail-pg1-f228.google.com with SMTP id 41be03b00d2f7-b550a522a49so4326893a12.2 for ; Mon, 06 Oct 2025 07:10:54 -0700 (PDT) DKIM-Signature: v=1; a=rsa-sha256; c=relaxed/relaxed; d=iol.unh.edu; s=unh-iol; t=1759759854; x=1760364654; darn=dpdk.org; h=references:in-reply-to:cc:to:from:subject:message-id:date:from:to :cc:subject:date:message-id:reply-to; bh=OSf4Vmf7emph5C1XaO9/49jEWb5mghxjrut2iK0U4QQ=; b=PZpm9aK5SZjISfvwRON8x3I2UffIJkPRnRoZ4cMnxOH4qm6dczn/kKub604Vy39hie FFZnyuy7nelLLmkr1heU24NKjlHx6tXe4KYun5U1KQrzQLZXaIWYs9z8Weq+PRs6TnVS bxyDJDgwDg4kvZALA5YvKicg55TamRx12AmW8= X-Google-DKIM-Signature: v=1; a=rsa-sha256; c=relaxed/relaxed; d=1e100.net; s=20230601; t=1759759854; x=1760364654; h=references:in-reply-to:cc:to:from:subject:message-id:date :x-gm-message-state:from:to:cc:subject:date:message-id:reply-to; bh=OSf4Vmf7emph5C1XaO9/49jEWb5mghxjrut2iK0U4QQ=; b=n7+gkqKcKp4SFMbt2iKT0xC6qVv2bxWlTpjbVSM4tRETCdc1qonL5dWpdAouyIwH22 PUiAPSNcLIeiTIslovp9uK3IeRYfW4HykzPFoJh8Cky3A1y0BsZ0mYKrDirH9WZTBd14 rSaDk/QboO9WWQN7cafh+eHocaDXUdajl3pZh/tb951CB/qLJOBLHtdvjTfS/fES9kWd 38wsj7m0MLwWWEO+VuxkpHHG2JNe3nGVOeu99F7usfxcaJVJbj3Dn0xIJI5SISmL6Z6A lcZEG0tqlLeakXhjwMLG5S/BzBbE3bbWQO5G2T696fCChpi3heVlTPG0YYH30QmwJIOD CBMQ== X-Gm-Message-State: AOJu0YxAV/f7IQ6Gt/i1A9UrkDAwi7ZaA/al51F9CVhPjebt7OOEwId+ yJbvvrF76xIVASyDp97jQOvyCx+yCgPnMZK16Ao3bjDXnvVOcp+FR0oxRFYqQAIDruaKXPXfi5V d0ZWFq9tbZLbiO8iBu2FhOlKXKrElJTRSowO3dHCoQ73lNqFrgqTSZtWaDjUu X-Gm-Gg: ASbGncuVAlJsE7KXp55dyBSL/AFMTF8kC2CpOJq+BuFtZ4+D+MS+3f7yZEGZ6pHbP9C 342rc+TAZ525010jNKRvGbCvyQjgapY2G7rdBahE5qQEjWC0ht1GF1NaLZw1/7fbqfGMCdtr3pz S+h8Ultm8yv95zfjfZpYwvwk9xHyKxADCWWmd55PVtU01JBH6Cgp/NK4esIgGe/2h1s+eHwjG6S Q1TpPs++trEL+GSLy4d2iCX9pGDBBG6947Vmk4NhVEC3439M1lohP3WSzLSEFUFXJJLBeGuK+dt 4kIlFqEuWAbVlNHIATTilEza4WJXihBy6c1EvQL+fqK5gM1B/XWgNnY= X-Google-Smtp-Source: AGHT+IFVhAv6Q+aTcoKLbVQDQ/mT1Ut7N9jTr/Qw5rAtvFWYHgOlJKo8lR2SHJw5LaN5widNpPbRrBbIUhu/ X-Received: by 2002:a17:903:244f:b0:265:9878:4852 with SMTP id d9443c01a7336-28e9a58aad7mr164036155ad.15.1759759854005; Mon, 06 Oct 2025 07:10:54 -0700 (PDT) Received: from postal.iol.unh.edu (postal.iol.unh.edu. [2606:4100:3880:1234::84]) by smtp-relay.gmail.com with ESMTPS id d9443c01a7336-28e8d1087e7sm10308655ad.14.2025.10.06.07.10.53 (version=TLS1_2 cipher=ECDHE-ECDSA-AES128-GCM-SHA256 bits=128/128); Mon, 06 Oct 2025 07:10:54 -0700 (PDT) X-Relaying-Domain: iol.unh.edu Date: Mon, 06 Oct 2025 07:10:54 -0700 (PDT) Message-ID: <68e3cded.170a0220.362435.9180SMTPIN_ADDED_MISSING@mx.google.com> Received: from [172.21.0.2] (unknown [172.18.0.240]) by postal.iol.unh.edu (Postfix) with ESMTP id 4ABF16051830; Mon, 6 Oct 2025 10:10:53 -0400 (EDT) Subject: |SUCCESS| pw157298 [PATCH] [V2] net/intel/e1000: reduce the optimiza From: dpdklab@iol.unh.edu To: Test Report Cc: dpdk-test-reports@iol.unh.edu, Bruce Richardson In-Reply-To: <20251006130257.391200-1-thierry.herbelot@6wind.com> References: <20251006130257.391200-1-thierry.herbelot@6wind.com> Content-Type: text/plain X-BeenThere: test-report@dpdk.org X-Mailman-Version: 2.1.29 Precedence: list List-Id: automatic DPDK test reports List-Unsubscribe: , List-Archive: List-Post: List-Help: List-Subscribe: , Errors-To: test-report-bounces@dpdk.org Test-Label: iol-compile-amd64-testing Test-Status: SUCCESS http://dpdk.org/patch/157298 _Testing PASS_ Submitter: Thierry Herbelot Date: Monday, October 06 2025 13:02:57 DPDK git baseline: Repo:dpdk-next-net-intel Branch: master CommitID:e7d8cc7ef4df3552575525697079d3c957cfcdaf 157298 --> testing pass Upstream job id: Windows-Compile-DPDK-Native#31447 Test environment and result as below: +---------------------+--------------------+-------------------+-------------------------+ | Environment | dpdk_meson_compile | dpdk_msvc_compile | dpdk_llvm_clang_compile | +=====================+====================+===================+=========================+ | Ubuntu 20.04 | PASS | SKIPPED | SKIPPED | +---------------------+--------------------+-------------------+-------------------------+ | FreeBSD 14.2 | PASS | SKIPPED | SKIPPED | +---------------------+--------------------+-------------------+-------------------------+ | Windows Server 2022 | SKIPPED | PASS | PASS | +---------------------+--------------------+-------------------+-------------------------+ Ubuntu 20.04 Kernel: 4.19 Compiler: gcc gcc (Ubuntu 9.4.0-1ubuntu1~20.04.2) 9.4.0 FreeBSD 14.2 Kernel: 14.2-RELEASE Compiler: clang 18.1.6 Windows Server 2022 Kernel: 10.0.20348.2031 Compiler: clang 15.0.7, gcc 14.1.0 (MinGW), and MSVC VS 19.39.33521 To view detailed results, visit: https://lab.dpdk.org/results/dashboard/patchsets/34223/ UNH-IOL DPDK Community Lab To manage your email subscriptions, visit: https://lab.dpdk.org/results/dashboard/preferences/subscriptions/