From mboxrd@z Thu Jan 1 00:00:00 1970 Return-Path: Received: from mails.dpdk.org (mails.dpdk.org [217.70.189.124]) by inbox.dpdk.org (Postfix) with ESMTP id 0560D488C8 for ; Mon, 6 Oct 2025 16:17:02 +0200 (CEST) Received: from mails.dpdk.org (localhost [127.0.0.1]) by mails.dpdk.org (Postfix) with ESMTP id CD966402B1; Mon, 6 Oct 2025 16:17:02 +0200 (CEST) Received: from mail-vs1-f98.google.com (mail-vs1-f98.google.com [209.85.217.98]) by mails.dpdk.org (Postfix) with ESMTP id 8D92E402B1 for ; Mon, 6 Oct 2025 16:17:01 +0200 (CEST) Received: by mail-vs1-f98.google.com with SMTP id ada2fe7eead31-5a46c3b3a5bso2528724137.0 for ; Mon, 06 Oct 2025 07:17:01 -0700 (PDT) DKIM-Signature: v=1; a=rsa-sha256; c=relaxed/relaxed; d=iol.unh.edu; s=unh-iol; t=1759760221; x=1760365021; darn=dpdk.org; h=references:in-reply-to:cc:to:from:subject:message-id:date:from:to :cc:subject:date:message-id:reply-to; bh=YvQrHPfZxPMGJe208bISyXx3b9SYi/k8ZgNrQLk59oM=; b=FRhwOngPZqyYKRQC196+wzdQvxCFGTjDDF1sUjfLyp5DCqUSdnHqOgfgKkjC9qKnrw 61P6AjNrjculE+N1FhMo4BUCBf9VMQQShYGr2e6EBYNmhIFhk8k+kNI0ADmyuzQFx8Gv 7wdmwAdrnRl3RnlJXMR9GH6Jd138n02HPe6RE= X-Google-DKIM-Signature: v=1; a=rsa-sha256; c=relaxed/relaxed; d=1e100.net; s=20230601; t=1759760221; x=1760365021; h=references:in-reply-to:cc:to:from:subject:message-id:date :x-gm-message-state:from:to:cc:subject:date:message-id:reply-to; bh=YvQrHPfZxPMGJe208bISyXx3b9SYi/k8ZgNrQLk59oM=; b=k7l7yjLOQ1vEFXyMoPZVwV58xsjuLq0cTa1ij0jphFcugTb5ULvoMdpUpjZOszlmQV FJ0p59S+cEnuBvgQNSLtZiSDvka9A+keAUkpcnHvS0ds6QxL5JcTe/W7yDGMyAM8jgzw skfpysjYwosjRQCB4a6YcUXUASUN3A7OKWb32cnfUup9n9sgujdqaPxeuYMksw8p/N+o PLKsBXzlq1GZGLhYosiLGvCCulLOYJdKw6aAUtWTckPcUHs/eyFckdO8kIAH2HFMvwMT PYhvMLxpZCX59M04WEXr9pQfM0WFjmE3R6FAp0lssSre5he9dhCnz06h68NyCHocEtMi uTxw== X-Gm-Message-State: AOJu0YxOcfxtP6M1c7i94HzRY5pp9AhJxK9bCZOaCInjRuxQlPnEK2pQ vlD/k80Oy7mW/2axedoaPCFwugPpe60HzgOAeBi+SWcoAMU+Luv4mTvnYyXdpgVLfOW+IcxnyOv vb/IzT0pilroo7cnaHZelUa7xL7OCFSJ07+8N9k6N15RYi+1LVshimn8WWXjD X-Gm-Gg: ASbGncsXVvFEsoZ3Et5KXVVzeUmwUpWn7dj49s2/IxZ9+VPUxaBmmcBZlQSLY5LHyTA +YG06fEg5r0cgkd9PeScs5qxrDlH5eA4wdAe3B3CTqE7qI/t7y23J9sXFcEjjWcNyaKkM9iemAJ UngmIZNxDmO9fXlaO8pss177MqzL46s7fnty5qW8ggYS+la6/69yDgd65ytS8GGhMIXsgJl+YiZ LqQZL8lU34rvaVG6PFPU55LUdar9nTDcZ2DgdsWI7zgCmyb11pv+TLnCLSbqXVncOOCXtdnHeOh H7Kp+TBYNMa7jcRc84NyNjv1Jsp/u34ZEjYtPv9MbexOH+N/GenAiSE= X-Google-Smtp-Source: AGHT+IEejNLCZWk28CQx93C0CXngByHFi8qPGnCshhC6Xb2C2osAPzgYFIqQeUhFzcu4qd+dJhewISF4wbkN X-Received: by 2002:a05:6102:83cf:20b0:5d4:1f2c:9bb4 with SMTP id ada2fe7eead31-5d41f2ca146mr2983804137.24.1759760220934; Mon, 06 Oct 2025 07:17:00 -0700 (PDT) Received: from postal.iol.unh.edu (postal.iol.unh.edu. [2606:4100:3880:1234::84]) by smtp-relay.gmail.com with ESMTPS id ada2fe7eead31-5d5d39db9ccsm8745137.5.2025.10.06.07.17.00 (version=TLS1_2 cipher=ECDHE-ECDSA-AES128-GCM-SHA256 bits=128/128); Mon, 06 Oct 2025 07:17:00 -0700 (PDT) X-Relaying-Domain: iol.unh.edu Date: Mon, 06 Oct 2025 07:17:00 -0700 (PDT) Message-ID: <68e3cf5c.050a0220.325403.0745SMTPIN_ADDED_MISSING@mx.google.com> Received: from [172.21.0.2] (unknown [172.18.0.240]) by postal.iol.unh.edu (Postfix) with ESMTP id 9108B6051830; Mon, 6 Oct 2025 10:17:00 -0400 (EDT) Subject: |SUCCESS| pw157298 [PATCH] [V2] net/intel/e1000: reduce the optimiza From: dpdklab@iol.unh.edu To: Test Report Cc: dpdk-test-reports@iol.unh.edu, Bruce Richardson In-Reply-To: <20251006130257.391200-1-thierry.herbelot@6wind.com> References: <20251006130257.391200-1-thierry.herbelot@6wind.com> Content-Type: text/plain X-BeenThere: test-report@dpdk.org X-Mailman-Version: 2.1.29 Precedence: list List-Id: automatic DPDK test reports List-Unsubscribe: , List-Archive: List-Post: List-Help: List-Subscribe: , Errors-To: test-report-bounces@dpdk.org Test-Label: iol-unit-amd64-testing Test-Status: SUCCESS http://dpdk.org/patch/157298 _Testing PASS_ Submitter: Thierry Herbelot Date: Monday, October 06 2025 13:02:57 DPDK git baseline: Repo:dpdk-next-net-intel Branch: master CommitID:e7d8cc7ef4df3552575525697079d3c957cfcdaf 157298 --> testing pass Upstream job id: Generic-VM-Unit-Test-DPDK#31616 Test environment and result as below: +-------------------------------+----------------+ | Environment | dpdk_unit_test | +===============================+================+ | CentOS Stream 9 | PASS | +-------------------------------+----------------+ | CentOS Stream 10 | PASS | +-------------------------------+----------------+ | Fedora Linux 40 | PASS | +-------------------------------+----------------+ | Debian GNU/Linux 12 | PASS | +-------------------------------+----------------+ | Fedora Linux 41 | PASS | +-------------------------------+----------------+ | Fedora Linux 42 | PASS | +-------------------------------+----------------+ | Red Hat Enterprise Linux 9.5 | PASS | +-------------------------------+----------------+ | Red Hat Enterprise Linux 8.10 | PASS | +-------------------------------+----------------+ | Ubuntu 20.04 | PASS | +-------------------------------+----------------+ | Ubuntu 24.04 | PASS | +-------------------------------+----------------+ | Ubuntu 22.04 | PASS | +-------------------------------+----------------+ | Windows Server 2022 | PASS | +-------------------------------+----------------+ CentOS Stream 9 Kernel: 5.15 Compiler: gcc gcc (GCC) 11.5.0 20240719 (Red Hat 11.5.0-11) CentOS Stream 10 Kernel: 5.15 Compiler: gcc gcc (GCC) 14.2.1 20250110 (Red Hat 14.2.1-8) Fedora Linux 40 Kernel: 5.15 Compiler: gcc gcc (GCC) 14.2.1 20240912 (Red Hat 14.2.1-3) Debian GNU/Linux 12 Kernel: 5.15 Compiler: gcc gcc (Debian 12.2.0-14+deb12u1) 12.2.0 Fedora Linux 41 Kernel: 5.15 Compiler: gcc gcc (GCC) 14.3.1 20250523 (Red Hat 14.3.1-1) Fedora Linux 42 Kernel: 5.15 Compiler: clang gcc (GCC) 15.2.1 20250808 (Red Hat 15.2.1-1) Red Hat Enterprise Linux 9.5 Kernel: 5.15 Compiler: gcc gcc (GCC) 11.5.0 20240719 (Red Hat 11.5.0-2) Red Hat Enterprise Linux 8.10 Kernel: 5.15 Compiler: gcc gcc (GCC) 8.5.0 20210514 (Red Hat 8.5.0-22) Ubuntu 20.04 Kernel: 5.15 Compiler: gcc gcc (Ubuntu 9.4.0-1ubuntu1~20.04.2) 9.4.0 Ubuntu 24.04 Kernel: 5.15 Compiler: gcc gcc (Ubuntu 13.3.0-6ubuntu2~24.04) 13.3.0 Ubuntu 22.04 Kernel: 5.15 Compiler: gcc gcc (Ubuntu 11.4.0-1ubuntu1~22.04) 11.4.0 Windows Server 2022 Kernel: 10.0.20348.2031 Compiler: clang 15.0.7, gcc 14.1.0 (MinGW), and MSVC VS 19.39.33521 To view detailed results, visit: https://lab.dpdk.org/results/dashboard/patchsets/34223/ UNH-IOL DPDK Community Lab To manage your email subscriptions, visit: https://lab.dpdk.org/results/dashboard/preferences/subscriptions/