From mboxrd@z Thu Jan 1 00:00:00 1970 Return-Path: Received: from mails.dpdk.org (mails.dpdk.org [217.70.189.124]) by inbox.dpdk.org (Postfix) with ESMTP id 02B29488C8 for ; Mon, 6 Oct 2025 16:18:09 +0200 (CEST) Received: from mails.dpdk.org (localhost [127.0.0.1]) by mails.dpdk.org (Postfix) with ESMTP id F1C72402B1; Mon, 6 Oct 2025 16:18:08 +0200 (CEST) Received: from mail-il1-f226.google.com (mail-il1-f226.google.com [209.85.166.226]) by mails.dpdk.org (Postfix) with ESMTP id 1C695402B1 for ; Mon, 6 Oct 2025 16:18:07 +0200 (CEST) Received: by mail-il1-f226.google.com with SMTP id e9e14a558f8ab-42e7b22e007so14978655ab.3 for ; Mon, 06 Oct 2025 07:18:07 -0700 (PDT) DKIM-Signature: v=1; a=rsa-sha256; c=relaxed/relaxed; d=iol.unh.edu; s=unh-iol; t=1759760286; x=1760365086; darn=dpdk.org; h=references:in-reply-to:cc:to:from:subject:message-id:date:from:to :cc:subject:date:message-id:reply-to; bh=/FYKj2tN5Gp7DOQaHZoBnTK4QgBCUegyusPRCPrrZXM=; b=ReRedTIZOMdGyS1Pw3Z+FGD+oaUJhd2leZ/tRs2pHnrRDBQ9qDWYtNT/Ga4x25HozD sl+CIoc23OCzGZZr4KQgMpAKa2mDex2aCj/eftz67cQP98JZEEdd39q4aFt45lb+KNzt EKXatIklbz7rYzUtMRSNTAEebpqUuyKHwUSHE= X-Google-DKIM-Signature: v=1; a=rsa-sha256; c=relaxed/relaxed; d=1e100.net; s=20230601; t=1759760286; x=1760365086; h=references:in-reply-to:cc:to:from:subject:message-id:date :x-gm-message-state:from:to:cc:subject:date:message-id:reply-to; bh=/FYKj2tN5Gp7DOQaHZoBnTK4QgBCUegyusPRCPrrZXM=; b=rsjV4kpaSOJ2O1o4ZzHdQhXYKZr27kpAl/fwYBc9WC6RcXjyqMy+mBLjVdOJP823cS 9tCs1IT+cC/ZXfDxiyDhq2jonW4prgQiQWd5Gh8diu2vdz3dpkLBf3TRoerZzzDPAy/J kU/9mxufQcwPKfYj7JMcz/l0eP+bQ7vjXhhcCvjeJYfKcDm57wVgJCFeRNeCoflnVlYw vXvh0YaWhdujdAELqqRRE8unXafe3ujnGpCNGD4JoNyn2xyZz0Vdkl6NGwdLBvRds2m7 2Qk4JKW23xDeOsJJt1H4enbRyoBWxfFBCdT7OZgZ23jiv1Tojox8lCPzIp7F/UnRm7W8 33CA== X-Gm-Message-State: AOJu0Yyd+Q/DxATY4Q5RXiDYF4t21oRAOlmmYsfkGJAe/qARkh7dAQP2 tDkYRttWOTGFDNbKWM1356Me2zslKnn8iCGa9oEBgFtFX76cG807XxjreQgrET1ruFJAFZzSO1Y hkVEOiucjofRb68GiFHVkexBQu5SUTB18bfkPE72/yWyo X-Gm-Gg: ASbGnctqVo25IADspA09Ez4ROUuQXXXLBcFRSSP0PsasTnii3JjdZ9Ws5aZsUmLSxzP ZtwT6FQksvYud0O/tzv2zYFzi8hIoSVfvvCLrQI+5Ju3fIdzKlMMTeIlQ44iv3TEKn5+Jsqm06D P77IXSMfUOPthDl8kMWHseKcrIajFwuTrgYF3cAZINDM1XH5iIL3dXd+gTO2jwmcKehxnu2vwky XzeToWNd3V6aBv7yGiRHeIEPDLYyVP5SFMtYjCN53UsgfQSdSTji2jDw5mv5gRmwqaP6pKeWf0/ gKbG7Io1196CA5WM2qq/26yKJ9OaDJToaQB2+X1NKDXJHINMhw69VyOsdpFqFiJMIB1A6JpPMMp Yyw== X-Google-Smtp-Source: AGHT+IHXIoZiiB3np2VPErHl59L2cSqSCXGfy9czfnI+Mo3BbSufydVo9ORHmjbVvHC4CXPHtnwuLQ6mKBzK X-Received: by 2002:a05:6e02:198a:b0:426:3ab1:74b4 with SMTP id e9e14a558f8ab-42e7ad966f0mr192215815ab.19.1759760285632; Mon, 06 Oct 2025 07:18:05 -0700 (PDT) Received: from postal.iol.unh.edu (postal.iol.unh.edu. [132.177.123.84]) by smtp-relay.gmail.com with ESMTPS id e9e14a558f8ab-42d8b201ae4sm10334815ab.8.2025.10.06.07.18.05 (version=TLS1_2 cipher=ECDHE-ECDSA-AES128-GCM-SHA256 bits=128/128); Mon, 06 Oct 2025 07:18:05 -0700 (PDT) X-Relaying-Domain: iol.unh.edu Date: Mon, 06 Oct 2025 07:18:05 -0700 (PDT) Message-ID: <68e3cf9d.050a0220.3850e3.9510SMTPIN_ADDED_MISSING@mx.google.com> Received: from [172.21.0.2] (unknown [172.18.0.240]) by postal.iol.unh.edu (Postfix) with ESMTP id 2E3256051830; Mon, 6 Oct 2025 10:18:05 -0400 (EDT) Subject: |SUCCESS| pw157298 [PATCH] [V2] net/intel/e1000: reduce the optimiza From: dpdklab@iol.unh.edu To: Test Report Cc: dpdk-test-reports@iol.unh.edu, Bruce Richardson In-Reply-To: <20251006130257.391200-1-thierry.herbelot@6wind.com> References: <20251006130257.391200-1-thierry.herbelot@6wind.com> Content-Type: text/plain X-BeenThere: test-report@dpdk.org X-Mailman-Version: 2.1.29 Precedence: list List-Id: automatic DPDK test reports List-Unsubscribe: , List-Archive: List-Post: List-Help: List-Subscribe: , Errors-To: test-report-bounces@dpdk.org Test-Label: iol-compile-amd64-testing Test-Status: SUCCESS http://dpdk.org/patch/157298 _Testing PASS_ Submitter: Thierry Herbelot Date: Monday, October 06 2025 13:02:57 DPDK git baseline: Repo:dpdk-next-net-intel Branch: master CommitID:e7d8cc7ef4df3552575525697079d3c957cfcdaf 157298 --> testing pass Upstream job id: Windows-Compile-DPDK-Native#31448 Test environment and result as below: +---------------------+--------------------+-------------------+-------------------------+----------------------+ | Environment | dpdk_meson_compile | dpdk_msvc_compile | dpdk_llvm_clang_compile | dpdk_mingw64_compile | +=====================+====================+===================+=========================+======================+ | Ubuntu 20.04 | PASS | SKIPPED | SKIPPED | SKIPPED | +---------------------+--------------------+-------------------+-------------------------+----------------------+ | FreeBSD 14.2 | PASS | SKIPPED | SKIPPED | SKIPPED | +---------------------+--------------------+-------------------+-------------------------+----------------------+ | Windows Server 2022 | SKIPPED | PASS | PASS | PASS | +---------------------+--------------------+-------------------+-------------------------+----------------------+ Ubuntu 20.04 Kernel: 4.19 Compiler: gcc gcc (Ubuntu 9.4.0-1ubuntu1~20.04.2) 9.4.0 FreeBSD 14.2 Kernel: 14.2-RELEASE Compiler: clang 18.1.6 Windows Server 2022 Kernel: 10.0.20348.2031 Compiler: clang 15.0.7, gcc 14.1.0 (MinGW), and MSVC VS 19.39.33521 To view detailed results, visit: https://lab.dpdk.org/results/dashboard/patchsets/34223/ UNH-IOL DPDK Community Lab To manage your email subscriptions, visit: https://lab.dpdk.org/results/dashboard/preferences/subscriptions/