From mboxrd@z Thu Jan 1 00:00:00 1970 Return-Path: Received: from mails.dpdk.org (mails.dpdk.org [217.70.189.124]) by inbox.dpdk.org (Postfix) with ESMTP id 7A9CE488C8 for ; Mon, 6 Oct 2025 16:22:10 +0200 (CEST) Received: from mails.dpdk.org (localhost [127.0.0.1]) by mails.dpdk.org (Postfix) with ESMTP id 5B06A402B1; Mon, 6 Oct 2025 16:22:10 +0200 (CEST) Received: from mail-io1-f100.google.com (mail-io1-f100.google.com [209.85.166.100]) by mails.dpdk.org (Postfix) with ESMTP id 721FB402B1 for ; Mon, 6 Oct 2025 16:22:08 +0200 (CEST) Received: by mail-io1-f100.google.com with SMTP id ca18e2360f4ac-938c85ccabcso210187839f.0 for ; Mon, 06 Oct 2025 07:22:08 -0700 (PDT) DKIM-Signature: v=1; a=rsa-sha256; c=relaxed/relaxed; d=iol.unh.edu; s=unh-iol; t=1759760528; x=1760365328; darn=dpdk.org; h=references:in-reply-to:cc:to:from:subject:message-id:date:from:to :cc:subject:date:message-id:reply-to; bh=FwkDyYbsmvsu2vJb2BDDWdaHlkHyhw/SokSgeXEOMUw=; b=FsSQuOZ4i5AfWzQONMXUB8T8kzsSCSzKhLjrzjqJR+G2xSAI7Uo6ydNGbjmELA5tMU oDgEECEltW1oRCDT4HvvBjpLwdDMDepCOhI6O9wlrLSobkNXX6jHQ+efdAauBnznKwN0 Mc3/Pt3BvFYY9arHQEqSONFHBrFLZxSRuoe2c= X-Google-DKIM-Signature: v=1; a=rsa-sha256; c=relaxed/relaxed; d=1e100.net; s=20230601; t=1759760528; x=1760365328; h=references:in-reply-to:cc:to:from:subject:message-id:date :x-gm-message-state:from:to:cc:subject:date:message-id:reply-to; bh=FwkDyYbsmvsu2vJb2BDDWdaHlkHyhw/SokSgeXEOMUw=; b=f45H3h5Rk7V1KjlwXLV+Td2wSOr9UZFGC94RZsSGa32AFATpBWhwXfLpX/uII46Lz6 JMdHDe8EQ0gEUpVebMZfcv03kprRe3LktAdPgQa88w65hhrGhZbEwaFAlkYQI8L3YMBf S2u+g1bat8PcblH2AcLpT5iFEV7o0DQMoBq7Eyc/XhykgGDXjXEFQXmgTJlSBmSgqr8o V8+7oWyNOBafca0FzSsrFIzjLw313Ipde3A5+z1r4T7dtcvFvIO2do94EwQoMBsqEliD BSr03rW20mUGtLxjo/aXoXBeDAhgKjnCBbo32mNM5Ji4r1TeCF4xCynjjJbZ/EF2Swmd +XAA== X-Gm-Message-State: AOJu0YyED/ds/KgHwtwDusZ5/ZjDI7Utwm5c7nE0JN6R77zUTQDzzxUL TnlIYAc3+7lnYtblbMI9UAKKwdRjH940txBHFmyfMfARyZ2x/Ij+muqTZ1MlOoK3CozyJgZrdKH xH8cGiFM6mHnUNBSkgcn4ZcV/aiiOCiuN5qrnpMJlwlfI X-Gm-Gg: ASbGncuYJ4ew+woKMee/AlGKV2K8ymoaC/G8r10njFUAGBtewpV2Qe3gtanSkSDzr32 95VMpug+HpOtdJ2GoCLsZfB7g7w5P4OsXYtCwKaq9EUNbD3uJ6I56QOZZ0Gldazwey1HH94GTbH XwMJ6Bp3v/aKsIYz6Rzt8NJhKA9iO5MyXavxLIjnQr31ktizJv6j/yI3di6uhWGyo/T4f1Tk2hz YLJaSkJtS3mS80bBvZLEK5uS4SkNjO0bKhKexE1ZX7GAmUkeupMz24JuivzL6ri9yJPA1tZfDIs U6q7ZsI4TdLPcWYM61inVembXS8U/qXKCHWsgHSPKmXH6OsgMq+PqS2aMTeWuUtRGlGOdIMNjQq 9iA== X-Google-Smtp-Source: AGHT+IHAu22hq7w3zw0tmHcVWJuR/AByZ6VCZcVGlmmhdjYTFdum2ulAnnhveoYl2tw6LRwmDtAWIYnXeOsz X-Received: by 2002:a05:6e02:4518:20b0:42f:69d7:e968 with SMTP id e9e14a558f8ab-42f69d7ec10mr77165325ab.13.1759760527606; Mon, 06 Oct 2025 07:22:07 -0700 (PDT) Received: from postal.iol.unh.edu (postal.iol.unh.edu. [132.177.123.84]) by smtp-relay.gmail.com with ESMTPS id 8926c6da1cb9f-57b5ed6b5c0sm1065985173.41.2025.10.06.07.22.07 (version=TLS1_2 cipher=ECDHE-ECDSA-AES128-GCM-SHA256 bits=128/128); Mon, 06 Oct 2025 07:22:07 -0700 (PDT) X-Relaying-Domain: iol.unh.edu Date: Mon, 06 Oct 2025 07:22:07 -0700 (PDT) Message-ID: <68e3d08f.050a0220.35771d.a1e5SMTPIN_ADDED_MISSING@mx.google.com> Received: from [172.21.0.3] (unknown [172.18.0.240]) by postal.iol.unh.edu (Postfix) with ESMTP id 25C2B6051830; Mon, 6 Oct 2025 10:22:07 -0400 (EDT) Subject: |SUCCESS| pw157298 [PATCH] [V2] net/intel/e1000: reduce the optimiza From: dpdklab@iol.unh.edu To: Test Report Cc: dpdk-test-reports@iol.unh.edu, Bruce Richardson In-Reply-To: <20251006130257.391200-1-thierry.herbelot@6wind.com> References: <20251006130257.391200-1-thierry.herbelot@6wind.com> Content-Type: text/plain X-BeenThere: test-report@dpdk.org X-Mailman-Version: 2.1.29 Precedence: list List-Id: automatic DPDK test reports List-Unsubscribe: , List-Archive: List-Post: List-Help: List-Subscribe: , Errors-To: test-report-bounces@dpdk.org Test-Label: iol-unit-amd64-testing Test-Status: SUCCESS http://dpdk.org/patch/157298 _Testing PASS_ Submitter: Thierry Herbelot Date: Monday, October 06 2025 13:02:57 DPDK git baseline: Repo:dpdk-next-net-intel Branch: master CommitID:e7d8cc7ef4df3552575525697079d3c957cfcdaf 157298 --> testing pass Upstream job id: Generic-VM-Unit-Test-DPDK#31617 Test environment and result as below: +-------------------------------+----------------+ | Environment | dpdk_unit_test | +===============================+================+ | CentOS Stream 9 | PASS | +-------------------------------+----------------+ | CentOS Stream 10 | PASS | +-------------------------------+----------------+ | Fedora Linux 40 | PASS | +-------------------------------+----------------+ | Debian GNU/Linux 12 | PASS | +-------------------------------+----------------+ | Fedora Linux 41 | PASS | +-------------------------------+----------------+ | Fedora Linux 42 | PASS | +-------------------------------+----------------+ | Red Hat Enterprise Linux 9.5 | PASS | +-------------------------------+----------------+ | Red Hat Enterprise Linux 8.10 | PASS | +-------------------------------+----------------+ | Ubuntu 20.04 | PASS | +-------------------------------+----------------+ | Ubuntu 24.04 | PASS | +-------------------------------+----------------+ | Ubuntu 22.04 | PASS | +-------------------------------+----------------+ | Windows Server 2022 | PASS | +-------------------------------+----------------+ CentOS Stream 9 Kernel: 5.15 Compiler: gcc gcc (GCC) 11.5.0 20240719 (Red Hat 11.5.0-11) CentOS Stream 10 Kernel: 5.15 Compiler: gcc gcc (GCC) 14.2.1 20250110 (Red Hat 14.2.1-8) Fedora Linux 40 Kernel: 5.15 Compiler: gcc gcc (GCC) 14.2.1 20240912 (Red Hat 14.2.1-3) Debian GNU/Linux 12 Kernel: 5.15 Compiler: gcc gcc (Debian 12.2.0-14+deb12u1) 12.2.0 Fedora Linux 41 Kernel: 5.15 Compiler: gcc gcc (GCC) 14.3.1 20250523 (Red Hat 14.3.1-1) Fedora Linux 42 Kernel: 5.15 Compiler: clang gcc (GCC) 15.2.1 20250808 (Red Hat 15.2.1-1) Red Hat Enterprise Linux 9.5 Kernel: 5.15 Compiler: gcc gcc (GCC) 11.5.0 20240719 (Red Hat 11.5.0-2) Red Hat Enterprise Linux 8.10 Kernel: 5.15 Compiler: gcc gcc (GCC) 8.5.0 20210514 (Red Hat 8.5.0-22) Ubuntu 20.04 Kernel: 5.15 Compiler: gcc gcc (Ubuntu 9.4.0-1ubuntu1~20.04.2) 9.4.0 Ubuntu 24.04 Kernel: 5.15 Compiler: gcc gcc (Ubuntu 13.3.0-6ubuntu2~24.04) 13.3.0 Ubuntu 22.04 Kernel: 5.15 Compiler: gcc gcc (Ubuntu 11.4.0-1ubuntu1~22.04) 11.4.0 Windows Server 2022 Kernel: 10.0.20348.2031 Compiler: clang 15.0.7, gcc 14.1.0 (MinGW), and MSVC VS 19.39.33521 To view detailed results, visit: https://lab.dpdk.org/results/dashboard/patchsets/34223/ UNH-IOL DPDK Community Lab To manage your email subscriptions, visit: https://lab.dpdk.org/results/dashboard/preferences/subscriptions/