From mboxrd@z Thu Jan 1 00:00:00 1970 Return-Path: Received: from mails.dpdk.org (mails.dpdk.org [217.70.189.124]) by inbox.dpdk.org (Postfix) with ESMTP id 77854488C8 for ; Mon, 6 Oct 2025 17:50:12 +0200 (CEST) Received: from mails.dpdk.org (localhost [127.0.0.1]) by mails.dpdk.org (Postfix) with ESMTP id 53B6B402AF; Mon, 6 Oct 2025 17:50:12 +0200 (CEST) Received: from mail-io1-f99.google.com (mail-io1-f99.google.com [209.85.166.99]) by mails.dpdk.org (Postfix) with ESMTP id 03B8D402AF for ; Mon, 6 Oct 2025 17:50:10 +0200 (CEST) Received: by mail-io1-f99.google.com with SMTP id ca18e2360f4ac-90926724bceso428509239f.1 for ; Mon, 06 Oct 2025 08:50:10 -0700 (PDT) DKIM-Signature: v=1; a=rsa-sha256; c=relaxed/relaxed; d=iol.unh.edu; s=unh-iol; t=1759765810; x=1760370610; darn=dpdk.org; h=references:in-reply-to:cc:to:from:subject:message-id:date:from:to :cc:subject:date:message-id:reply-to; bh=tOOWNVamdlzEUDvi3c9kyVkbVHLlijU2lbIOhBCtsPM=; b=UDsHumjmOxobtv05D/zY629Os9BI1cASEWEgXt4E9XFoTqVs+sAaQygN4YfK8Ttlsn 45AbrSzvhtow9k+XKzP05DNJFiNdpvFHcRXJa4WRnYGqMP3eLsrVBOLjKrLk+0p+yigG VxWiBReU3MBMYrId4Zl1eNUSDOt0vRRhMzuAk= X-Google-DKIM-Signature: v=1; a=rsa-sha256; c=relaxed/relaxed; d=1e100.net; s=20230601; t=1759765810; x=1760370610; h=references:in-reply-to:cc:to:from:subject:message-id:date :x-gm-message-state:from:to:cc:subject:date:message-id:reply-to; bh=tOOWNVamdlzEUDvi3c9kyVkbVHLlijU2lbIOhBCtsPM=; b=FPi8ikBt/f22slgSuq6LnstaOMZCv+pVsh8vLJfGtjo3zKQrt5Mw159cYHCI9vCWNP WsIH/yZEEdxybUPH6H4b8THDN4keWpu9e+Tsv0fLhMrVBbW0iHAUn39/jzheD7WRXiKs SoIqVKpPULKjDEsm5VvbVL3twtA/+6nfYMQa8HU5ZsnnrQFB03boy8cSupLqHHcfstHC 94OE/DP9+1owJzllPncjyjLRUIucNeNHgC5dArnf/EtGHM7lsziZwsjHgKyYbaxaTsGy /mRp3ahNCjbyq0ceuNim2mRcgpVZcZ/DgTfPSKeo1S/MuBPte3hdplkjuNVHl0QtOByx gQ3Q== X-Gm-Message-State: AOJu0YxIFs0k5x6qwr/0VuCvxjIQQigncCz/bl0Zb8zmzBxJDlx9cuIb lzsEney4kQ5ylNWX0P3ptkLh7MPlD+eiRyGSLC2N0CSOt9AlIWw/hbP+LVQkJyQFMhLhsQz1Xg4 2w6z+1sisPwYJWeSJbqziMMiPpV2jb2y2sVqpWi10YeApgarBPVSU4QFGTTnO X-Gm-Gg: ASbGncsPCSdf35KUTK5z2fNw68NSbCULjz92AHiGbxWvvUr4MzOv4w2WR86V0zbiCak /fNok5cGW37FkNjHZ2XKXtmBG/7V+lUoo3q19rq239B0Cr9g8U9jxleg431FOnhRf6TTXBxNY1C GKQKNG4rNbcukbc7x1qndCH4mDLejkYgCkQzokHaJBO+VJR7va59x/vBnM4e9kOVEmZ4MJ1vPfS X5dm4Wy5i2IMJFo14jNr4NV6ZjkcHcus8kbEh6CRHA/3hFZHgCY6t2VBxPMG6WseBEf8zD9Ih6a D2soc1gJiaSqAqBaZr411t5MkKoZAihXhJNBkMNZb2ULvBWPGuUseJE= X-Google-Smtp-Source: AGHT+IGT2Ixk+H9Uj0VK63TcCcAsgKHG20rhlePzWHkbfxRBh8708AzQ9Zg4mEZWXOQ4DUar6+HqnYntt8wm X-Received: by 2002:a05:6602:1347:b0:887:6bcd:7471 with SMTP id ca18e2360f4ac-93b96a7b22fmr1646956339f.11.1759765810172; Mon, 06 Oct 2025 08:50:10 -0700 (PDT) Received: from postal.iol.unh.edu (postal.iol.unh.edu. [2606:4100:3880:1234::84]) by smtp-relay.gmail.com with ESMTPS id 8926c6da1cb9f-57b605d7d60sm1020363173.38.2025.10.06.08.50.10 (version=TLS1_2 cipher=ECDHE-ECDSA-AES128-GCM-SHA256 bits=128/128); Mon, 06 Oct 2025 08:50:10 -0700 (PDT) X-Relaying-Domain: iol.unh.edu Date: Mon, 06 Oct 2025 08:50:10 -0700 (PDT) Message-ID: <68e3e532.050a0220.379390.75b5SMTPIN_ADDED_MISSING@mx.google.com> Received: from [172.21.0.5] (unknown [172.18.0.240]) by postal.iol.unh.edu (Postfix) with ESMTP id BB35C604D420; Mon, 6 Oct 2025 11:50:09 -0400 (EDT) Subject: |SUCCESS| pw157249-157250 [PATCH] [v6,2/2] net/idpf: enable AVX2 for From: dpdklab@iol.unh.edu To: Test Report Cc: dpdk-test-reports@iol.unh.edu, Bruce Richardson In-Reply-To: <20251003094950.2818019-3-shaiq.wani@intel.com> References: <20251003094950.2818019-3-shaiq.wani@intel.com> Content-Type: text/plain X-BeenThere: test-report@dpdk.org X-Mailman-Version: 2.1.29 Precedence: list List-Id: automatic DPDK test reports List-Unsubscribe: , List-Archive: List-Post: List-Help: List-Subscribe: , Errors-To: test-report-bounces@dpdk.org Test-Label: iol-compile-arm64-testing Test-Status: SUCCESS http://dpdk.org/patch/157250 _Testing PASS_ Submitter: Shaiq Wani Date: Friday, October 03 2025 09:49:50 DPDK git baseline: Repo:dpdk-next-net-intel Branch: master CommitID:e7d8cc7ef4df3552575525697079d3c957cfcdaf 157249-157250 --> testing pass Upstream job id: Generic-DPDK-Compile-Meson#431320 Test environment and result as below: +------------------------------+--------------------+ | Environment | dpdk_meson_compile | +==============================+====================+ | Red Hat Enterprise Linux 9.5 | PASS | +------------------------------+--------------------+ | Ubuntu 20.04 | PASS | +------------------------------+--------------------+ | Debian GNU/Linux 12 | PASS | +------------------------------+--------------------+ | Fedora Linux 42 | PASS | +------------------------------+--------------------+ | Ubuntu 22.04 | PASS | +------------------------------+--------------------+ | Ubuntu 24.04 | PASS | +------------------------------+--------------------+ | CentOS Stream 9 | PASS | +------------------------------+--------------------+ | CentOS Stream 10 | PASS | +------------------------------+--------------------+ Red Hat Enterprise Linux 9.5 Kernel: 5.4 Compiler: gcc gcc (GCC) 11.5.0 20240719 (Red Hat 11.5.0-2) Ubuntu 20.04 Kernel: 5.15 Compiler: aarch64-linux-gnu-gcc gcc (Ubuntu 9.4.0-1ubuntu1~20.04.2) 9.4.0 Debian GNU/Linux 12 Kernel: 5.4 Compiler: gcc gcc (Debian 12.2.0-14+deb12u1) 12.2.0 Fedora Linux 42 Kernel: 5.4 Compiler: gcc gcc (GCC) 15.2.1 20250808 (Red Hat 15.2.1-1) Ubuntu 22.04 Kernel: 5.4 Compiler: gcc gcc (Ubuntu 11.4.0-1ubuntu1~22.04) 11.4.0 Ubuntu 24.04 Kernel: 5.4 Compiler: gcc gcc (Ubuntu 13.3.0-6ubuntu2~24.04) 13.3.0 CentOS Stream 9 Kernel: 5.4 Compiler: gcc gcc (GCC) 11.5.0 20240719 (Red Hat 11.5.0-11) CentOS Stream 10 Kernel: 5.4 Compiler: gcc gcc (GCC) 14.2.1 20250110 (Red Hat 14.2.1-8) To view detailed results, visit: https://lab.dpdk.org/results/dashboard/patchsets/34206/ UNH-IOL DPDK Community Lab To manage your email subscriptions, visit: https://lab.dpdk.org/results/dashboard/preferences/subscriptions/