From mboxrd@z Thu Jan 1 00:00:00 1970 Return-Path: Received: from mails.dpdk.org (mails.dpdk.org [217.70.189.124]) by inbox.dpdk.org (Postfix) with ESMTP id 69E36488C8 for ; Mon, 6 Oct 2025 17:50:28 +0200 (CEST) Received: from mails.dpdk.org (localhost [127.0.0.1]) by mails.dpdk.org (Postfix) with ESMTP id 6199A402AF; Mon, 6 Oct 2025 17:50:28 +0200 (CEST) Received: from mail-pj1-f97.google.com (mail-pj1-f97.google.com [209.85.216.97]) by mails.dpdk.org (Postfix) with ESMTP id 28A2F402AF for ; Mon, 6 Oct 2025 17:50:26 +0200 (CEST) Received: by mail-pj1-f97.google.com with SMTP id 98e67ed59e1d1-3383ac4d130so4762883a91.2 for ; Mon, 06 Oct 2025 08:50:26 -0700 (PDT) DKIM-Signature: v=1; a=rsa-sha256; c=relaxed/relaxed; d=iol.unh.edu; s=unh-iol; t=1759765825; x=1760370625; darn=dpdk.org; h=references:in-reply-to:cc:to:from:subject:message-id:date:from:to :cc:subject:date:message-id:reply-to; bh=IicRFRyBiLVSFjQs+Q/rIoI4ziMV9xgiYrqvxGMLbjY=; b=EhOdndjBl9Wg5dkPfcTZ7SsVq4SoZMmddgczRacQnZjwpznDk+6AH/ELI45h9bS2WX 4Sw6xgwqhjiNvzGzXLolzIRhw665dpVQvMOiNBgQCkLvYmdYgZ5jpv9IbZBdIIDJcncZ +/JX8BzvHZYI2FTHeN7hAeBl/ovyqrR5xxWzQ= X-Google-DKIM-Signature: v=1; a=rsa-sha256; c=relaxed/relaxed; d=1e100.net; s=20230601; t=1759765825; x=1760370625; h=references:in-reply-to:cc:to:from:subject:message-id:date :x-gm-message-state:from:to:cc:subject:date:message-id:reply-to; bh=IicRFRyBiLVSFjQs+Q/rIoI4ziMV9xgiYrqvxGMLbjY=; b=YNU5NDrIocRd4azRCxsicDpTdwEoOsrqhl+iIXu6FCe89/7Aww/hKxYH9SHPMmVj6s NT5ATbX+xxRvyKnXHAGo+ovuwZCTM4gyezuEZATdIINgNWhxgGFkxmPAb2UBO4uTTiZN i7ZvIiYuHEc2b8N4ivGy4KaCeTDuNsQ/2oUONlihRm8kefSv/kX68hvQsZ7PU9dhglez DEiRJrKI9hBsLXcoTFOXOAO48H2SH8Gi6S8PJyTg6RGjJJD+crrhOSEq4wwckGkCPp61 QbZhhc+75LKHsCbJJwCCFBRTWGVQlT8cFsKwRz8bvQWGAttaSN/3G5ifwsQjbCjls0zJ /kQg== X-Gm-Message-State: AOJu0YzSZ+yGrh/oQVcRAdsTxquk1IKC7M4EspP9mKf4SXclMAHSy1Q8 iS1s38zxzri5WIwdd0Z7giFrKwkDJortZjSB3DBbV+RP3gCIHVqYmi9iiCZToLVm6NGYfeQmipv HE33hRpRUZ1zsVenZq2jSvRgbbytwkjGIHW+hKINydbaT X-Gm-Gg: ASbGncscyRGUyB2cPXXWgFbVMATLuuOuh1gbj++jfsf7ZZ/yE8rTYLW7G4aQJ1c5Abp ntcfqV12UDeFcV0j1x07WbaQJQUaXSZci8XodahpT5QT0Py7WwuHWuHqzLcnJaPFVpRZj1q5vyc YgnhgQv4GYX9LhdnsXRO371mOjEX4r4dunMNED/wvh3racSiYi2TL4P2R41U9ShXIG+PijDZjHL u2s3NREIGRP8gYACLT68cSNPW4uFtPA0/NeWVe4oiwFPcKhudzdGsZyEZgPy/AlRSyORfOc7rRv OrlbX9W2DorxbSc4SIOpi4tJSiD0Q/+kfwtFPAGXdyIZgbKVIXWW5pilkWLv4ei0uEAMPqtwRoi oGw== X-Google-Smtp-Source: AGHT+IFa1Jh+TbMYhwABkNL9xUKaziaQKZTTRiQldSZYbh2JKVYF7E7xVTOrboZUFnt3d/s9sxKxpiZ7OLVz X-Received: by 2002:a17:90b:4ac2:b0:339:a4ef:c8b9 with SMTP id 98e67ed59e1d1-339c27b94d2mr17449714a91.17.1759765825255; Mon, 06 Oct 2025 08:50:25 -0700 (PDT) Received: from postal.iol.unh.edu (postal.iol.unh.edu. [132.177.123.84]) by smtp-relay.gmail.com with ESMTPS id 98e67ed59e1d1-339b4f08372sm1140706a91.3.2025.10.06.08.50.25 (version=TLS1_2 cipher=ECDHE-ECDSA-AES128-GCM-SHA256 bits=128/128); Mon, 06 Oct 2025 08:50:25 -0700 (PDT) X-Relaying-Domain: iol.unh.edu Date: Mon, 06 Oct 2025 08:50:25 -0700 (PDT) Message-ID: <68e3e541.170a0220.ee000.efc6SMTPIN_ADDED_MISSING@mx.google.com> Received: from [172.21.0.4] (unknown [172.18.0.240]) by postal.iol.unh.edu (Postfix) with ESMTP id 821E5604D420; Mon, 6 Oct 2025 11:50:24 -0400 (EDT) Subject: |SUCCESS| pw157231-157248 [PATCH] [v9,18/18] eal: allow lcore remapp From: dpdklab@iol.unh.edu To: Test Report Cc: dpdk-test-reports@iol.unh.edu In-Reply-To: <20251003081510.1197166-19-bruce.richardson@intel.com> References: <20251003081510.1197166-19-bruce.richardson@intel.com> Content-Type: text/plain X-BeenThere: test-report@dpdk.org X-Mailman-Version: 2.1.29 Precedence: list List-Id: automatic DPDK test reports List-Unsubscribe: , List-Archive: List-Post: List-Help: List-Subscribe: , Errors-To: test-report-bounces@dpdk.org Test-Label: iol-compile-arm64-testing Test-Status: SUCCESS http://dpdk.org/patch/157248 _Testing PASS_ Submitter: Bruce Richardson Date: Friday, October 03 2025 08:15:10 DPDK git baseline: Repo:dpdk Branch: master CommitID:76393b98bf67f94dc6aa23cf5016c32571899261 157231-157248 --> testing pass Upstream job id: Generic-DPDK-Compile-Meson#431298 Test environment and result as below: +------------------------------+--------------------+ | Environment | dpdk_meson_compile | +==============================+====================+ | Red Hat Enterprise Linux 9.5 | PASS | +------------------------------+--------------------+ | Ubuntu 20.04 | PASS | +------------------------------+--------------------+ | Debian GNU/Linux 12 | PASS | +------------------------------+--------------------+ | Fedora Linux 42 | PASS | +------------------------------+--------------------+ | Ubuntu 22.04 | PASS | +------------------------------+--------------------+ | Ubuntu 24.04 | PASS | +------------------------------+--------------------+ | CentOS Stream 9 | PASS | +------------------------------+--------------------+ | CentOS Stream 10 | PASS | +------------------------------+--------------------+ Red Hat Enterprise Linux 9.5 Kernel: 5.4 Compiler: gcc gcc (GCC) 11.5.0 20240719 (Red Hat 11.5.0-2) Ubuntu 20.04 Kernel: 5.15 Compiler: aarch64-linux-gnu-gcc gcc (Ubuntu 9.4.0-1ubuntu1~20.04.2) 9.4.0 Debian GNU/Linux 12 Kernel: 5.4 Compiler: gcc gcc (Debian 12.2.0-14+deb12u1) 12.2.0 Fedora Linux 42 Kernel: 5.4 Compiler: gcc gcc (GCC) 15.2.1 20250808 (Red Hat 15.2.1-1) Ubuntu 22.04 Kernel: 5.4 Compiler: gcc gcc (Ubuntu 11.4.0-1ubuntu1~22.04) 11.4.0 Ubuntu 24.04 Kernel: 5.4 Compiler: gcc gcc (Ubuntu 13.3.0-6ubuntu2~24.04) 13.3.0 CentOS Stream 9 Kernel: 5.4 Compiler: gcc gcc (GCC) 11.5.0 20240719 (Red Hat 11.5.0-11) CentOS Stream 10 Kernel: 5.4 Compiler: gcc gcc (GCC) 14.2.1 20250110 (Red Hat 14.2.1-8) To view detailed results, visit: https://lab.dpdk.org/results/dashboard/patchsets/34205/ UNH-IOL DPDK Community Lab To manage your email subscriptions, visit: https://lab.dpdk.org/results/dashboard/preferences/subscriptions/